Workbook

Sheet 원가계산서
B1: 공 사 원 가 계 산 서
B2: 공사명 : 오포육교 승강기 보수공사 | F2: 금액 : 팔천사백칠십사만원(￦84,744,000)
B3: 비 목 | E3: 금 액 | F3: 구 성 비 | G3: 비 고
A4: A1 | B4: 순 공 사 원 가 | C4: 재 료 비 | D4: 직 접 재 료 비
A5: A2 | D5: 간 접 재 료 비
A6: A3 | D6: 작업설, 부산물(△)
A7: AS | D7: [ 소 계 ]
A8: B1 | C8: 노 무 비 | D8: 직 접 노 무 비
A9: B2 | D9: 간 접 노 무 비 | F9: 직접노무비 * 7.9%
A10: BS | D10: [ 소 계 ]
A11: C4 | C11: 경 비 | D11: 산 재 보 험 료 | F11: 노무비 * 3.75%
A12: C5 | D12: 고 용 보 험 료 | F12: 노무비 * 0.87%
A13: C6 | D13: 국민 건강 보험료 | F13: 직접노무비 * 3.23%
A14: C7 | D14: 국민 연금 보험료 | F14: 직접노무비 * 4.5%
A15: CB | D15: 노인장기요양보험료 | F15: 건강보험료 * 8.51%
A16: CA | D16: 산업안전보건관리비 | F16: (재료비+직노) * 3.09%
A17: CH | D17: 환 경 보 전 비 | F17: (재료비+직노+기계경비) * 0.3%
A18: CG | D18: 기 타 경 비 | F18: (재료비+노무비) * 5.5%
A19: CL | D19: 건설기계대여금지급보증서발급수수료 | F19: (재료비+직노+기계경비) * 0.11%
A20: CS | D20: [ 소 계 ]
A21: S1 | B21: 계
A22: D1 | B22: 일 반 관 리 비 | F22: 계 * 6%
A23: D2 | B23: 이 윤 | F23: (노무비+경비+일반관리비) * 12%
A24: D9 | B24: 공 급 가 액
A25: DB | B25: 부 가 가 치 세 | F25: 공급가액 * 10%
A26: DH | B26: 도 급 액
A27: S2 | B27: 총 공 사 비

Sheet 공종별집계표
A1: 공 종 별 집 계 표
A2: [ 오포육교 승강기 보수공사 ]
A3: 품 명 | B3: 규 격 | C3: 단위 | D3: 수량 | E3: 재 료 비 | G3: 노 무 비 | I3: 경 비 | K3: 합 계 | M3: 비 고 | N3: 공종코드 | O3: 변수 | P3: 상위공종 | Q3: 공종구분 | R3: 공종레벨 | S3: 공종소계 | T3: 원가계산서 연결금액
E4: 단 가 | F4: 금 액 | G4: 단 가 | H4: 금 액 | I4: 단 가 | J4: 금 액 | K4: 단 가 | L4: 금 액
A5: 01 오포육교 승강기 보수공사 | D5: 1 | E5: =F6 -> 0 | F5: =E5*D5 -> 0 | G5: =H6 -> 0 | H5: =G5*D5 -> 0 | I5: =J6 -> 0 | J5: =I5*D5 -> 0 | K5: =E5+G5+I5 -> 0 | L5: =F5+H5+J5 -> 0 | N5: 01 | R5: 1
A6: 0101 본동 | D6: 1 | E6: =F7+F8 -> 0 | F6: =E6*D6 -> 0 | G6: =H7+H8 -> 0 | H6: =G6*D6 -> 0 | I6: =J7+J8 -> 0 | J6: =I6*D6 -> 0 | K6: =E6+G6+I6 -> 0 | L6: =F6+H6+J6 -> 0 | N6: 0101 | P6: 01 | R6: 2
A7: 010101 승객용도어판넬및도어헤더교체공사 | D7: 1 | E7: =공종별내역서!F27 -> 0 | F7: =E7*D7 -> 0 | G7: =공종별내역서!H27 -> 0 | H7: =G7*D7 -> 0 | I7: =공종별내역서!J27 -> 0 | J7: =I7*D7 -> 0 | K7: =E7+G7+I7 -> 0 | L7: =F7+H7+J7 -> 0 | N7: 010101 | P7: 0101 | R7: 3
A8: 010102 승객용제어반교체공사 | D8: 1 | E8: =공종별내역서!F51 -> 0 | F8: =E8*D8 -> 0 | G8: =공종별내역서!H51 -> 0 | H8: =G8*D8 -> 0 | I8: =공종별내역서!J51 -> 0 | J8: =I8*D8 -> 0 | K8: =E8+G8+I8 -> 0 | L8: =F8+H8+J8 -> 0 | N8: 010102 | P8: 0101 | R8: 3
A27: [ 합 계 ] | F27: =F5 -> 0 | H27: =H5 -> 0 | J27: =J5 -> 0 | L27: =L5 -> 0

Sheet 공종별내역서
A1: [ 오포육교 승강기 보수공사 ]
A2: 품 명 | B2: 규 격 | C2: 단위 | D2: 수량 | E2: 재 료 비 | G2: 노 무 비 | I2: 경 비 | K2: 합 계 | M2: 비 고 | N2: 품목코드 | O2: 변수 | P2: 설정 | Q2: 공종코드 | R2: 일위 | S2: 단산 | T2: 자재 | U2: 손료적용 | V2: 손료저장 | W2: 적용율 | X2: JUK1 | Y2: JUK2 | Z2: JUK3 | AA2: JUK4 | AB2: JUK5 | AC2: JUK6 | AD2: JUK7 | AE2: JUK8 | AF2: JUK9 | AG2: JUK10 | AH2: JUK11 | AI2: JUK12 | AJ2: JUK13 | AK2: JUK14 | AL2: JUK15 | AM2: JUK16 | AN2: JUK17 | AO2: JUK18 | AP2: JUK19 | AQ2: JUK20 | AR2: 자재구분 | AS2: 공종구분 | AT2: 공종레벨 | AU2: 공종+자재 | AV2: 고유번호
E3: 단 가 | F3: 금 액 | G3: 단 가 | H3: 금 액 | I3: 단 가 | J3: 금 액 | K3: 단 가 | L3: 금 액
A4: 010101 승객용도어판넬및도어헤더교체공사 | Q4: 010101
A5: DOOR PANNEL | B5: CAR1,HALL2,OP900 | C5: SET | D5: 8 | N5: 43AE244563815AAFD72BEBFAB045ACD9018A3 | Q5: 010101 | R5: F | S5: F | T5: T | AU5: 01010143AE244563815AAFD72BEBFAB045ACD9018A3 | AV5: 75
A6: CAR 헷더 | B6: OP900 | C6: SET | D6: 4 | N6: 43AE244563815AAFD72BEBFAB045ACD9018A2 | Q6: 010101 | R6: F | S6: F | T6: T | AU6: 01010143AE244563815AAFD72BEBFAB045ACD9018A2 | AV6: 76
A7: HALL 헷더 | B7: OP900 | C7: SET | D7: 4 | N7: 43AE244563815AAFD72BEBFAB045ACD9018A1 | Q7: 010101 | R7: F | S7: F | T7: T | AU7: 01010143AE244563815AAFD72BEBFAB045ACD9018A1 | AV7: 77
A8: 가바너(G.O.V) | C8: SET | D8: 2 | N8: 43AE244563815AAFD72BEBFAB045ACD9018A0 | Q8: 010101 | R8: F | S8: F | T8: T | AU8: 01010143AE244563815AAFD72BEBFAB045ACD9018A0 | AV8: 78
A9: MAIN WIRE ROPE | B9: 10MM*5R*50M*2대 | C9: M | D9: 500 | N9: 43AE244563815AAFD72BEBFAB045ACD9018AF | Q9: 010101 | R9: F | S9: F | T9: T | AU9: 01010143AE244563815AAFD72BEBFAB045ACD9018AF | AV9: 79
A10: WIRE SOCKET | B10: 10MM*5R*2*2대 | C10: EA | D10: 20 | N10: 43AE244563815AAFD72BEBFAB045ACD9018AE | Q10: 010101 | R10: F | S10: F | T10: T | AU10: 01010143AE244563815AAFD72BEBFAB045ACD9018AE | AV10: 80
A11: G.O.V WIRE ROPE | B11: 8MM*15M*2*2대 | C11: M | D11: 60 | N11: 43AE244563815AAFD72BEBFAB045ACD90194E | Q11: 010101 | R11: F | S11: F | T11: T | AU11: 01010143AE244563815AAFD72BEBFAB045ACD90194E | AV11: 81
A12: 바벳트 | C12: KG | D12: 10 | N12: 43AE244563815AAFD72BEBFAB045ACD90194F | Q12: 010101 | R12: F | S12: F | T12: T | AU12: 01010143AE244563815AAFD72BEBFAB045ACD90194F | AV12: 82
A13: 헷더 보강자재 | C13: 식 | D13: 2 | N13: 43AE244563815AAFD72BEBFAB045ACD90194C | Q13: 010101 | R13: F | S13: F | T13: T | AU13: 01010143AE244563815AAFD72BEBFAB045ACD90194C | AV13: 83
A14: 기계설비공 | B14: 일반공사 직종 | C14: 인 | D14: 4 | N14: 44582E40FD818AF5C824679FEE2E891BEAE69 | Q14: 010101 | R14: F | S14: F | T14: T | AU14: 01010144582E40FD818AF5C824679FEE2E891BEAE69 | AV14: 100
A15: 조력공 | B15: 일반공사 직종 | C15: 인 | D15: 4 | N15: 44582E40FD818AF5C824679FEE2E891BEAB97 | Q15: 010101 | R15: F | S15: F | T15: T | AU15: 01010144582E40FD818AF5C824679FEE2E891BEAB97 | AV15: 101
A27: [ 합 계 ] | N27: TOTAL
A28: 010102 승객용제어반교체공사 | Q28: 010102
A29: CONTROL PANNEL | B29: 6.8KW,380V,2STOP | C29: 대 | D29: 2 | N29: 43AE244563815AAFD72BEBFAB045ACD901A54 | Q29: 010102 | R29: F | S29: F | T29: T | AU29: 01010243AE244563815AAFD72BEBFAB045ACD901A54 | AV29: 84
A30: 카 상부 박스 | B30: 음성안내포함 | C30: SET | D30: 2 | N30: 43AE244563815AAFD72BEBFAB045ACD901A57 | Q30: 010102 | R30: F | S30: F | T30: T | AU30: 01010243AE244563815AAFD72BEBFAB045ACD901A57 | AV30: 85
A31: 운전반 | B31: 15인승 2STOP | C31: SET | D31: 4 | N31: 43AE244563815AAFD72BEBFAB045ACD901A56 | Q31: 010102 | R31: F | S31: F | T31: T | AU31: 01010243AE244563815AAFD72BEBFAB045ACD901A56 | AV31: 86
A32: 보조운전반 | B32: 15인승 2STOP | C32: SET | D32: 2 | N32: 43AE244563815AAFD72BEBFAB045ACD901A51 | Q32: 010102 | R32: F | S32: F | T32: T | AU32: 01010243AE244563815AAFD72BEBFAB045ACD901A51 | AV32: 87
A33: 승강장위치표시기 | B33: 통신기판포함 | C33: SET | D33: 4 | N33: 43AE244563815AAFD72BEBFAB045ACD901A50 | Q33: 010102 | R33: F | S33: F | T33: T | AU33: 01010243AE244563815AAFD72BEBFAB045ACD901A50 | AV33: 88
A34: 승강로선(T-CABLE포함) | B34: 전선및S/W | C34: SET | D34: 2 | N34: 43AE244563815AAFD72BEBFAB045ACD901A53 | Q34: 010102 | R34: F | S34: F | T34: T | AU34: 01010243AE244563815AAFD72BEBFAB045ACD901A53 | AV34: 89
A35: 층감지기 | B35: 2 STOP(인닥터취부대포함) | C35: SET | D35: 2 | N35: 43AE244563815AAFD72BEBFAB045ACD901A52 | Q35: 010102 | R35: F | S35: F | T35: T | AU35: 01010243AE244563815AAFD72BEBFAB045ACD901A52 | AV35: 90
A36: 멘코더 | B36: 1024 | C36: SET | D36: 2 | N36: 43AE244563815AAFD72BEBFAB045ACD901A5D | Q36: 010102 | R36: F | S36: F | T36: T | AU36: 01010243AE244563815AAFD72BEBFAB045ACD901A5D | AV36: 91
A37: 카도어콘트롤러 | B37: DC모터용 | C37: SET | D37: 4 | N37: 43AE244563815AAFD72BEBFAB045ACD901A5C | Q37: 010102 | R37: F | S37: F | T37: T | AU37: 01010243AE244563815AAFD72BEBFAB045ACD901A5C | AV37: 92
A38: 손끼임방지장치 | B38: 신규설치(손끼임방지장치) | C38: 식 | D38: 8 | N38: 43AE244563815AAFD72BEBFAB045ACD901B7B | Q38: 010102 | R38: F | S38: F | T38: T | AU38: 01010243AE244563815AAFD72BEBFAB045ACD901B7B | AV38: 93
A39: A.R.D(자동구출운전장치) | B39: 신규설치(자동구출운전장치) | C39: 식 | D39: 2 | N39: 43AE244563815AAFD72BEBFAB045ACD901B7A | Q39: 010102 | R39: F | S39: F | T39: T | AU39: 01010243AE244563815AAFD72BEBFAB045ACD901B7A | AV39: 94
A40: 도어이탈방지장치 | B40: 신규설치(도어이탈방지장치) | C40: SET | D40: 4 | N40: 43AE244563815AAFD72BEBFAB045ACD901B79 | Q40: 010102 | R40: F | S40: F | T40: T | AU40: 01010243AE244563815AAFD72BEBFAB045ACD901B79 | AV40: 95
A41: 이중천정(L.E.D) | C41: SET | D41: 2 | N41: 43AE244563815AAFD72BEBFAB045ACD901B78 | Q41: 010102 | R41: F | S41: F | T41: T | AU41: 01010243AE244563815AAFD72BEBFAB045ACD901B78 | AV41: 96
A42: 기계설비공 | B42: 일반공사 직종 | C42: 인 | D42: 28 | N42: 44582E40FD818AF5C824679FEE2E891BEAE69 | Q42: 010102 | R42: F | S42: F | T42: T | AU42: 01010244582E40FD818AF5C824679FEE2E891BEAE69 | AV42: 97
A43: 계장공 | B43: 일반공사 직종 | C43: 인 | D43: 30 | N43: 44582E40FD818AF5C824679FEE2E891BEA359 | Q43: 010102 | R43: F | S43: F | T43: T | AU43: 01010244582E40FD818AF5C824679FEE2E891BEA359 | AV43: 99
A51: [ 합 계 ] | N51: TOTAL
