Workbook

Sheet 원가계산서
B1: 공 사 원 가 계 산 서
B2: 공사명 : 스텝체인 교체공사 | G2: 금액 : 원정(￦)
B3: 비 목 | E3: 합 계 | F3: 금 액 | G3: 구 성 비 | H3: 비 고
A4: A1 | B4: 순 공 사 원 가 | C4: 재 료 비 | D4: 직 접 재 료 비 | E4: =F4 -> 0 | F4: =공종별집계표!F27 -> 0
A5: A2 | D5: 간 접 재 료 비 | E5: 0 | F5: 0
A6: A3 | D6: 작업설, 부산물(△) | E6: 0 | F6: 0
A7: AS | D7: [ 소 계 ] | E7: =TRUNC(E4+E5-E6, 0) -> 0 | F7: =TRUNC(F4+F5-F6, 0) -> 0
A8: B1 | C8: 노 무 비 | D8: 직 접 노 무 비 | E8: =F8 -> 0 | F8: =공종별집계표!H27 -> 0
A9: B2 | D9: 간 접 노 무 비 | E9: =TRUNC(E8*0.079, 0) -> 0 | F9: =TRUNC(F8*0.079, 0) -> 0 | G9: 직접노무비 * 7.9%
A10: BS | D10: [ 소 계 ] | E10: =TRUNC(E8+E9, 0) -> 0 | F10: =TRUNC(F8+F9, 0) -> 0
A11: C2 | C11: 경 비 | D11: 기 계 경 비 | E11: =#REF!+#REF!+#REF! -> #REF! | F11: =공종별집계표!J27 -> 0
A12: C4 | D12: 산 재 보 험 료 | E12: =TRUNC(E10*0.0405, 0) -> 0 | F12: =TRUNC(F10*0.0405, 0) -> 0 | G12: 노무비 * 4.05%
A13: C5 | D13: 고 용 보 험 료 | E13: =TRUNC(E10*0.0087, 0) -> 0 | F13: =TRUNC(F10*0.0087, 0) -> 0 | G13: 노무비 * 0.87%
A14: C6 | D14: 국민 건강 보험료 | E14: =TRUNC(E8*0.0312, 0) -> 0 | F14: 140400 | G14: 직접노무비 * 3.12%
A15: C7 | D15: 국민 연금 보험료 | E15: =TRUNC(E8*0.045, 0) -> 0 | F15: 202500 | G15: 직접노무비 * 4.5%
A16: CB | D16: 노인장기요양보험료 | E16: =TRUNC(E14*0.0738, 0) -> 0 | F16: 10361 | G16: 건강보험료 * 7.38%
A17: CC | D17: 산업안전보건관리비 | E17: =TRUNC((E7+E8)*0.0293*1.2, 0) -> 0 | F17: =TRUNC((F7+F8)*0.0309, 0) -> 0 | G17: (재료비+직노) * 3.09%
A18: CG | D18: 기 타 경 비 | E18: =TRUNC((E7+E10)*0.034, 0) -> 0 | F18: =TRUNC((F7+F10)*0.034, 0) -> 0 | G18: (재료비+노무비) * 3.4%
A19: CS | D19: [ 소 계 ] | E19: =TRUNC(E11+E12+E13+E14+E15+E17+E16+E18, 0) -> #REF!
A20: S1 | B20: 계 | E20: =TRUNC(E7+E10+E19, 0) -> #REF! | F20: =TRUNC(F7+F10+F19, 0) -> 0
A21: D1 | B21: 일 반 관 리 비 | E21: =TRUNC(E20*0.06, 0) -> #REF! | F21: =TRUNC(F20*0.06, 0) -> 0 | G21: 계 * 6%
A22: D2 | B22: 이 윤 | E22: =TRUNC((E10+E19+E21)*0.15, 0) -> #REF! | F22: =TRUNC((F10+F19+F21)*0.15, 0) -> 0 | G22: (노무비+경비+일반관리비) * 15%
A23: D9 | B23: 공 급 가 액 | E23: =TRUNC(E20+E21+E22, 0) -> #REF! | F23: =TRUNC(F20+F21+F22, 0) -> 0
A24: DB | B24: 부 가 가 치 세 | E24: =TRUNC(E23*0.1, 0) -> #REF! | F24: =TRUNC(F23*0.1, 0) -> 0 | G24: 공급가액 * 10%
A25: DH | B25: 도 급 액 | E25: =TRUNC(E23+E24, 0) -> #REF! | F25: =F23+F24 -> 0

Sheet 공종별집계표
A1: 공 종 별 집 계 표
A2: [스텝체인 교체공사 ]
A3: 품 명 | B3: 규 격 | C3: 단위 | D3: 수량 | E3: 재 료 비 | G3: 노 무 비 | I3: 경 비 | K3: 합 계 | M3: 비 고 | N3: 공종코드 | O3: 변수 | P3: 상위공종 | Q3: 공종구분 | R3: 공종레벨 | S3: 공종소계 | T3: 원가계산서 연결금액
E4: 단 가 | F4: 금 액 | G4: 단 가 | H4: 금 액 | I4: 단 가 | J4: 금 액 | K4: 단 가 | L4: 금 액
A5: 01 스텝체인 교체공사 | D5: 1 | E5: =F6 -> 0 | F5: =E5*D5 -> 0 | G5: =H6 -> 0 | H5: =G5*D5 -> 0 | I5: =J6 -> 0 | J5: =I5*D5 -> 0 | K5: =E5+G5+I5 -> 0 | L5: =F5+H5+J5 -> 0 | N5: 01 | R5: 1
A6: 0101 스텝체인 교체공사 | D6: 1 | E6: =공종별내역서!F27 -> 0 | F6: =E6*D6 -> 0 | G6: =공종별내역서!H27 -> 0 | H6: =G6*D6 -> 0 | I6: =공종별내역서!J27 -> 0 | J6: =I6*D6 -> 0 | K6: =E6+G6+I6 -> 0 | L6: =F6+H6+J6 -> 0 | N6: 0101 | P6: 01 | R6: 2
A27: [ 합 계 ] | F27: =F5 -> 0 | H27: =H5 -> 0 | J27: =J5 -> 0 | L27: =L5 -> 0

Sheet 공종별내역서
A1: [스텝체인 교체공사 ]
A2: 품 명 | B2: 규 격 | C2: 단위 | D2: 수량 | E2: 재 료 비 | G2: 노 무 비 | I2: 경 비 | K2: 합 계 | M2: 비 고 | N2: 품목코드 | O2: 변수 | P2: 설정 | Q2: 공종코드 | R2: 일위 | S2: 단산 | T2: 자재 | U2: 손료적용 | V2: 손료저장 | W2: 적용율 | X2: JUK1 | Y2: JUK2 | Z2: JUK3 | AA2: JUK4 | AB2: JUK5 | AC2: JUK6 | AD2: JUK7 | AE2: JUK8 | AF2: JUK9 | AG2: JUK10 | AH2: JUK11 | AI2: JUK12 | AJ2: JUK13 | AK2: JUK14 | AL2: JUK15 | AM2: JUK16 | AN2: JUK17 | AO2: JUK18 | AP2: JUK19 | AQ2: JUK20 | AR2: 자재구분 | AS2: 공종구분 | AT2: 공종레벨 | AU2: 공종+자재 | AV2: 고유번호
E3: 단 가 | F3: 금 액 | G3: 단 가 | H3: 금 액 | I3: 단 가 | J3: 금 액 | K3: 단 가 | L3: 금 액
A4: 0101 스텝체인 교체공사 | Q4: 01010101
A5: 스텝체인(#1) | B5: VELINO 1200형 | C5: UNIT | D5: 76 | F5: =D5*E5 -> 0 | G5: 0 | H5: =D5*G5 -> 0 | K5: =E5+G5+I5 -> 0 | L5: =F5+H5+J5 -> 0 | N5: 57D8713343BF49413B2302BD47DDDA | Q5: 01010101 | R5: T | S5: F | T5: F | AU5: 0101010157D8713343BF49413B2302BD47DDDA | AV5: 5
A6: 스텝체인(#2) | B6: VELINO 1200형 | C6: UNIT | D6: 76 | F6: =D6*E6 -> 0 | G6: 0 | H6: =D6*G6 -> 0 | K6: =E6+G6+I6 -> 0 | L6: =F6+H6+J6 -> 0
A7: 스텝체인(#3) | B7: VELINO 1200형 | C7: UNIT | D7: 71 | F7: =D7*E7 -> 0 | G7: 0 | H7: =D7*G7 -> 0 | K7: =E7+G7+I7 -> 0 | L7: =F7+H7+J7 -> 0
A8: 노무비 | C8: 인 | D8: 18 | F8: =D8*E8 -> 0 | H8: =D8*G8 -> 0 | K8: =E8+G8+I8 -> 0 | L8: =F8+H8+J8 -> 0
A9: 고철 | B9: 경량철 | C9: KG | D9: 1290 | F9: =D9*E9 -> 0 | H9: =D9*G9 -> 0 | K9: =E9+G9+I9 -> 0 | L9: =F9+H9+J9 -> 0
A27: [ 합 계 ] | F27: =SUM(F5:F26) -> 0 | H27: =SUM(H5:H26) -> 0 | J27: =SUM(J5:J26) -> 0 | L27: =SUM(L5:L26) -> 0 | N27: TOTAL
