Workbook

Sheet 갑지
A1: 과 장 | C1: 2019년 03월 | G1: 위 치 : | H1: 전남도청
A5: 팀 장 | C5: 청사 승강기 노후부품 교체공사
A9: 설계년월일
D10: ▣ 공 사 개 요 : | E10: 청사 승강기 노후부품 교체(13대)공사 1식
A11: =C1 -> 2019년 03월
A13: 담 당 | D13: ▣ 공 사 기 간 : | E13: 착수일로부터 30일간
D16: ▣ 총 공사금액 : | E16: =기계원가!D21 -> 199274000 | G16: ="(금 "&NUMBERSTRING(E16,1)&"원)" -> (금 일억구천구백이십칠만사천원)
A17: 설 계 자
A21: 조 사 자

Sheet 기계원가
A1: 원 가 계 산 서
A2: □ 청사 승강기 노후부품 교체공사
A3: 명 칭 | B3: 품 명 | C3: 단위 | D3: 금 액 | E3: 노 무 비 | F3: 재 료 비 | G3: 경 비 | H3: 비 고
A4: 1. 기계공사 | C4: 식 | D4: =E4+F4+G4 -> 151033200 | E4: =공종별집계표!H5 -> 36156000 | F4: =공종별집계표!F5 -> 114877200 | G4: =[2]공종별집계표!J5 -> 0
A5: 2. 간접노무비 | B5: 7.9 | C5: % | D5: =INT(E4*B5*0.01) -> 2856324 | E5: =B5 -> 7.9 | I5: 7.9
A6: 3. 산재보험료 | B6: 3.75 | C6: % | D6: =INT((E4+D5)*B6*0.01) -> 1462962 | E6: =B6 -> 3.75 | I6: 3.75
A7: 4. 고용보험료 | B7: 0.87 | C7: % | D7: =INT((E4+D5)*B7*0.01) -> 339407 | E7: =B7 -> 0.87 | I7: 0.87
A8: 5. 건강보험료 | C8: % | D8: =INT(E4*B8*0.01) -> 0 | E8: =B8 -> 0
A9: 6. 연금보험료 | C9: % | D9: =INT(E4*B9*0.01) -> 0 | E9: =B9 -> 0
A10: 7. 노인장기요양보험료 | C10: % | D10: =INT(D8*B10%) -> 0 | E10: =B10 -> 0
A11: 8. 퇴직공제부금비 | C11: % | D11: =INT(E4*B11*0.01) -> 0 | E11: =B11 -> 0
A12: 9. 기 타 경 비 | B12: 4 | C12: % | D12: =INT((E4+D5+F4)*B12*0.01) -> 6155580 | E12: =B12 -> 4 | I12: 5.5
A13: 10. 환경보전비 | C13: % | D13: =INT(D4*B13*0.01) -> 0 | E13: =B13 -> 0
A14: 11. 산업안전보건관리비 | B14: 2.93 | C14: % | D14: =INT((F4+E4)*B14*0.01) -> 4425272 | E14: =B14 -> 2.93 | I14: 2.93
A15: 12. 건설기계대여금지급보증수수료 | C15: % | D15: =INT((F4+E4+G4)*B15*0.01) -> 0 | E15: =B15 -> 0
A16: 소 계 | D16: =INT(SUM(D4:D15)) -> 166272745 | E16: 10.8
A17: 13. 일반관리비 | B17: 6 | C17: % | D17: =INT(D16*B17*0.01) -> 9976364 | E17: =B17 -> 6 | I17: 6
A18: 14. 이 윤 | B18: 8 | C18: % | D18: =INT((D16+D17-F4)*B18*0.01) -> 4909752 | E18: =B18 -> 8 | I18: 15
A19: 15. 총 원 가 | C19: 식 | D19: =INT(SUM(D16:D18)) -> 181158861 | E19: 15.8
A20: 16. 부가가치세 | B20: 10 | C20: % | D20: =INT((D19)*B20*0.01) -> 18115886 | E20: =B20 -> 10
A21: 도 급 예 정 액 | C21: 식 | D21: =ROUNDDOWN(SUM(D19:D20),-3) -> 199274000 | E21: 1

Sheet 공종별집계표
A1: 공 종 별 집 계 표
A2: [ 청사 승강기 노후부품 교체공사 ]
A3: 품 명 | B3: 규 격 | C3: 단위 | D3: 수량 | E3: 재 료 비 | G3: 노 무 비 | I3: 경 비 | K3: 합 계 | M3: 비 고 | N3: 공종코드 | O3: 변수 | P3: 상위공종 | Q3: 공종구분 | R3: 공종레벨 | S3: 공종소계 | T3: 원가계산서 연결금액
E4: 단 가 | F4: 금 액 | G4: 단 가 | H4: 금 액 | I4: 단 가 | J4: 금 액 | K4: 단 가 | L4: 금 액
A5: 01 청사 승강기 노후부품 교체공사 | D5: 1 | E5: =F6 -> 114877200 | F5: =E5*D5 -> 114877200 | G5: =H6 -> 36156000 | H5: =G5*D5 -> 36156000 | I5: =J6 -> 0 | J5: =I5*D5 -> 0 | K5: =E5+G5+I5 -> 151033200 | L5: =F5+H5+J5 -> 151033200 | N5: 01 | R5: 1
A6: 0101 청사 승강기 노후부품 교체공사 | D6: 1 | E6: =F7+F15+F19 -> 114877200 | F6: =E6*D6 -> 114877200 | G6: =H7+H15+H19 -> 36156000 | H6: =G6*D6 -> 36156000 | I6: =J7+J15+J19 -> 0 | J6: =I6*D6 -> 0 | K6: =E6+G6+I6 -> 151033200 | L6: =F6+H6+J6 -> 151033200 | N6: 0101 | P6: 01 | R6: 2
A7: 010101 행정동 | D7: 1 | E7: =F8+F9+F10+F11+F12+F13+F14 -> 107900200 | F7: =E7*D7 -> 107900200 | G7: =H8+H9+H10+H11+H12+H13+H14 -> 31544800 | H7: =G7*D7 -> 31544800 | I7: =J8+J9+J10+J11+J12+J13+J14 -> 0 | J7: =I7*D7 -> 0 | K7: =E7+G7+I7 -> 139445000 | L7: =F7+H7+J7 -> 139445000 | N7: 010101 | P7: 0101 | R7: 3
A8: 01010101 행정동 1호기 | D8: 1 | E8: =공종별내역서!F29 -> 1995000 | F8: =E8*D8 -> 1995000 | G8: =공종별내역서!H29 -> 759800 | H8: =G8*D8 -> 759800 | I8: =공종별내역서!J29 -> 0 | J8: =I8*D8 -> 0 | K8: =E8+G8+I8 -> 2754800 | L8: =F8+H8+J8 -> 2754800 | N8: 01010101 | P8: 010101 | R8: 4
A9: 01010102 행정동 2호기 | D9: 1 | E9: =공종별내역서!F55 -> 24759000 | F9: =E9*D9 -> 24759000 | G9: =공종별내역서!H55 -> 6523800 | H9: =G9*D9 -> 6523800 | I9: =공종별내역서!J55 -> 0 | J9: =I9*D9 -> 0 | K9: =E9+G9+I9 -> 31282800 | L9: =F9+H9+J9 -> 31282800 | N9: 01010102 | P9: 010101 | R9: 4
A10: 01010103 행정동 3호기 | D10: 1 | E10: =공종별내역서!F81 -> 24501000 | F10: =E10*D10 -> 24501000 | G10: =공종별내역서!H81 -> 6523800 | H10: =G10*D10 -> 6523800 | I10: =공종별내역서!J81 -> 0 | J10: =I10*D10 -> 0 | K10: =E10+G10+I10 -> 31024800 | L10: =F10+H10+J10 -> 31024800 | N10: 01010103 | P10: 010101 | R10: 4
A11: 01010104 행정동 4호기 | D11: 1 | E11: =공종별내역서!F107 -> 24759000 | F11: =E11*D11 -> 24759000 | G11: =공종별내역서!H107 -> 6523800 | H11: =G11*D11 -> 6523800 | I11: =공종별내역서!J107 -> 0 | J11: =I11*D11 -> 0 | K11: =E11+G11+I11 -> 31282800 | L11: =F11+H11+J11 -> 31282800 | N11: 01010104 | P11: 010101 | R11: 4
A12: 01010105 행정동 5호기 | D12: 1 | E12: =공종별내역서!F133 -> 14933800 | F12: =E12*D12 -> 14933800 | G12: =공종별내역서!H133 -> 5292400 | H12: =G12*D12 -> 5292400 | I12: =공종별내역서!J133 -> 0 | J12: =I12*D12 -> 0 | K12: =E12+G12+I12 -> 20226200 | L12: =F12+H12+J12 -> 20226200 | N12: 01010105 | P12: 010101 | R12: 4
A13: 01010106 행정동 6호기 | D13: 1 | E13: =공종별내역서!F159 -> 12465800 | F13: =E13*D13 -> 12465800 | G13: =공종별내역서!H159 -> 3720400 | H13: =G13*D13 -> 3720400 | I13: =공종별내역서!J159 -> 0 | J13: =I13*D13 -> 0 | K13: =E13+G13+I13 -> 16186200 | L13: =F13+H13+J13 -> 16186200 | N13: 01010106 | P13: 010101 | R13: 4
A14: 01010107 행정동 7호기 | D14: 1 | E14: =공종별내역서!F185 -> 4486600 | F14: =E14*D14 -> 4486600 | G14: =공종별내역서!H185 -> 2200800 | H14: =G14*D14 -> 2200800 | I14: =공종별내역서!J185 -> 0 | J14: =I14*D14 -> 0 | K14: =E14+G14+I14 -> 6687400 | L14: =F14+H14+J14 -> 6687400 | N14: 01010107 | P14: 010101 | R14: 4
A15: 010102 의회동 | D15: 1 | E15: =F16+F17+F18 -> 264000 | F15: =E15*D15 -> 264000 | G15: =H16+H17+H18 -> 293440 | H15: =G15*D15 -> 293440 | I15: =J16+J17+J18 -> 0 | J15: =I15*D15 -> 0 | K15: =E15+G15+I15 -> 557440 | L15: =F15+H15+J15 -> 557440 | N15: 010102 | P15: 0101 | R15: 3
A16: 01010201 의회동 1호기 | D16: 1 | E16: =공종별내역서!F211 -> 88000 | F16: =E16*D16 -> 88000 | G16: =공종별내역서!H211 -> 104800 | H16: =G16*D16 -> 104800 | I16: =공종별내역서!J211 -> 0 | J16: =I16*D16 -> 0 | K16: =E16+G16+I16 -> 192800 | L16: =F16+H16+J16 -> 192800 | N16: 01010201 | P16: 010102 | R16: 4
A17: 01010202 의회동 2호기 | D17: 1 | E17: =공종별내역서!F237 -> 99000 | F17: =E17*D17 -> 99000 | G17: =공종별내역서!H237 -> 104800 | H17: =G17*D17 -> 104800 | I17: =공종별내역서!J237 -> 0 | J17: =I17*D17 -> 0 | K17: =E17+G17+I17 -> 203800 | L17: =F17+H17+J17 -> 203800 | N17: 01010202 | P17: 010102 | R17: 4
A18: 01010203 의회동 3호기 | D18: 1 | E18: =공종별내역서!F263 -> 77000 | F18: =E18*D18 -> 77000 | G18: =공종별내역서!H263 -> 83840 | H18: =G18*D18 -> 83840 | I18: =공종별내역서!J263 -> 0 | J18: =I18*D18 -> 0 | K18: =E18+G18+I18 -> 160840 | L18: =F18+H18+J18 -> 160840 | N18: 01010203 | P18: 010102 | R18: 4
A19: 010103 민원동 | D19: 1 | E19: =F20+F21+F22 -> 6713000 | F19: =E19*D19 -> 6713000 | G19: =H20+H21+H22 -> 4317760 | H19: =G19*D19 -> 4317760 | I19: =J20+J21+J22 -> 0 | J19: =I19*D19 -> 0 | K19: =E19+G19+I19 -> 11030760 | L19: =F19+H19+J19 -> 11030760 | N19: 010103 | P19: 0101 | R19: 3
A20: 01010301 민원동 1호기 | D20: 1 | E20: =공종별내역서!F289 -> 3869000 | F20: =E20*D20 -> 3869000 | G20: =공종별내역서!H289 -> 2706460 | H20: =G20*D20 -> 2706460 | I20: =공종별내역서!J289 -> 0 | J20: =I20*D20 -> 0 | K20: =E20+G20+I20 -> 6575460 | L20: =F20+H20+J20 -> 6575460 | N20: 01010301 | P20: 010103 | R20: 4
A21: 01010302 의회동 2호기 | D21: 1 | E21: =공종별내역서!F315 -> 2781000 | F21: =E21*D21 -> 2781000 | G21: =공종별내역서!H315 -> 1611300 | H21: =G21*D21 -> 1611300 | I21: =공종별내역서!J315 -> 0 | J21: =I21*D21 -> 0 | K21: =E21+G21+I21 -> 4392300 | L21: =F21+H21+J21 -> 4392300 | N21: 01010302 | P21: 010103 | R21: 4
A22: 01010303 의회동 3호기 | D22: 1 | E22: =공종별내역서!F341 -> 63000 | F22: =E22*D22 -> 63000 | G22: =공종별내역서!H341 -> 0 | H22: =G22*D22 -> 0 | I22: =공종별내역서!J341 -> 0 | J22: =I22*D22 -> 0 | K22: =E22+G22+I22 -> 63000 | L22: =F22+H22+J22 -> 63000 | N22: 01010303 | P22: 010103 | R22: 4
A29: [ 합 계 ] | F29: =F5 -> 114877200 | H29: =H5 -> 36156000 | J29: =J5 -> 0 | L29: =L5 -> 151033200

Sheet 공종별내역서
A1: [ 청사 승강기 노후부품 교체공사 ]
A2: 품 명 | B2: 규 격 | C2: 단위 | D2: 수량 | E2: 재 료 비 | G2: 노 무 비 | I2: 경 비 | K2: 합 계 | M2: 비 고 | N2: 품목코드 | O2: 변수 | P2: 설정 | Q2: 공종코드 | R2: 일위 | S2: 단산 | T2: 자재 | U2: 손료적용 | V2: 손료저장 | W2: 적용율 | X2: JUK1 | Y2: JUK2 | Z2: JUK3 | AA2: JUK4 | AB2: JUK5 | AC2: JUK6 | AD2: JUK7 | AE2: JUK8 | AF2: JUK9 | AG2: JUK10 | AH2: JUK11 | AI2: JUK12 | AJ2: JUK13 | AK2: JUK14 | AL2: JUK15 | AM2: JUK16 | AN2: JUK17 | AO2: JUK18 | AP2: JUK19 | AQ2: JUK20 | AR2: 자재구분 | AS2: 공종구분 | AT2: 공종레벨 | AU2: 공종+자재 | AV2: 고유번호
E3: 단 가 | F3: 금 액 | G3: 단 가 | H3: 금 액 | I3: 단 가 | J3: 금 액 | K3: 단 가 | L3: 금 액
A4: 01010101 행정동 1호기 | Q4: 01010101
A5: WIRE ROPE | B5: D12, E종, OTIS 전용, GOV. ROPE | C5: MT | D5: 195 | E5: =TRUNC(단가대비표!O13,0) -> 4400 | F5: =TRUNC(E5*D5, 0) -> 858000 | G5: =TRUNC(단가대비표!P13,0) -> 0 | H5: =TRUNC(G5*D5, 0) -> 0 | I5: =TRUNC(단가대비표!V13,0) -> 0 | J5: =TRUNC(I5*D5, 0) -> 0 | K5: =TRUNC(E5+G5+I5, 0) -> 4400 | L5: =TRUNC(F5+H5+J5, 0) -> 858000 | N5: 566B22A16AAA4669E5B11AEA2E41E8F8671A49 | Q5: 01010101 | R5: F | S5: F | T5: T | AU5: 01010101566B22A16AAA4669E5B11AEA2E41E8F8671A49 | AV5: 18
A6: WORKING BOBBIN PACK | B6: 660*660*450(표준) | C6: EA | D6: 1 | E6: =TRUNC(단가대비표!O14,0) -> 253000 | F6: =TRUNC(E6*D6, 0) -> 253000 | G6: =TRUNC(단가대비표!P14,0) -> 0 | H6: =TRUNC(G6*D6, 0) -> 0 | I6: =TRUNC(단가대비표!V14,0) -> 0 | J6: =TRUNC(I6*D6, 0) -> 0 | K6: =TRUNC(E6+G6+I6, 0) -> 253000 | L6: =TRUNC(F6+H6+J6, 0) -> 253000 | N6: 566B22A16AAA4669E5B11AEA2E41E8F8660C28 | Q6: 01010101 | R6: F | S6: F | T6: T | AU6: 01010101566B22A16AAA4669E5B11AEA2E41E8F8660C28 | AV6: 19
A7: GOV. WT PULLY ASY. | B7: D-WS3,D315,PRC 전용 | C7: EA | D7: 1 | E7: =TRUNC(단가대비표!O15,0) -> 653000 | F7: =TRUNC(E7*D7, 0) -> 653000 | G7: =TRUNC(단가대비표!P15,0) -> 0 | H7: =TRUNC(G7*D7, 0) -> 0 | I7: =TRUNC(단가대비표!V15,0) -> 0 | J7: =TRUNC(I7*D7, 0) -> 0 | K7: =TRUNC(E7+G7+I7, 0) -> 653000 | L7: =TRUNC(F7+H7+J7, 0) -> 653000 | N7: 566B22A16AAA4669E5B11AEA2E41E8F8660DCF | Q7: 01010101 | R7: F | S7: F | T7: T | AU7: 01010101566B22A16AAA4669E5B11AEA2E41E8F8660DCF | AV7: 20
A8: MOHAIR TAPE | B8: 3.5T * 10mm*5 | C8: EA | D8: 21 | E8: =TRUNC(단가대비표!O18,0) -> 11000 | F8: =TRUNC(E8*D8, 0) -> 231000 | G8: =TRUNC(단가대비표!P18,0) -> 0 | H8: =TRUNC(G8*D8, 0) -> 0 | I8: =TRUNC(단가대비표!V18,0) -> 0 | J8: =TRUNC(I8*D8, 0) -> 0 | K8: =TRUNC(E8+G8+I8, 0) -> 11000 | L8: =TRUNC(F8+H8+J8, 0) -> 231000 | N8: 566B22A16AAA4669E5B11AEA2E41E8F866084D | Q8: 01010101 | R8: F | S8: F | T8: T | AU8: 01010101566B22A16AAA4669E5B11AEA2E41E8F866084D | AV8: 21
A9: 고급기술자 | B9: 일반공사 직종 | C9: 인 | D9: 2.9 | E9: =TRUNC(단가대비표!O20,0) -> 0 | F9: =TRUNC(E9*D9, 0) -> 0 | G9: =TRUNC(단가대비표!P20,0) -> 262000 | H9: =TRUNC(G9*D9, 0) -> 759800 | I9: =TRUNC(단가대비표!V20,0) -> 0 | J9: =TRUNC(I9*D9, 0) -> 0 | K9: =TRUNC(E9+G9+I9, 0) -> 262000 | L9: =TRUNC(F9+H9+J9, 0) -> 759800 | N9: 518062716FED7F624E021893B8DC123F2F5195 | Q9: 01010101 | R9: F | S9: F | T9: T | AU9: 01010101518062716FED7F624E021893B8DC123F2F5195 | AV9: 22
A29: [ 합 계 ] | F29: =SUM(F5:F28) -> 1995000 | H29: =SUM(H5:H28) -> 759800 | J29: =SUM(J5:J28) -> 0 | L29: =SUM(L5:L28) -> 2754800 | N29: TOTAL
A30: 01010102 행정동 2호기 | Q30: 01010102
A31: BEAM PULLY ASY | B31: STD41-15BA | C31: EA | D31: 1 | E31: =TRUNC(단가대비표!O5,0) -> 7417000 | F31: =TRUNC(E31*D31, 0) -> 7417000 | G31: =TRUNC(단가대비표!P5,0) -> 0 | H31: =TRUNC(G31*D31, 0) -> 0 | I31: =TRUNC(단가대비표!V5,0) -> 0 | J31: =TRUNC(I31*D31, 0) -> 0 | K31: =TRUNC(E31+G31+I31, 0) -> 7417000 | L31: =TRUNC(F31+H31+J31, 0) -> 7417000 | N31: 566B22A16AAA4669E5B11AEA2E41E8F867131A | Q31: 01010102 | R31: F | S31: F | T31: T | AU31: 01010102566B22A16AAA4669E5B11AEA2E41E8F867131A | AV31: 25
A32: CAR PULLY ASY(2655C) | B32: 2655C, D12*6, D:550 | C32: EA | D32: 1 | E32: =TRUNC(단가대비표!O6,0) -> 2622000 | F32: =TRUNC(E32*D32, 0) -> 2622000 | G32: =TRUNC(단가대비표!P6,0) -> 0 | H32: =TRUNC(G32*D32, 0) -> 0 | I32: =TRUNC(단가대비표!V6,0) -> 0 | J32: =TRUNC(I32*D32, 0) -> 0 | K32: =TRUNC(E32+G32+I32, 0) -> 2622000 | L32: =TRUNC(F32+H32+J32, 0) -> 2622000 | N32: 566B22A16AAA4669E5B11AEA2E41E8F8671273 | Q32: 01010102 | R32: F | S32: F | T32: T | AU32: 01010102566B22A16AAA4669E5B11AEA2E41E8F8671273 | AV32: 26
A33: CWT PULLY ASY(2655W) | B33: 2655W, D12*6, D:550, KP=212 | C33: EA | D33: 1 | E33: =TRUNC(단가대비표!O7,0) -> 2468000 | F33: =TRUNC(E33*D33, 0) -> 2468000 | G33: =TRUNC(단가대비표!P7,0) -> 0 | H33: =TRUNC(G33*D33, 0) -> 0 | I33: =TRUNC(단가대비표!V7,0) -> 0 | J33: =TRUNC(I33*D33, 0) -> 0 | K33: =TRUNC(E33+G33+I33, 0) -> 2468000 | L33: =TRUNC(F33+H33+J33, 0) -> 2468000 | N33: 566B22A16AAA4669E5B11AEA2E41E8F8671046 | Q33: 01010102 | R33: F | S33: F | T33: T | AU33: 01010102566B22A16AAA4669E5B11AEA2E41E8F8671046 | AV33: 27
A34: WIRE ROPE | B34: D12, E종, OTIS 전용, GOV. ROPE | C34: MT | D34: 195 | E34: =TRUNC(단가대비표!O13,0) -> 4400 | F34: =TRUNC(E34*D34, 0) -> 858000 | G34: =TRUNC(단가대비표!P13,0) -> 0 | H34: =TRUNC(G34*D34, 0) -> 0 | I34: =TRUNC(단가대비표!V13,0) -> 0 | J34: =TRUNC(I34*D34, 0) -> 0 | K34: =TRUNC(E34+G34+I34, 0) -> 4400 | L34: =TRUNC(F34+H34+J34, 0) -> 858000 | N34: 566B22A16AAA4669E5B11AEA2E41E8F8671A49 | Q34: 01010102 | R34: F | S34: F | T34: T | AU34: 01010102566B22A16AAA4669E5B11AEA2E41E8F8671A49 | AV34: 28
A35: WORKING BOBBIN PACK | B35: 660*660*450(표준) | C35: EA | D35: 1 | E35: =TRUNC(단가대비표!O14,0) -> 253000 | F35: =TRUNC(E35*D35, 0) -> 253000 | G35: =TRUNC(단가대비표!P14,0) -> 0 | H35: =TRUNC(G35*D35, 0) -> 0 | I35: =TRUNC(단가대비표!V14,0) -> 0 | J35: =TRUNC(I35*D35, 0) -> 0 | K35: =TRUNC(E35+G35+I35, 0) -> 253000 | L35: =TRUNC(F35+H35+J35, 0) -> 253000 | N35: 566B22A16AAA4669E5B11AEA2E41E8F8660C28 | Q35: 01010102 | R35: F | S35: F | T35: T | AU35: 01010102566B22A16AAA4669E5B11AEA2E41E8F8660C28 | AV35: 29
A36: GOV. WT PULLY ASY. | B36: D-WS3,D315,PRC 전용 | C36: EA | D36: 1 | E36: =TRUNC(단가대비표!O15,0) -> 653000 | F36: =TRUNC(E36*D36, 0) -> 653000 | G36: =TRUNC(단가대비표!P15,0) -> 0 | H36: =TRUNC(G36*D36, 0) -> 0 | I36: =TRUNC(단가대비표!V15,0) -> 0 | J36: =TRUNC(I36*D36, 0) -> 0 | K36: =TRUNC(E36+G36+I36, 0) -> 653000 | L36: =TRUNC(F36+H36+J36, 0) -> 653000 | N36: 566B22A16AAA4669E5B11AEA2E41E8F8660DCF | Q36: 01010102 | R36: F | S36: F | T36: T | AU36: 01010102566B22A16AAA4669E5B11AEA2E41E8F8660DCF | AV36: 30
A37: C, R, W PULLY ASY. | B37: 6671 | C37: EA | D37: 1 | E37: =TRUNC(단가대비표!O16,0) -> 9999000 | F37: =TRUNC(E37*D37, 0) -> 9999000 | G37: =TRUNC(단가대비표!P16,0) -> 0 | H37: =TRUNC(G37*D37, 0) -> 0 | I37: =TRUNC(단가대비표!V16,0) -> 0 | J37: =TRUNC(I37*D37, 0) -> 0 | K37: =TRUNC(E37+G37+I37, 0) -> 9999000 | L37: =TRUNC(F37+H37+J37, 0) -> 9999000 | N37: 566B22A16AAA4669E5B11AEA2E41E8F8660ED6 | Q37: 01010102 | R37: F | S37: F | T37: T | AU37: 01010102566B22A16AAA4669E5B11AEA2E41E8F8660ED6 | AV37: 31
A38: MOHAIR TAPE | B38: 3.5T * 10mm*5 | C38: EA | D38: 21 | E38: =TRUNC(단가대비표!O18,0) -> 11000 | F38: =TRUNC(E38*D38, 0) -> 231000 | G38: =TRUNC(단가대비표!P18,0) -> 0 | H38: =TRUNC(G38*D38, 0) -> 0 | I38: =TRUNC(단가대비표!V18,0) -> 0 | J38: =TRUNC(I38*D38, 0) -> 0 | K38: =TRUNC(E38+G38+I38, 0) -> 11000 | L38: =TRUNC(F38+H38+J38, 0) -> 231000 | N38: 566B22A16AAA4669E5B11AEA2E41E8F866084D | Q38: 01010102 | R38: F | S38: F | T38: T | AU38: 01010102566B22A16AAA4669E5B11AEA2E41E8F866084D | AV38: 32
A39: POWER SUPPLY (SMPS) | B39: OTIS50-EE, 110V/+5,+15,-15 | C39: EA | D39: 2 | E39: =TRUNC(단가대비표!O19,0) -> 129000 | F39: =TRUNC(E39*D39, 0) -> 258000 | G39: =TRUNC(단가대비표!P19,0) -> 0 | H39: =TRUNC(G39*D39, 0) -> 0 | I39: =TRUNC(단가대비표!V19,0) -> 0 | J39: =TRUNC(I39*D39, 0) -> 0 | K39: =TRUNC(E39+G39+I39, 0) -> 129000 | L39: =TRUNC(F39+H39+J39, 0) -> 258000 | N39: 566B22A16AAA4669E5B11AEA2E41E8F8660954 | Q39: 01010102 | R39: F | S39: F | T39: T | AU39: 01010102566B22A16AAA4669E5B11AEA2E41E8F8660954 | AV39: 33
A40: 고급기술자 | B40: 일반공사 직종 | C40: 인 | D40: 24.9 | E40: =TRUNC(단가대비표!O20,0) -> 0 | F40: =TRUNC(E40*D40, 0) -> 0 | G40: =TRUNC(단가대비표!P20,0) -> 262000 | H40: =TRUNC(G40*D40, 0) -> 6523800 | I40: =TRUNC(단가대비표!V20,0) -> 0 | J40: =TRUNC(I40*D40, 0) -> 0 | K40: =TRUNC(E40+G40+I40, 0) -> 262000 | L40: =TRUNC(F40+H40+J40, 0) -> 6523800 | N40: 518062716FED7F624E021893B8DC123F2F5195 | Q40: 01010102 | R40: F | S40: F | T40: T | AU40: 01010102518062716FED7F624E021893B8DC123F2F5195 | AV40: 24
A55: [ 합 계 ] | F55: =SUM(F31:F54) -> 24759000 | H55: =SUM(H31:H54) -> 6523800 | J55: =SUM(J31:J54) -> 0 | L55: =SUM(L31:L54) -> 31282800 | N55: TOTAL
A56: 01010103 행정동 3호기 | Q56: 01010103
A57: BEAM PULLY ASY | B57: STD41-15BA | C57: EA | D57: 1 | E57: =TRUNC(단가대비표!O5,0) -> 7417000 | F57: =TRUNC(E57*D57, 0) -> 7417000 | G57: =TRUNC(단가대비표!P5,0) -> 0 | H57: =TRUNC(G57*D57, 0) -> 0 | I57: =TRUNC(단가대비표!V5,0) -> 0 | J57: =TRUNC(I57*D57, 0) -> 0 | K57: =TRUNC(E57+G57+I57, 0) -> 7417000 | L57: =TRUNC(F57+H57+J57, 0) -> 7417000 | N57: 566B22A16AAA4669E5B11AEA2E41E8F867131A | Q57: 01010103 | R57: F | S57: F | T57: T | AU57: 01010103566B22A16AAA4669E5B11AEA2E41E8F867131A | AV57: 35
A58: CAR PULLY ASY(2655C) | B58: 2655C, D12*6, D:550 | C58: EA | D58: 1 | E58: =TRUNC(단가대비표!O6,0) -> 2622000 | F58: =TRUNC(E58*D58, 0) -> 2622000 | G58: =TRUNC(단가대비표!P6,0) -> 0 | H58: =TRUNC(G58*D58, 0) -> 0 | I58: =TRUNC(단가대비표!V6,0) -> 0 | J58: =TRUNC(I58*D58, 0) -> 0 | K58: =TRUNC(E58+G58+I58, 0) -> 2622000 | L58: =TRUNC(F58+H58+J58, 0) -> 2622000 | N58: 566B22A16AAA4669E5B11AEA2E41E8F8671273 | Q58: 01010103 | R58: F | S58: F | T58: T | AU58: 01010103566B22A16AAA4669E5B11AEA2E41E8F8671273 | AV58: 36
A59: CWT PULLY ASY(2655W) | B59: 2655W, D12*6, D:550, KP=212 | C59: EA | D59: 1 | E59: =TRUNC(단가대비표!O7,0) -> 2468000 | F59: =TRUNC(E59*D59, 0) -> 2468000 | G59: =TRUNC(단가대비표!P7,0) -> 0 | H59: =TRUNC(G59*D59, 0) -> 0 | I59: =TRUNC(단가대비표!V7,0) -> 0 | J59: =TRUNC(I59*D59, 0) -> 0 | K59: =TRUNC(E59+G59+I59, 0) -> 2468000 | L59: =TRUNC(F59+H59+J59, 0) -> 2468000 | N59: 566B22A16AAA4669E5B11AEA2E41E8F8671046 | Q59: 01010103 | R59: F | S59: F | T59: T | AU59: 01010103566B22A16AAA4669E5B11AEA2E41E8F8671046 | AV59: 37
A60: WIRE ROPE | B60: D12, E종, OTIS 전용, GOV. ROPE | C60: MT | D60: 195 | E60: =TRUNC(단가대비표!O13,0) -> 4400 | F60: =TRUNC(E60*D60, 0) -> 858000 | G60: =TRUNC(단가대비표!P13,0) -> 0 | H60: =TRUNC(G60*D60, 0) -> 0 | I60: =TRUNC(단가대비표!V13,0) -> 0 | J60: =TRUNC(I60*D60, 0) -> 0 | K60: =TRUNC(E60+G60+I60, 0) -> 4400 | L60: =TRUNC(F60+H60+J60, 0) -> 858000 | N60: 566B22A16AAA4669E5B11AEA2E41E8F8671A49 | Q60: 01010103 | R60: F | S60: F | T60: T | AU60: 01010103566B22A16AAA4669E5B11AEA2E41E8F8671A49 | AV60: 38
A61: WORKING BOBBIN PACK | B61: 660*660*450(표준) | C61: EA | D61: 1 | E61: =TRUNC(단가대비표!O14,0) -> 253000 | F61: =TRUNC(E61*D61, 0) -> 253000 | G61: =TRUNC(단가대비표!P14,0) -> 0 | H61: =TRUNC(G61*D61, 0) -> 0 | I61: =TRUNC(단가대비표!V14,0) -> 0 | J61: =TRUNC(I61*D61, 0) -> 0 | K61: =TRUNC(E61+G61+I61, 0) -> 253000 | L61: =TRUNC(F61+H61+J61, 0) -> 253000 | N61: 566B22A16AAA4669E5B11AEA2E41E8F8660C28 | Q61: 01010103 | R61: F | S61: F | T61: T | AU61: 01010103566B22A16AAA4669E5B11AEA2E41E8F8660C28 | AV61: 39
A62: GOV. WT PULLY ASY. | B62: D-WS3,D315,PRC 전용 | C62: EA | D62: 1 | E62: =TRUNC(단가대비표!O15,0) -> 653000 | F62: =TRUNC(E62*D62, 0) -> 653000 | G62: =TRUNC(단가대비표!P15,0) -> 0 | H62: =TRUNC(G62*D62, 0) -> 0 | I62: =TRUNC(단가대비표!V15,0) -> 0 | J62: =TRUNC(I62*D62, 0) -> 0 | K62: =TRUNC(E62+G62+I62, 0) -> 653000 | L62: =TRUNC(F62+H62+J62, 0) -> 653000 | N62: 566B22A16AAA4669E5B11AEA2E41E8F8660DCF | Q62: 01010103 | R62: F | S62: F | T62: T | AU62: 01010103566B22A16AAA4669E5B11AEA2E41E8F8660DCF | AV62: 40
A63: C, R, W PULLY ASY. | B63: 6671 | C63: EA | D63: 1 | E63: =TRUNC(단가대비표!O16,0) -> 9999000 | F63: =TRUNC(E63*D63, 0) -> 9999000 | G63: =TRUNC(단가대비표!P16,0) -> 0 | H63: =TRUNC(G63*D63, 0) -> 0 | I63: =TRUNC(단가대비표!V16,0) -> 0 | J63: =TRUNC(I63*D63, 0) -> 0 | K63: =TRUNC(E63+G63+I63, 0) -> 9999000 | L63: =TRUNC(F63+H63+J63, 0) -> 9999000 | N63: 566B22A16AAA4669E5B11AEA2E41E8F8660ED6 | Q63: 01010103 | R63: F | S63: F | T63: T | AU63: 01010103566B22A16AAA4669E5B11AEA2E41E8F8660ED6 | AV63: 41
A64: MOHAIR TAPE | B64: 3.5T * 10mm*5 | C64: EA | D64: 21 | E64: =TRUNC(단가대비표!O18,0) -> 11000 | F64: =TRUNC(E64*D64, 0) -> 231000 | G64: =TRUNC(단가대비표!P18,0) -> 0 | H64: =TRUNC(G64*D64, 0) -> 0 | I64: =TRUNC(단가대비표!V18,0) -> 0 | J64: =TRUNC(I64*D64, 0) -> 0 | K64: =TRUNC(E64+G64+I64, 0) -> 11000 | L64: =TRUNC(F64+H64+J64, 0) -> 231000 | N64: 566B22A16AAA4669E5B11AEA2E41E8F866084D | Q64: 01010103 | R64: F | S64: F | T64: T | AU64: 01010103566B22A16AAA4669E5B11AEA2E41E8F866084D | AV64: 42
A65: 고급기술자 | B65: 일반공사 직종 | C65: 인 | D65: 24.9 | E65: =TRUNC(단가대비표!O20,0) -> 0 | F65: =TRUNC(E65*D65, 0) -> 0 | G65: =TRUNC(단가대비표!P20,0) -> 262000 | H65: =TRUNC(G65*D65, 0) -> 6523800 | I65: =TRUNC(단가대비표!V20,0) -> 0 | J65: =TRUNC(I65*D65, 0) -> 0 | K65: =TRUNC(E65+G65+I65, 0) -> 262000 | L65: =TRUNC(F65+H65+J65, 0) -> 6523800 | N65: 518062716FED7F624E021893B8DC123F2F5195 | Q65: 01010103 | R65: F | S65: F | T65: T | AU65: 01010103518062716FED7F624E021893B8DC123F2F5195 | AV65: 44
A81: [ 합 계 ] | F81: =SUM(F57:F80) -> 24501000 | H81: =SUM(H57:H80) -> 6523800 | J81: =SUM(J57:J80) -> 0 | L81: =SUM(L57:L80) -> 31024800 | N81: TOTAL
A82: 01010104 행정동 4호기 | Q82: 01010104
A83: BEAM PULLY ASY | B83: STD41-15BA | C83: EA | D83: 1 | E83: =TRUNC(단가대비표!O5,0) -> 7417000 | F83: =TRUNC(E83*D83, 0) -> 7417000 | G83: =TRUNC(단가대비표!P5,0) -> 0 | H83: =TRUNC(G83*D83, 0) -> 0 | I83: =TRUNC(단가대비표!V5,0) -> 0 | J83: =TRUNC(I83*D83, 0) -> 0 | K83: =TRUNC(E83+G83+I83, 0) -> 7417000 | L83: =TRUNC(F83+H83+J83, 0) -> 7417000 | N83: 566B22A16AAA4669E5B11AEA2E41E8F867131A | Q83: 01010104 | R83: F | S83: F | T83: T | AU83: 01010104566B22A16AAA4669E5B11AEA2E41E8F867131A | AV83: 46
A84: CAR PULLY ASY(2655C) | B84: 2655C, D12*6, D:550 | C84: EA | D84: 1 | E84: =TRUNC(단가대비표!O6,0) -> 2622000 | F84: =TRUNC(E84*D84, 0) -> 2622000 | G84: =TRUNC(단가대비표!P6,0) -> 0 | H84: =TRUNC(G84*D84, 0) -> 0 | I84: =TRUNC(단가대비표!V6,0) -> 0 | J84: =TRUNC(I84*D84, 0) -> 0 | K84: =TRUNC(E84+G84+I84, 0) -> 2622000 | L84: =TRUNC(F84+H84+J84, 0) -> 2622000 | N84: 566B22A16AAA4669E5B11AEA2E41E8F8671273 | Q84: 01010104 | R84: F | S84: F | T84: T | AU84: 01010104566B22A16AAA4669E5B11AEA2E41E8F8671273 | AV84: 47
A85: CWT PULLY ASY(2655W) | B85: 2655W, D12*6, D:550, KP=212 | C85: EA | D85: 1 | E85: =TRUNC(단가대비표!O7,0) -> 2468000 | F85: =TRUNC(E85*D85, 0) -> 2468000 | G85: =TRUNC(단가대비표!P7,0) -> 0 | H85: =TRUNC(G85*D85, 0) -> 0 | I85: =TRUNC(단가대비표!V7,0) -> 0 | J85: =TRUNC(I85*D85, 0) -> 0 | K85: =TRUNC(E85+G85+I85, 0) -> 2468000 | L85: =TRUNC(F85+H85+J85, 0) -> 2468000 | N85: 566B22A16AAA4669E5B11AEA2E41E8F8671046 | Q85: 01010104 | R85: F | S85: F | T85: T | AU85: 01010104566B22A16AAA4669E5B11AEA2E41E8F8671046 | AV85: 48
A86: WIRE ROPE | B86: D12, E종, OTIS 전용, GOV. ROPE | C86: MT | D86: 195 | E86: =TRUNC(단가대비표!O13,0) -> 4400 | F86: =TRUNC(E86*D86, 0) -> 858000 | G86: =TRUNC(단가대비표!P13,0) -> 0 | H86: =TRUNC(G86*D86, 0) -> 0 | I86: =TRUNC(단가대비표!V13,0) -> 0 | J86: =TRUNC(I86*D86, 0) -> 0 | K86: =TRUNC(E86+G86+I86, 0) -> 4400 | L86: =TRUNC(F86+H86+J86, 0) -> 858000 | N86: 566B22A16AAA4669E5B11AEA2E41E8F8671A49 | Q86: 01010104 | R86: F | S86: F | T86: T | AU86: 01010104566B22A16AAA4669E5B11AEA2E41E8F8671A49 | AV86: 49
A87: WORKING BOBBIN PACK | B87: 660*660*450(표준) | C87: EA | D87: 1 | E87: =TRUNC(단가대비표!O14,0) -> 253000 | F87: =TRUNC(E87*D87, 0) -> 253000 | G87: =TRUNC(단가대비표!P14,0) -> 0 | H87: =TRUNC(G87*D87, 0) -> 0 | I87: =TRUNC(단가대비표!V14,0) -> 0 | J87: =TRUNC(I87*D87, 0) -> 0 | K87: =TRUNC(E87+G87+I87, 0) -> 253000 | L87: =TRUNC(F87+H87+J87, 0) -> 253000 | N87: 566B22A16AAA4669E5B11AEA2E41E8F8660C28 | Q87: 01010104 | R87: F | S87: F | T87: T | AU87: 01010104566B22A16AAA4669E5B11AEA2E41E8F8660C28 | AV87: 50
A88: GOV. WT PULLY ASY. | B88: D-WS3,D315,PRC 전용 | C88: EA | D88: 1 | E88: =TRUNC(단가대비표!O15,0) -> 653000 | F88: =TRUNC(E88*D88, 0) -> 653000 | G88: =TRUNC(단가대비표!P15,0) -> 0 | H88: =TRUNC(G88*D88, 0) -> 0 | I88: =TRUNC(단가대비표!V15,0) -> 0 | J88: =TRUNC(I88*D88, 0) -> 0 | K88: =TRUNC(E88+G88+I88, 0) -> 653000 | L88: =TRUNC(F88+H88+J88, 0) -> 653000 | N88: 566B22A16AAA4669E5B11AEA2E41E8F8660DCF | Q88: 01010104 | R88: F | S88: F | T88: T | AU88: 01010104566B22A16AAA4669E5B11AEA2E41E8F8660DCF | AV88: 51
A89: C, R, W PULLY ASY. | B89: 6671 | C89: EA | D89: 1 | E89: =TRUNC(단가대비표!O16,0) -> 9999000 | F89: =TRUNC(E89*D89, 0) -> 9999000 | G89: =TRUNC(단가대비표!P16,0) -> 0 | H89: =TRUNC(G89*D89, 0) -> 0 | I89: =TRUNC(단가대비표!V16,0) -> 0 | J89: =TRUNC(I89*D89, 0) -> 0 | K89: =TRUNC(E89+G89+I89, 0) -> 9999000 | L89: =TRUNC(F89+H89+J89, 0) -> 9999000 | N89: 566B22A16AAA4669E5B11AEA2E41E8F8660ED6 | Q89: 01010104 | R89: F | S89: F | T89: T | AU89: 01010104566B22A16AAA4669E5B11AEA2E41E8F8660ED6 | AV89: 52
A90: MOHAIR TAPE | B90: 3.5T * 10mm*5 | C90: EA | D90: 21 | E90: =TRUNC(단가대비표!O18,0) -> 11000 | F90: =TRUNC(E90*D90, 0) -> 231000 | G90: =TRUNC(단가대비표!P18,0) -> 0 | H90: =TRUNC(G90*D90, 0) -> 0 | I90: =TRUNC(단가대비표!V18,0) -> 0 | J90: =TRUNC(I90*D90, 0) -> 0 | K90: =TRUNC(E90+G90+I90, 0) -> 11000 | L90: =TRUNC(F90+H90+J90, 0) -> 231000 | N90: 566B22A16AAA4669E5B11AEA2E41E8F866084D | Q90: 01010104 | R90: F | S90: F | T90: T | AU90: 01010104566B22A16AAA4669E5B11AEA2E41E8F866084D | AV90: 53
A91: POWER SUPPLY (SMPS) | B91: OTIS50-EE, 110V/+5,+15,-15 | C91: EA | D91: 2 | E91: =TRUNC(단가대비표!O19,0) -> 129000 | F91: =TRUNC(E91*D91, 0) -> 258000 | G91: =TRUNC(단가대비표!P19,0) -> 0 | H91: =TRUNC(G91*D91, 0) -> 0 | I91: =TRUNC(단가대비표!V19,0) -> 0 | J91: =TRUNC(I91*D91, 0) -> 0 | K91: =TRUNC(E91+G91+I91, 0) -> 129000 | L91: =TRUNC(F91+H91+J91, 0) -> 258000 | N91: 566B22A16AAA4669E5B11AEA2E41E8F8660954 | Q91: 01010104 | R91: F | S91: F | T91: T | AU91: 01010104566B22A16AAA4669E5B11AEA2E41E8F8660954 | AV91: 54
A92: 고급기술자 | B92: 일반공사 직종 | C92: 인 | D92: 24.9 | E92: =TRUNC(단가대비표!O20,0) -> 0 | F92: =TRUNC(E92*D92, 0) -> 0 | G92: =TRUNC(단가대비표!P20,0) -> 262000 | H92: =TRUNC(G92*D92, 0) -> 6523800 | I92: =TRUNC(단가대비표!V20,0) -> 0 | J92: =TRUNC(I92*D92, 0) -> 0 | K92: =TRUNC(E92+G92+I92, 0) -> 262000 | L92: =TRUNC(F92+H92+J92, 0) -> 6523800 | N92: 518062716FED7F624E021893B8DC123F2F5195 | Q92: 01010104 | R92: F | S92: F | T92: T | AU92: 01010104518062716FED7F624E021893B8DC123F2F5195 | AV92: 55
A107: [ 합 계 ] | F107: =SUM(F83:F106) -> 24759000 | H107: =SUM(H83:H106) -> 6523800 | J107: =SUM(J83:J106) -> 0 | L107: =SUM(L83:L106) -> 31282800 | N107: TOTAL
A108: 01010105 행정동 5호기 | Q108: 01010105
A109: BEAM PULLY ASY | B109: STD41-15BA | C109: EA | D109: 1 | E109: =TRUNC(단가대비표!O5,0) -> 7417000 | F109: =TRUNC(E109*D109, 0) -> 7417000 | G109: =TRUNC(단가대비표!P5,0) -> 0 | H109: =TRUNC(G109*D109, 0) -> 0 | I109: =TRUNC(단가대비표!V5,0) -> 0 | J109: =TRUNC(I109*D109, 0) -> 0 | K109: =TRUNC(E109+G109+I109, 0) -> 7417000 | L109: =TRUNC(F109+H109+J109, 0) -> 7417000 | N109: 566B22A16AAA4669E5B11AEA2E41E8F867131A | Q109: 01010105 | R109: F | S109: F | T109: T | AU109: 01010105566B22A16AAA4669E5B11AEA2E41E8F867131A | AV109: 57
A110: CAR PULLY ASY(2655C) | B110: 2655C, D12*6, D:550 | C110: EA | D110: 1 | E110: =TRUNC(단가대비표!O6,0) -> 2622000 | F110: =TRUNC(E110*D110, 0) -> 2622000 | G110: =TRUNC(단가대비표!P6,0) -> 0 | H110: =TRUNC(G110*D110, 0) -> 0 | I110: =TRUNC(단가대비표!V6,0) -> 0 | J110: =TRUNC(I110*D110, 0) -> 0 | K110: =TRUNC(E110+G110+I110, 0) -> 2622000 | L110: =TRUNC(F110+H110+J110, 0) -> 2622000 | N110: 566B22A16AAA4669E5B11AEA2E41E8F8671273 | Q110: 01010105 | R110: F | S110: F | T110: T | AU110: 01010105566B22A16AAA4669E5B11AEA2E41E8F8671273 | AV110: 58
A111: CWT PULLY ASY(2655W) | B111: 2655W, D12*6, D:550, KP=212 | C111: EA | D111: 1 | E111: =TRUNC(단가대비표!O7,0) -> 2468000 | F111: =TRUNC(E111*D111, 0) -> 2468000 | G111: =TRUNC(단가대비표!P7,0) -> 0 | H111: =TRUNC(G111*D111, 0) -> 0 | I111: =TRUNC(단가대비표!V7,0) -> 0 | J111: =TRUNC(I111*D111, 0) -> 0 | K111: =TRUNC(E111+G111+I111, 0) -> 2468000 | L111: =TRUNC(F111+H111+J111, 0) -> 2468000 | N111: 566B22A16AAA4669E5B11AEA2E41E8F8671046 | Q111: 01010105 | R111: F | S111: F | T111: T | AU111: 01010105566B22A16AAA4669E5B11AEA2E41E8F8671046 | AV111: 59
A112: WIRE ROPE | B112: D12, E종, OTIS 전용, GOV. ROPE | C112: MT | D112: 227 | E112: =TRUNC(단가대비표!O13,0) -> 4400 | F112: =TRUNC(E112*D112, 0) -> 998800 | G112: =TRUNC(단가대비표!P13,0) -> 0 | H112: =TRUNC(G112*D112, 0) -> 0 | I112: =TRUNC(단가대비표!V13,0) -> 0 | J112: =TRUNC(I112*D112, 0) -> 0 | K112: =TRUNC(E112+G112+I112, 0) -> 4400 | L112: =TRUNC(F112+H112+J112, 0) -> 998800 | N112: 566B22A16AAA4669E5B11AEA2E41E8F8671A49 | Q112: 01010105 | R112: F | S112: F | T112: T | AU112: 01010105566B22A16AAA4669E5B11AEA2E41E8F8671A49 | AV112: 60
A113: WORKING BOBBIN PACK | B113: 660*660*450(표준) | C113: EA | D113: 1 | E113: =TRUNC(단가대비표!O14,0) -> 253000 | F113: =TRUNC(E113*D113, 0) -> 253000 | G113: =TRUNC(단가대비표!P14,0) -> 0 | H113: =TRUNC(G113*D113, 0) -> 0 | I113: =TRUNC(단가대비표!V14,0) -> 0 | J113: =TRUNC(I113*D113, 0) -> 0 | K113: =TRUNC(E113+G113+I113, 0) -> 253000 | L113: =TRUNC(F113+H113+J113, 0) -> 253000 | N113: 566B22A16AAA4669E5B11AEA2E41E8F8660C28 | Q113: 01010105 | R113: F | S113: F | T113: T | AU113: 01010105566B22A16AAA4669E5B11AEA2E41E8F8660C28 | AV113: 61
A114: GOV. WT PULLY ASY. | B114: D-WS3,D315,PRC 전용 | C114: EA | D114: 1 | E114: =TRUNC(단가대비표!O15,0) -> 653000 | F114: =TRUNC(E114*D114, 0) -> 653000 | G114: =TRUNC(단가대비표!P15,0) -> 0 | H114: =TRUNC(G114*D114, 0) -> 0 | I114: =TRUNC(단가대비표!V15,0) -> 0 | J114: =TRUNC(I114*D114, 0) -> 0 | K114: =TRUNC(E114+G114+I114, 0) -> 653000 | L114: =TRUNC(F114+H114+J114, 0) -> 653000 | N114: 566B22A16AAA4669E5B11AEA2E41E8F8660DCF | Q114: 01010105 | R114: F | S114: F | T114: T | AU114: 01010105566B22A16AAA4669E5B11AEA2E41E8F8660DCF | AV114: 62
A115: MOHAIR TAPE | B115: 3.5T * 10mm*5 | C115: EA | D115: 24 | E115: =TRUNC(단가대비표!O18,0) -> 11000 | F115: =TRUNC(E115*D115, 0) -> 264000 | G115: =TRUNC(단가대비표!P18,0) -> 0 | H115: =TRUNC(G115*D115, 0) -> 0 | I115: =TRUNC(단가대비표!V18,0) -> 0 | J115: =TRUNC(I115*D115, 0) -> 0 | K115: =TRUNC(E115+G115+I115, 0) -> 11000 | L115: =TRUNC(F115+H115+J115, 0) -> 264000 | N115: 566B22A16AAA4669E5B11AEA2E41E8F866084D | Q115: 01010105 | R115: F | S115: F | T115: T | AU115: 01010105566B22A16AAA4669E5B11AEA2E41E8F866084D | AV115: 64
A116: POWER SUPPLY (SMPS) | B116: OTIS50-EE, 110V/+5,+15,-15 | C116: EA | D116: 2 | E116: =TRUNC(단가대비표!O19,0) -> 129000 | F116: =TRUNC(E116*D116, 0) -> 258000 | G116: =TRUNC(단가대비표!P19,0) -> 0 | H116: =TRUNC(G116*D116, 0) -> 0 | I116: =TRUNC(단가대비표!V19,0) -> 0 | J116: =TRUNC(I116*D116, 0) -> 0 | K116: =TRUNC(E116+G116+I116, 0) -> 129000 | L116: =TRUNC(F116+H116+J116, 0) -> 258000 | N116: 566B22A16AAA4669E5B11AEA2E41E8F8660954 | Q116: 01010105 | R116: F | S116: F | T116: T | AU116: 01010105566B22A16AAA4669E5B11AEA2E41E8F8660954 | AV116: 65
A117: 고급기술자 | B117: 일반공사 직종 | C117: 인 | D117: 20.2 | E117: =TRUNC(단가대비표!O20,0) -> 0 | F117: =TRUNC(E117*D117, 0) -> 0 | G117: =TRUNC(단가대비표!P20,0) -> 262000 | H117: =TRUNC(G117*D117, 0) -> 5292400 | I117: =TRUNC(단가대비표!V20,0) -> 0 | J117: =TRUNC(I117*D117, 0) -> 0 | K117: =TRUNC(E117+G117+I117, 0) -> 262000 | L117: =TRUNC(F117+H117+J117, 0) -> 5292400 | N117: 518062716FED7F624E021893B8DC123F2F5195 | Q117: 01010105 | R117: F | S117: F | T117: T | AU117: 01010105518062716FED7F624E021893B8DC123F2F5195 | AV117: 66
A133: [ 합 계 ] | F133: =SUM(F109:F132) -> 14933800 | H133: =SUM(H109:H132) -> 5292400 | J133: =SUM(J109:J132) -> 0 | L133: =SUM(L109:L132) -> 20226200 | N133: TOTAL
A134: 01010106 행정동 6호기 | Q134: 01010106
A135: BEAM PULLY ASY | B135: STD41-15BA | C135: EA | D135: 1 | E135: =TRUNC(단가대비표!O5,0) -> 7417000 | F135: =TRUNC(E135*D135, 0) -> 7417000 | G135: =TRUNC(단가대비표!P5,0) -> 0 | H135: =TRUNC(G135*D135, 0) -> 0 | I135: =TRUNC(단가대비표!V5,0) -> 0 | J135: =TRUNC(I135*D135, 0) -> 0 | K135: =TRUNC(E135+G135+I135, 0) -> 7417000 | L135: =TRUNC(F135+H135+J135, 0) -> 7417000 | N135: 566B22A16AAA4669E5B11AEA2E41E8F867131A | Q135: 01010106 | R135: F | S135: F | T135: T | AU135: 01010106566B22A16AAA4669E5B11AEA2E41E8F867131A | AV135: 68
A136: CAR PULLY ASY(2655C) | B136: 2655C, D12*6, D:550 | C136: EA | D136: 1 | E136: =TRUNC(단가대비표!O6,0) -> 2622000 | F136: =TRUNC(E136*D136, 0) -> 2622000 | G136: =TRUNC(단가대비표!P6,0) -> 0 | H136: =TRUNC(G136*D136, 0) -> 0 | I136: =TRUNC(단가대비표!V6,0) -> 0 | J136: =TRUNC(I136*D136, 0) -> 0 | K136: =TRUNC(E136+G136+I136, 0) -> 2622000 | L136: =TRUNC(F136+H136+J136, 0) -> 2622000 | N136: 566B22A16AAA4669E5B11AEA2E41E8F8671273 | Q136: 01010106 | R136: F | S136: F | T136: T | AU136: 01010106566B22A16AAA4669E5B11AEA2E41E8F8671273 | AV136: 69
A137: WIRE ROPE | B137: D12, E종, OTIS 전용, GOV. ROPE | C137: MT | D137: 227 | E137: =TRUNC(단가대비표!O13,0) -> 4400 | F137: =TRUNC(E137*D137, 0) -> 998800 | G137: =TRUNC(단가대비표!P13,0) -> 0 | H137: =TRUNC(G137*D137, 0) -> 0 | I137: =TRUNC(단가대비표!V13,0) -> 0 | J137: =TRUNC(I137*D137, 0) -> 0 | K137: =TRUNC(E137+G137+I137, 0) -> 4400 | L137: =TRUNC(F137+H137+J137, 0) -> 998800 | N137: 566B22A16AAA4669E5B11AEA2E41E8F8671A49 | Q137: 01010106 | R137: F | S137: F | T137: T | AU137: 01010106566B22A16AAA4669E5B11AEA2E41E8F8671A49 | AV137: 71
A138: WORKING BOBBIN PACK | B138: 660*660*450(표준) | C138: EA | D138: 1 | E138: =TRUNC(단가대비표!O14,0) -> 253000 | F138: =TRUNC(E138*D138, 0) -> 253000 | G138: =TRUNC(단가대비표!P14,0) -> 0 | H138: =TRUNC(G138*D138, 0) -> 0 | I138: =TRUNC(단가대비표!V14,0) -> 0 | J138: =TRUNC(I138*D138, 0) -> 0 | K138: =TRUNC(E138+G138+I138, 0) -> 253000 | L138: =TRUNC(F138+H138+J138, 0) -> 253000 | N138: 566B22A16AAA4669E5B11AEA2E41E8F8660C28 | Q138: 01010106 | R138: F | S138: F | T138: T | AU138: 01010106566B22A16AAA4669E5B11AEA2E41E8F8660C28 | AV138: 72
A139: GOV. WT PULLY ASY. | B139: D-WS3,D315,PRC 전용 | C139: EA | D139: 1 | E139: =TRUNC(단가대비표!O15,0) -> 653000 | F139: =TRUNC(E139*D139, 0) -> 653000 | G139: =TRUNC(단가대비표!P15,0) -> 0 | H139: =TRUNC(G139*D139, 0) -> 0 | I139: =TRUNC(단가대비표!V15,0) -> 0 | J139: =TRUNC(I139*D139, 0) -> 0 | K139: =TRUNC(E139+G139+I139, 0) -> 653000 | L139: =TRUNC(F139+H139+J139, 0) -> 653000 | N139: 566B22A16AAA4669E5B11AEA2E41E8F8660DCF | Q139: 01010106 | R139: F | S139: F | T139: T | AU139: 01010106566B22A16AAA4669E5B11AEA2E41E8F8660DCF | AV139: 73
A140: MOHAIR TAPE | B140: 3.5T * 10mm*5 | C140: EA | D140: 24 | E140: =TRUNC(단가대비표!O18,0) -> 11000 | F140: =TRUNC(E140*D140, 0) -> 264000 | G140: =TRUNC(단가대비표!P18,0) -> 0 | H140: =TRUNC(G140*D140, 0) -> 0 | I140: =TRUNC(단가대비표!V18,0) -> 0 | J140: =TRUNC(I140*D140, 0) -> 0 | K140: =TRUNC(E140+G140+I140, 0) -> 11000 | L140: =TRUNC(F140+H140+J140, 0) -> 264000 | N140: 566B22A16AAA4669E5B11AEA2E41E8F866084D | Q140: 01010106 | R140: F | S140: F | T140: T | AU140: 01010106566B22A16AAA4669E5B11AEA2E41E8F866084D | AV140: 74
A141: POWER SUPPLY (SMPS) | B141: OTIS50-EE, 110V/+5,+15,-15 | C141: EA | D141: 2 | E141: =TRUNC(단가대비표!O19,0) -> 129000 | F141: =TRUNC(E141*D141, 0) -> 258000 | G141: =TRUNC(단가대비표!P19,0) -> 0 | H141: =TRUNC(G141*D141, 0) -> 0 | I141: =TRUNC(단가대비표!V19,0) -> 0 | J141: =TRUNC(I141*D141, 0) -> 0 | K141: =TRUNC(E141+G141+I141, 0) -> 129000 | L141: =TRUNC(F141+H141+J141, 0) -> 258000 | N141: 566B22A16AAA4669E5B11AEA2E41E8F8660954 | Q141: 01010106 | R141: F | S141: F | T141: T | AU141: 01010106566B22A16AAA4669E5B11AEA2E41E8F8660954 | AV141: 75
A142: 고급기술자 | B142: 일반공사 직종 | C142: 인 | D142: 14.2 | E142: =TRUNC(단가대비표!O20,0) -> 0 | F142: =TRUNC(E142*D142, 0) -> 0 | G142: =TRUNC(단가대비표!P20,0) -> 262000 | H142: =TRUNC(G142*D142, 0) -> 3720400 | I142: =TRUNC(단가대비표!V20,0) -> 0 | J142: =TRUNC(I142*D142, 0) -> 0 | K142: =TRUNC(E142+G142+I142, 0) -> 262000 | L142: =TRUNC(F142+H142+J142, 0) -> 3720400 | N142: 518062716FED7F624E021893B8DC123F2F5195 | Q142: 01010106 | R142: F | S142: F | T142: T | AU142: 01010106518062716FED7F624E021893B8DC123F2F5195 | AV142: 76
A159: [ 합 계 ] | F159: =SUM(F135:F158) -> 12465800 | H159: =SUM(H135:H158) -> 3720400 | J159: =SUM(J135:J158) -> 0 | L159: =SUM(L135:L158) -> 16186200 | N159: TOTAL
A160: 01010107 행정동 7호기 | Q160: 01010107
A161: SHEAVE(H309-2460)-SV | B161: H309,12*4, D600 | C161: EA | D161: 1 | E161: =TRUNC(단가대비표!O12,0) -> 2298000 | F161: =TRUNC(E161*D161, 0) -> 2298000 | G161: =TRUNC(단가대비표!P12,0) -> 0 | H161: =TRUNC(G161*D161, 0) -> 0 | I161: =TRUNC(단가대비표!V12,0) -> 0 | J161: =TRUNC(I161*D161, 0) -> 0 | K161: =TRUNC(E161+G161+I161, 0) -> 2298000 | L161: =TRUNC(F161+H161+J161, 0) -> 2298000 | N161: 566B22A16AAA4669E5B11AEA2E41E8F8671B50 | Q161: 01010107 | R161: F | S161: F | T161: T | AU161: 01010107566B22A16AAA4669E5B11AEA2E41E8F8671B50 | AV161: 78
A162: WIRE ROPE | B162: D12, E종, OTIS 전용, GOV. ROPE | C162: MT | D162: 229 | E162: =TRUNC(단가대비표!O13,0) -> 4400 | F162: =TRUNC(E162*D162, 0) -> 1007600 | G162: =TRUNC(단가대비표!P13,0) -> 0 | H162: =TRUNC(G162*D162, 0) -> 0 | I162: =TRUNC(단가대비표!V13,0) -> 0 | J162: =TRUNC(I162*D162, 0) -> 0 | K162: =TRUNC(E162+G162+I162, 0) -> 4400 | L162: =TRUNC(F162+H162+J162, 0) -> 1007600 | N162: 566B22A16AAA4669E5B11AEA2E41E8F8671A49 | Q162: 01010107 | R162: F | S162: F | T162: T | AU162: 01010107566B22A16AAA4669E5B11AEA2E41E8F8671A49 | AV162: 79
A163: WORKING BOBBIN PACK | B163: 660*660*450(표준) | C163: EA | D163: 1 | E163: =TRUNC(단가대비표!O14,0) -> 253000 | F163: =TRUNC(E163*D163, 0) -> 253000 | G163: =TRUNC(단가대비표!P14,0) -> 0 | H163: =TRUNC(G163*D163, 0) -> 0 | I163: =TRUNC(단가대비표!V14,0) -> 0 | J163: =TRUNC(I163*D163, 0) -> 0 | K163: =TRUNC(E163+G163+I163, 0) -> 253000 | L163: =TRUNC(F163+H163+J163, 0) -> 253000 | N163: 566B22A16AAA4669E5B11AEA2E41E8F8660C28 | Q163: 01010107 | R163: F | S163: F | T163: T | AU163: 01010107566B22A16AAA4669E5B11AEA2E41E8F8660C28 | AV163: 80
A164: GOV. WT PULLY ASY. | B164: D-WS3,D315,PRC 전용 | C164: EA | D164: 1 | E164: =TRUNC(단가대비표!O15,0) -> 653000 | F164: =TRUNC(E164*D164, 0) -> 653000 | G164: =TRUNC(단가대비표!P15,0) -> 0 | H164: =TRUNC(G164*D164, 0) -> 0 | I164: =TRUNC(단가대비표!V15,0) -> 0 | J164: =TRUNC(I164*D164, 0) -> 0 | K164: =TRUNC(E164+G164+I164, 0) -> 653000 | L164: =TRUNC(F164+H164+J164, 0) -> 653000 | N164: 566B22A16AAA4669E5B11AEA2E41E8F8660DCF | Q164: 01010107 | R164: F | S164: F | T164: T | AU164: 01010107566B22A16AAA4669E5B11AEA2E41E8F8660DCF | AV164: 81
A165: MOHAIR TAPE | B165: 3.5T * 10mm*5 | C165: EA | D165: 25 | E165: =TRUNC(단가대비표!O18,0) -> 11000 | F165: =TRUNC(E165*D165, 0) -> 275000 | G165: =TRUNC(단가대비표!P18,0) -> 0 | H165: =TRUNC(G165*D165, 0) -> 0 | I165: =TRUNC(단가대비표!V18,0) -> 0 | J165: =TRUNC(I165*D165, 0) -> 0 | K165: =TRUNC(E165+G165+I165, 0) -> 11000 | L165: =TRUNC(F165+H165+J165, 0) -> 275000 | N165: 566B22A16AAA4669E5B11AEA2E41E8F866084D | Q165: 01010107 | R165: F | S165: F | T165: T | AU165: 01010107566B22A16AAA4669E5B11AEA2E41E8F866084D | AV165: 82
A166: 고급기술자 | B166: 일반공사 직종 | C166: 인 | D166: 8.4 | E166: =TRUNC(단가대비표!O20,0) -> 0 | F166: =TRUNC(E166*D166, 0) -> 0 | G166: =TRUNC(단가대비표!P20,0) -> 262000 | H166: =TRUNC(G166*D166, 0) -> 2200800 | I166: =TRUNC(단가대비표!V20,0) -> 0 | J166: =TRUNC(I166*D166, 0) -> 0 | K166: =TRUNC(E166+G166+I166, 0) -> 262000 | L166: =TRUNC(F166+H166+J166, 0) -> 2200800 | N166: 518062716FED7F624E021893B8DC123F2F5195 | Q166: 01010107 | R166: F | S166: F | T166: T | AU166: 01010107518062716FED7F624E021893B8DC123F2F5195 | AV166: 83
A185: [ 합 계 ] | F185: =SUM(F161:F184) -> 4486600 | H185: =SUM(H161:H184) -> 2200800 | J185: =SUM(J161:J184) -> 0 | L185: =SUM(L161:L184) -> 6687400 | N185: TOTAL
A186: 01010201 의회동 1호기 | Q186: 01010201
A187: MOHAIR TAPE | B187: 3.5T * 10mm*5 | C187: EA | D187: 8 | E187: =TRUNC(단가대비표!O18,0) -> 11000 | F187: =TRUNC(E187*D187, 0) -> 88000 | G187: =TRUNC(단가대비표!P18,0) -> 0 | H187: =TRUNC(G187*D187, 0) -> 0 | I187: =TRUNC(단가대비표!V18,0) -> 0 | J187: =TRUNC(I187*D187, 0) -> 0 | K187: =TRUNC(E187+G187+I187, 0) -> 11000 | L187: =TRUNC(F187+H187+J187, 0) -> 88000 | N187: 566B22A16AAA4669E5B11AEA2E41E8F866084D | Q187: 01010201 | R187: F | S187: F | T187: T | AU187: 01010201566B22A16AAA4669E5B11AEA2E41E8F866084D | AV187: 87
A188: 고급기술자 | B188: 일반공사 직종 | C188: 인 | D188: 0.4 | E188: =TRUNC(단가대비표!O20,0) -> 0 | F188: =TRUNC(E188*D188, 0) -> 0 | G188: =TRUNC(단가대비표!P20,0) -> 262000 | H188: =TRUNC(G188*D188, 0) -> 104800 | I188: =TRUNC(단가대비표!V20,0) -> 0 | J188: =TRUNC(I188*D188, 0) -> 0 | K188: =TRUNC(E188+G188+I188, 0) -> 262000 | L188: =TRUNC(F188+H188+J188, 0) -> 104800 | N188: 518062716FED7F624E021893B8DC123F2F5195 | Q188: 01010201 | R188: F | S188: F | T188: T | AU188: 01010201518062716FED7F624E021893B8DC123F2F5195 | AV188: 88
A211: [ 합 계 ] | F211: =SUM(F187:F210) -> 88000 | H211: =SUM(H187:H210) -> 104800 | J211: =SUM(J187:J210) -> 0 | L211: =SUM(L187:L210) -> 192800 | N211: TOTAL
A212: 01010202 의회동 2호기 | Q212: 01010202
A213: MOHAIR TAPE | B213: 3.5T * 10mm*5 | C213: EA | D213: 9 | E213: =TRUNC(단가대비표!O18,0) -> 11000 | F213: =TRUNC(E213*D213, 0) -> 99000 | G213: =TRUNC(단가대비표!P18,0) -> 0 | H213: =TRUNC(G213*D213, 0) -> 0 | I213: =TRUNC(단가대비표!V18,0) -> 0 | J213: =TRUNC(I213*D213, 0) -> 0 | K213: =TRUNC(E213+G213+I213, 0) -> 11000 | L213: =TRUNC(F213+H213+J213, 0) -> 99000 | N213: 566B22A16AAA4669E5B11AEA2E41E8F866084D | Q213: 01010202 | R213: F | S213: F | T213: T | AU213: 01010202566B22A16AAA4669E5B11AEA2E41E8F866084D | AV213: 90
A214: 고급기술자 | B214: 일반공사 직종 | C214: 인 | D214: 0.4 | E214: =TRUNC(단가대비표!O20,0) -> 0 | F214: =TRUNC(E214*D214, 0) -> 0 | G214: =TRUNC(단가대비표!P20,0) -> 262000 | H214: =TRUNC(G214*D214, 0) -> 104800 | I214: =TRUNC(단가대비표!V20,0) -> 0 | J214: =TRUNC(I214*D214, 0) -> 0 | K214: =TRUNC(E214+G214+I214, 0) -> 262000 | L214: =TRUNC(F214+H214+J214, 0) -> 104800 | N214: 518062716FED7F624E021893B8DC123F2F5195 | Q214: 01010202 | R214: F | S214: F | T214: T | AU214: 01010202518062716FED7F624E021893B8DC123F2F5195 | AV214: 91
A237: [ 합 계 ] | F237: =SUM(F213:F236) -> 99000 | H237: =SUM(H213:H236) -> 104800 | J237: =SUM(J213:J236) -> 0 | L237: =SUM(L213:L236) -> 203800 | N237: TOTAL
A238: 01010203 의회동 3호기 | Q238: 01010203
A239: MOHAIR TAPE | B239: 3.5T * 10mm*5 | C239: EA | D239: 7 | E239: =TRUNC(단가대비표!O18,0) -> 11000 | F239: =TRUNC(E239*D239, 0) -> 77000 | G239: =TRUNC(단가대비표!P18,0) -> 0 | H239: =TRUNC(G239*D239, 0) -> 0 | I239: =TRUNC(단가대비표!V18,0) -> 0 | J239: =TRUNC(I239*D239, 0) -> 0 | K239: =TRUNC(E239+G239+I239, 0) -> 11000 | L239: =TRUNC(F239+H239+J239, 0) -> 77000 | N239: 566B22A16AAA4669E5B11AEA2E41E8F866084D | Q239: 01010203 | R239: F | S239: F | T239: T | AU239: 01010203566B22A16AAA4669E5B11AEA2E41E8F866084D | AV239: 93
A240: 고급기술자 | B240: 일반공사 직종 | C240: 인 | D240: 0.32 | E240: =TRUNC(단가대비표!O20,0) -> 0 | F240: =TRUNC(E240*D240, 0) -> 0 | G240: =TRUNC(단가대비표!P20,0) -> 262000 | H240: =TRUNC(G240*D240, 0) -> 83840 | I240: =TRUNC(단가대비표!V20,0) -> 0 | J240: =TRUNC(I240*D240, 0) -> 0 | K240: =TRUNC(E240+G240+I240, 0) -> 262000 | L240: =TRUNC(F240+H240+J240, 0) -> 83840 | N240: 518062716FED7F624E021893B8DC123F2F5195 | Q240: 01010203 | R240: F | S240: F | T240: T | AU240: 01010203518062716FED7F624E021893B8DC123F2F5195 | AV240: 94
A263: [ 합 계 ] | F263: =SUM(F239:F262) -> 77000 | H263: =SUM(H239:H262) -> 83840 | J263: =SUM(J239:J262) -> 0 | L263: =SUM(L239:L262) -> 160840 | N263: TOTAL
A264: 01010301 민원동 1호기 | Q264: 01010301
A265: WIRE ROPE | B265: D12, A종, OTIS 전용, MAIN ROP. | C265: MT | D265: 200 | E265: =TRUNC(단가대비표!O8,0) -> 5500 | F265: =TRUNC(E265*D265, 0) -> 1100000 | G265: =TRUNC(단가대비표!P8,0) -> 0 | H265: =TRUNC(G265*D265, 0) -> 0 | I265: =TRUNC(단가대비표!V8,0) -> 0 | J265: =TRUNC(I265*D265, 0) -> 0 | K265: =TRUNC(E265+G265+I265, 0) -> 5500 | L265: =TRUNC(F265+H265+J265, 0) -> 1100000 | N265: 566B22A16AAA4669E5B11AEA2E41E8F86717F5 | Q265: 01010301 | R265: F | S265: F | T265: T | AU265: 01010301566B22A16AAA4669E5B11AEA2E41E8F86717F5 | AV265: 97
A266: 바베트(2P) | B266: #6종[1KG단위] | C266: EA | D266: 6 | E266: =TRUNC(단가대비표!O9,0) -> 18000 | F266: =TRUNC(E266*D266, 0) -> 108000 | G266: =TRUNC(단가대비표!P9,0) -> 0 | H266: =TRUNC(G266*D266, 0) -> 0 | I266: =TRUNC(단가대비표!V9,0) -> 0 | J266: =TRUNC(I266*D266, 0) -> 0 | K266: =TRUNC(E266+G266+I266, 0) -> 18000 | L266: =TRUNC(F266+H266+J266, 0) -> 108000 | N266: 566B22A16AAA4669E5B11AEA2E41E8F86716EE | Q266: 01010301 | R266: F | S266: F | T266: T | AU266: 01010301566B22A16AAA4669E5B11AEA2E41E8F86716EE | AV266: 98
A267: SHEAVE(2650) | B267: H4388/H4228 | C267: EA | D267: 1 | E267: =TRUNC(단가대비표!O10,0) -> 2584000 | F267: =TRUNC(E267*D267, 0) -> 2584000 | G267: =TRUNC(단가대비표!P10,0) -> 0 | H267: =TRUNC(G267*D267, 0) -> 0 | I267: =TRUNC(단가대비표!V10,0) -> 0 | J267: =TRUNC(I267*D267, 0) -> 0 | K267: =TRUNC(E267+G267+I267, 0) -> 2584000 | L267: =TRUNC(F267+H267+J267, 0) -> 2584000 | N267: 566B22A16AAA4669E5B11AEA2E41E8F86715C7 | Q267: 01010301 | R267: F | S267: F | T267: T | AU267: 01010301566B22A16AAA4669E5B11AEA2E41E8F86715C7 | AV267: 99
A268: MOHAIR TAPE | B268: 3.5T * 10mm*5 | C268: EA | D268: 7 | E268: =TRUNC(단가대비표!O18,0) -> 11000 | F268: =TRUNC(E268*D268, 0) -> 77000 | G268: =TRUNC(단가대비표!P18,0) -> 0 | H268: =TRUNC(G268*D268, 0) -> 0 | I268: =TRUNC(단가대비표!V18,0) -> 0 | J268: =TRUNC(I268*D268, 0) -> 0 | K268: =TRUNC(E268+G268+I268, 0) -> 11000 | L268: =TRUNC(F268+H268+J268, 0) -> 77000 | N268: 566B22A16AAA4669E5B11AEA2E41E8F866084D | Q268: 01010301 | R268: F | S268: F | T268: T | AU268: 01010301566B22A16AAA4669E5B11AEA2E41E8F866084D | AV268: 102
A269: 고급기술자 | B269: 일반공사 직종 | C269: 인 | D269: 10.33 | E269: =TRUNC(단가대비표!O20,0) -> 0 | F269: =TRUNC(E269*D269, 0) -> 0 | G269: =TRUNC(단가대비표!P20,0) -> 262000 | H269: =TRUNC(G269*D269, 0) -> 2706460 | I269: =TRUNC(단가대비표!V20,0) -> 0 | J269: =TRUNC(I269*D269, 0) -> 0 | K269: =TRUNC(E269+G269+I269, 0) -> 262000 | L269: =TRUNC(F269+H269+J269, 0) -> 2706460 | N269: 518062716FED7F624E021893B8DC123F2F5195 | Q269: 01010301 | R269: F | S269: F | T269: T | AU269: 01010301518062716FED7F624E021893B8DC123F2F5195 | AV269: 103
A289: [ 합 계 ] | F289: =SUM(F265:F288) -> 3869000 | H289: =SUM(H265:H288) -> 2706460 | J289: =SUM(J265:J288) -> 0 | L289: =SUM(L265:L288) -> 6575460 | N289: TOTAL
A290: 01010302 의회동 2호기 | Q290: 01010302
A291: WIRE ROPE | B291: D12, A종, OTIS 전용, MAIN ROP. | C291: MT | D291: 140 | E291: =TRUNC(단가대비표!O8,0) -> 5500 | F291: =TRUNC(E291*D291, 0) -> 770000 | G291: =TRUNC(단가대비표!P8,0) -> 0 | H291: =TRUNC(G291*D291, 0) -> 0 | I291: =TRUNC(단가대비표!V8,0) -> 0 | J291: =TRUNC(I291*D291, 0) -> 0 | K291: =TRUNC(E291+G291+I291, 0) -> 5500 | L291: =TRUNC(F291+H291+J291, 0) -> 770000 | N291: 566B22A16AAA4669E5B11AEA2E41E8F86717F5 | Q291: 01010302 | R291: F | S291: F | T291: T | AU291: 01010302566B22A16AAA4669E5B11AEA2E41E8F86717F5 | AV291: 105
A292: 바베트(2P) | B292: #6종[1KG단위] | C292: EA | D292: 5 | E292: =TRUNC(단가대비표!O9,0) -> 18000 | F292: =TRUNC(E292*D292, 0) -> 90000 | G292: =TRUNC(단가대비표!P9,0) -> 0 | H292: =TRUNC(G292*D292, 0) -> 0 | I292: =TRUNC(단가대비표!V9,0) -> 0 | J292: =TRUNC(I292*D292, 0) -> 0 | K292: =TRUNC(E292+G292+I292, 0) -> 18000 | L292: =TRUNC(F292+H292+J292, 0) -> 90000 | N292: 566B22A16AAA4669E5B11AEA2E41E8F86716EE | Q292: 01010302 | R292: F | S292: F | T292: T | AU292: 01010302566B22A16AAA4669E5B11AEA2E41E8F86716EE | AV292: 106
A293: SHEAVE | B293: TKL 2560(TAPER) | C293: EA | D293: 1 | E293: =TRUNC(단가대비표!O11,0) -> 1866000 | F293: =TRUNC(E293*D293, 0) -> 1866000 | G293: =TRUNC(단가대비표!P11,0) -> 0 | H293: =TRUNC(G293*D293, 0) -> 0 | I293: =TRUNC(단가대비표!V11,0) -> 0 | J293: =TRUNC(I293*D293, 0) -> 0 | K293: =TRUNC(E293+G293+I293, 0) -> 1866000 | L293: =TRUNC(F293+H293+J293, 0) -> 1866000 | N293: 566B22A16AAA4669E5B11AEA2E41E8F8671421 | Q293: 01010302 | R293: F | S293: F | T293: T | AU293: 01010302566B22A16AAA4669E5B11AEA2E41E8F8671421 | AV293: 100
A294: MOHAIR TAPE | B294: 3.5T * 10mm*5 | C294: EA | D294: 5 | E294: =TRUNC(단가대비표!O18,0) -> 11000 | F294: =TRUNC(E294*D294, 0) -> 55000 | G294: =TRUNC(단가대비표!P18,0) -> 0 | H294: =TRUNC(G294*D294, 0) -> 0 | I294: =TRUNC(단가대비표!V18,0) -> 0 | J294: =TRUNC(I294*D294, 0) -> 0 | K294: =TRUNC(E294+G294+I294, 0) -> 11000 | L294: =TRUNC(F294+H294+J294, 0) -> 55000 | N294: 566B22A16AAA4669E5B11AEA2E41E8F866084D | Q294: 01010302 | R294: F | S294: F | T294: T | AU294: 01010302566B22A16AAA4669E5B11AEA2E41E8F866084D | AV294: 108
A295: 고급기술자 | B295: 일반공사 직종 | C295: 인 | D295: 6.15 | E295: =TRUNC(단가대비표!O20,0) -> 0 | F295: =TRUNC(E295*D295, 0) -> 0 | G295: =TRUNC(단가대비표!P20,0) -> 262000 | H295: =TRUNC(G295*D295, 0) -> 1611300 | I295: =TRUNC(단가대비표!V20,0) -> 0 | J295: =TRUNC(I295*D295, 0) -> 0 | K295: =TRUNC(E295+G295+I295, 0) -> 262000 | L295: =TRUNC(F295+H295+J295, 0) -> 1611300 | N295: 518062716FED7F624E021893B8DC123F2F5195 | Q295: 01010302 | R295: F | S295: F | T295: T | AU295: 01010302518062716FED7F624E021893B8DC123F2F5195 | AV295: 107
A315: [ 합 계 ] | F315: =SUM(F291:F314) -> 2781000 | H315: =SUM(H291:H314) -> 1611300 | J315: =SUM(J291:J314) -> 0 | L315: =SUM(L291:L314) -> 4392300 | N315: TOTAL
...

Sheet 단가대비표
A1: 단 가 대 비 표
A2: [ 청사 승강기 노후부품 교체공사 ]
A3: 코 드 | B3: 품 명 | C3: 규격 | D3: 단위 | E3: 재 료 비 | P3: 노 무 비 | Q3: 경 비 | W3: 번 호 | X3: 비 고 | Y3: 품목구분 | Z3: 노임구분 | AA3: 소수점처리 | AB3: 자재구분
E4: 가격정보 | F4: PAGE | G4: 거래가격 | H4: PAGE | I4: 유통물가 | J4: PAGE | K4: 물가자료 | L4: PAGE | M4: 조사가격 | N4: PAGE | O4: 적용단가 | Q4: 가격정보 | R4: 거래가격 | S4: 유통물가 | T4: 물가자료 | U4: 조사가격 | V4: 적용단가
A5: 566B22A16AAA4669E5B11AEA2E41E8F867131A | B5: BEAM PULLY ASY | C5: STD41-15BA | D5: EA | E5: 0 | G5: 0 | I5: 0 | K5: 0 | M5: 7417000 | N5: 오티스 | O5: =SMALL(E5:M5,COUNTIF(E5:M5,0)+1) -> 7417000 | P5: 0 | Q5: 0 | R5: 0 | S5: 0 | T5: 0 | U5: 0 | V5: 0 | W5: 자재 1
A6: 566B22A16AAA4669E5B11AEA2E41E8F8671273 | B6: CAR PULLY ASY(2655C) | C6: 2655C, D12*6, D:550 | D6: EA | E6: 0 | G6: 0 | I6: 0 | K6: 0 | M6: 2622000 | N6: 오티스 | O6: =SMALL(E6:M6,COUNTIF(E6:M6,0)+1) -> 2622000 | P6: 0 | Q6: 0 | R6: 0 | S6: 0 | T6: 0 | U6: 0 | V6: 0 | W6: 자재 2
A7: 566B22A16AAA4669E5B11AEA2E41E8F8671046 | B7: CWT PULLY ASY(2655W) | C7: 2655W, D12*6, D:550, KP=212 | D7: EA | E7: 0 | G7: 0 | I7: 0 | K7: 0 | M7: 2468000 | N7: 오티스 | O7: =SMALL(E7:M7,COUNTIF(E7:M7,0)+1) -> 2468000 | P7: 0 | Q7: 0 | R7: 0 | S7: 0 | T7: 0 | U7: 0 | V7: 0 | W7: 자재 3
A8: 566B22A16AAA4669E5B11AEA2E41E8F86717F5 | B8: WIRE ROPE | C8: D12, A종, OTIS 전용, MAIN ROP. | D8: MT | E8: 0 | G8: 0 | I8: 0 | K8: 0 | M8: 5500 | N8: 오티스 | O8: =SMALL(E8:M8,COUNTIF(E8:M8,0)+1) -> 5500 | P8: 0 | Q8: 0 | R8: 0 | S8: 0 | T8: 0 | U8: 0 | V8: 0 | W8: 자재 4
A9: 566B22A16AAA4669E5B11AEA2E41E8F86716EE | B9: 바베트(2P) | C9: #6종[1KG단위] | D9: EA | E9: 0 | G9: 0 | I9: 0 | K9: 0 | M9: 18000 | N9: 오티스 | O9: =SMALL(E9:M9,COUNTIF(E9:M9,0)+1) -> 18000 | P9: 0 | Q9: 0 | R9: 0 | S9: 0 | T9: 0 | U9: 0 | V9: 0 | W9: 자재 5
A10: 566B22A16AAA4669E5B11AEA2E41E8F86715C7 | B10: SHEAVE(2650) | C10: H4388/H4228 | D10: EA | E10: 0 | G10: 0 | I10: 0 | K10: 0 | M10: 2584000 | N10: 오티스 | O10: =SMALL(E10:M10,COUNTIF(E10:M10,0)+1) -> 2584000 | P10: 0 | Q10: 0 | R10: 0 | S10: 0 | T10: 0 | U10: 0 | V10: 0 | W10: 자재 6
A11: 566B22A16AAA4669E5B11AEA2E41E8F8671421 | B11: SHEAVE | C11: TKL 2560(TAPER) | D11: EA | E11: 0 | G11: 0 | I11: 0 | K11: 0 | M11: 1866000 | N11: 오티스 | O11: =SMALL(E11:M11,COUNTIF(E11:M11,0)+1) -> 1866000 | P11: 0 | Q11: 0 | R11: 0 | S11: 0 | T11: 0 | U11: 0 | V11: 0 | W11: 자재 7
A12: 566B22A16AAA4669E5B11AEA2E41E8F8671B50 | B12: SHEAVE(H309-2460)-SV | C12: H309,12*4, D600 | D12: EA | E12: 0 | G12: 0 | I12: 0 | K12: 0 | M12: 2298000 | N12: 오티스 | O12: =SMALL(E12:M12,COUNTIF(E12:M12,0)+1) -> 2298000 | P12: 0 | Q12: 0 | R12: 0 | S12: 0 | T12: 0 | U12: 0 | V12: 0 | W12: 자재 8
A13: 566B22A16AAA4669E5B11AEA2E41E8F8671A49 | B13: WIRE ROPE | C13: D12, E종, OTIS 전용, GOV. ROPE | D13: MT | E13: 0 | G13: 0 | I13: 0 | K13: 0 | M13: 4400 | N13: 오티스 | O13: =SMALL(E13:M13,COUNTIF(E13:M13,0)+1) -> 4400 | P13: 0 | Q13: 0 | R13: 0 | S13: 0 | T13: 0 | U13: 0 | V13: 0 | W13: 자재 9
A14: 566B22A16AAA4669E5B11AEA2E41E8F8660C28 | B14: WORKING BOBBIN PACK | C14: 660*660*450(표준) | D14: EA | E14: 0 | G14: 0 | I14: 0 | K14: 0 | M14: 253000 | N14: 오티스 | O14: =SMALL(E14:M14,COUNTIF(E14:M14,0)+1) -> 253000 | P14: 0 | Q14: 0 | R14: 0 | S14: 0 | T14: 0 | U14: 0 | V14: 0 | W14: 자재 10
A15: 566B22A16AAA4669E5B11AEA2E41E8F8660DCF | B15: GOV. WT PULLY ASY. | C15: D-WS3,D315,PRC 전용 | D15: EA | E15: 0 | G15: 0 | I15: 0 | K15: 0 | M15: 653000 | N15: 오티스 | O15: =SMALL(E15:M15,COUNTIF(E15:M15,0)+1) -> 653000 | P15: 0 | Q15: 0 | R15: 0 | S15: 0 | T15: 0 | U15: 0 | V15: 0 | W15: 자재 11
A16: 566B22A16AAA4669E5B11AEA2E41E8F8660ED6 | B16: C, R, W PULLY ASY. | C16: 6671 | D16: EA | E16: 0 | G16: 0 | I16: 0 | K16: 0 | M16: 9999000 | N16: 오티스 | O16: =SMALL(E16:M16,COUNTIF(E16:M16,0)+1) -> 9999000 | P16: 0 | Q16: 0 | R16: 0 | S16: 0 | T16: 0 | U16: 0 | V16: 0 | W16: 자재 12
... A19: 566B22A16AAA4669E5B11AEA2E41E8F8660954 | B19: POWER SUPPLY (SMPS) | C19: OTIS50-EE, 110V/+5,+15,-15 | D19: EA | E19: 0 | G19: 0 | I19: 0 | K19: 0 | M19: 129000 | N19: 오티스 | O19: =SMALL(E19:M19,COUNTIF(E19:M19,0)+1) -> 129000 | P19: 0 | Q19: 0 | R19: 0 | S19: 0 | T19: 0 | U19: 0 | V19: 0 | W19: 자재 15
A20: 518062716FED7F624E021893B8DC123F2F5195 | B20: 고급기술자 | C20: 일반공사 직종 | D20: 인 | E20: 0 | G20: 0 | I20: 0 | K20: 0 | M20: 0 | O20: 0 | P20: 262000 | Q20: 0 | R20: 0 | S20: 0 | T20: 0 | U20: 0 | V20: 0 | W20: 노임 1 | Y20: B

Sheet  공사설정 
A1: 이 Sheet는 수정하지 마십시요
A2: 공사구분 | B2: C
A3: 확정내역 | B3: 원내역
A4: 자재단가적용 | B4: 5
A5: 경비단가적용 | B5: 5
A6: 품목코드형식 | B6: XXXX-XXXX-XXXXXXXXX
A7: 내역금액소수점처리 | B7: C | C7: 1
A8: 일위대가내역소수점처리 | B8: C | C8: 2
A9: 단가명 | B9: 가격정보 | C9: 거래가격 | D9: 유통물가 | E9: 물가자료 | F9: 조사가격 | G9: TTTTT
A10: 환율 | B10: 1099 | C10: 0 | D10: 0
A11: 시간당작업량 | B11: R | C11: 4
A12: 1회 사이클시간 | B12: R | C12: 4
A13: 시간당 작업사이클 | B13: R | C13: 3
A14: 일반변수 | B14: C | C14: 5
A15: 시간당 노임산출 계수 | B15: A | C15: 1/8*16/12*25/20 | D15: 1/8*16/12*25/20 | E15: 1/8*16/12*25/20 | F15: 1
A16: 재료비 할증 계수 | B16: 1.11 | C16: 1.12
A17: 노무비 할증 계수 | B17: 1 | C17: 1.5 | D17: 1.16 | E17: 1.6 | F17: 1.6 | G17: 1.6 | H17: 1.94 | I17: 1.94 | J17: 1.94 | K17: 1 | L17: 1 | M17: 1
A18: 경비 할증 계수 | B18: 1.25 | C18: 1.071
A19: 내역,일위대가 품명,규격,단위 따로적용
A20: 내역단가 소수점처리 | B20: C | C20: 1
A21: 코드 | B21: 공종구분명 | C21: 원가비목코드
A22: 1 | B22: 작 업 부 산 물 | C22: A3
A23: 2 | B23: 운 반 비 | C23: C1
A24: 3 | B24: 관 급 자 재 비 | C24: DJ
A25: 4 | B25: 사 급 자 재 비 | C25: D3
A26: 5 | B26: 외 자 재
A27: 6 | B27: ...
A28: 7 | B28: ...
A29: 8 | B29: ...
A30: 9 | B30: ...

Sheet Sheet1
