Workbook

Sheet 표지
A1: #1.내역서
A7: 종합의료복합단지(2단계)
A9: 화물용 엘리베이터 구매
A12: ( 내 역 서 )

Sheet 총괄집계표
A1: 총 괄 집 계 표
A2: ="공사명 : "&표지!$A$7&" "&표지!$A$9 -> 공사명 : 종합의료복합단지(2단계) 화물용 엘리베이터 구매
A3: 항 목 | B3: 구 분 | G3: 금 액 | H3: 구성비 | I3: 요율 (%) | J3: 비 고
A4: 순 공 사 비 | B4: 재료비 | E4: 직접재료비 | G4: =내역서!F5 -> 0
E6: 소계 | G6: =SUM(G4:G5) -> 0
B7: 노무비 | E7: 직접노무비 | G7: =내역서!H5 -> 0
E8: 공구손료
E9: 간접노무비
E10: 소계 | G10: =SUM(G7:G9) -> 0
B11: 계 | G11: =SUM(G6,G10) -> 0
B12: 경 비 | E12: 산재보험료 | G12: =ROUND((G7+G9)*$I$12,) -> 0 | H12: (직접노무비+간접노무비)*보험요율 | I12: 0.0375
E13: 안전관리비
E14: 고용보험료 | G14: 74820 | H14: (직접노무비+간접노무비)*보험요율 | I14: 0.0087
E15: 건강보험료 | G15: 277780 | H15: 직접노무비 * 보험요율 | I15: 0.0323
E16: 노인장기요양보험료 | G16: 23639 | H16: 건강보험료 * 보험요율 | I16: 0.0851
E17: 연금보험료 | G17: 387000 | H17: 직접노무비 * 보험요율 | I17: 0.045
E18: 기 타 경 비
E19: 소계 | G19: =SUM(G12:G18) -> 763239
A20: 순 공 사 비 | G20: =SUM(G11,G19) -> 763239
A21: 일반관리비
A22: 이 윤
A23: 합 계 | G23: =SUM(G20:G22) -> 763239 | H23: 재료비+노무비
A24: 부가가치세 | G24: =INT(G23*10%) -> 76323 | H24: (합계) 의 | I24: 0.1
A25: 총 공 사 비 | G25: =SUM(G22:G24) -> 839562

Sheet 내역서
A1: 내 역 서
A2: ="공사명 : "&표지!$A$7&" "&표지!$A$9 -> 공사명 : 종합의료복합단지(2단계) 화물용 엘리베이터 구매
A3: 품 명 | B3: 규 격 | C3: 단위 | D3: 수량 | E3: 재 료 비 | G3: 노 무 비 | I3: 총 계 | J3: 비고
E4: 단 가 | F4: 금 액 | G4: 단 가 | H4: 금 액 | I4: 금 액
A5: 화물용 엘리베이터 | B5: 3,000㎏, 30m/min, 2개층 | C5: 대 | D5: 1 | F5: =D5*E5 -> 0 | H5: =D5*G5 -> 0 | I5: =H5+F5 -> 0
A27: [ 총 계 ] | F27: =SUM(F5:F26) -> 0 | H27: =SUM(H5:H26) -> 0 | I27: =H27+F27 -> 0

Sheet 품목별 분류
A1: 내 역 서
A2: ="공사명 : "&표지!$A$7&" "&표지!$A$9 -> 공사명 : 종합의료복합단지(2단계) 화물용 엘리베이터 구매
A4: 품 명 | B4: 규 격 | C4: 단위 | D4: 변경 전 | J4: 변경 후 | P4: 증감 비교 | R4: 비고
D5: 수량 | E5: 재 료 비 | G5: 노 무 비 | I5: 총 계 | J5: 수량 | K5: 재 료 비 | M5: 노 무 비 | O5: 총 계 | P5: 수량 | Q5: 증감액
E6: 단 가 | F6: 금 액 | G6: 단 가 | H6: 금 액 | I6: 금 액 | K6: 단 가 | L6: 금 액 | M6: 단 가 | N6: 금 액 | O6: 금 액
A7: 01. 녹화 및 제어부
A8: {=IF(COUNTIF(#REF!,공량산출서!$A64:$B64)<ROW(공량산출서!A$1),"",OFFSET(공량산출서!A$1,SMALL(IF(#REF!=공량산출서!$A64:$B64,ROW(공량산출서!$A64)),ROW(공량산출서!A$1))-1,))} -> #REF! | B8: {=IF(COUNTIF(#REF!,공량산출서!$A64:$B64)<ROW(공량산출서!B$1),"",OFFSET(공량산출서!B$1,SMALL(IF(#REF!=공량산출서!$A64:$B64,ROW(공량산출서!$A64)),ROW(공량산출서!B$1))-1,))} -> #REF! | C8: {=IF(COUNTIF(#REF!,공량산출서!$A64:$B64)<ROW(공량산출서!Q$1),"",OFFSET(공량산출서!Q$1,SMALL(IF(#REF!=공량산출서!$A64:$B64,ROW(공량산출서!$A64)),ROW(공량산출서!Q$1))-1,))} -> #REF! | D8: 18 | E8: 7790000 | F8: =E8*D8 -> 140220000 | G8: 102577.14 | H8: =G8*D8 -> 1846388.5 | I8: =H8+F8 -> 1.4206639e+08 | J8: {=IF(COUNTIF(#REF!,공량산출서!$A64:$B64)<ROW(공량산출서!R$1),"",OFFSET(공량산출서!R$1,SMALL(IF(#REF!=공량산출서!$A64:$B64,ROW(공량산출서!$A64)),ROW(공량산출서!R$1))-1,))} -> #REF! | K8: {=IF(COUNTIF(#REF!,공량산출서!$A64:$B64)<ROW(공량산출서!S$1),"",OFFSET(공량산출서!S$1,SMALL(IF(#REF!=공량산출서!$A64:$B64,ROW(공량산출서!$A64)),ROW(공량산출서!S$1))-1,))} -> #REF! | L8: =K8*J8 -> #REF! | M8: {=IF(COUNTIF(#REF!,공량산출서!$A64:$B64)<ROW(공량산출서!P$1),"",OFFSET(공량산출서!P$1,SMALL(IF(#REF!=공량산출서!$A64:$B64,ROW(공량산출서!$A64)),ROW(공량산출서!P$1))-1,))} -> #REF! | N8: =M8*J8 -> #REF! | O8: =N8+L8 -> #REF! | P8: =J8-D8 -> #REF! | Q8: =O8-I8 -> #REF! | R8: {=IF(COUNTIF(#REF!,공량산출서!$A64:$B64)<ROW(공량산출서!O$1),"",OFFSET(공량산출서!O$1,SMALL(IF(#REF!=공량산출서!$A64:$B64,ROW(공량산출서!$A64)),ROW(공량산출서!O$1))-1,))} -> #REF!
A9: {=IF(COUNTIF(#REF!,공량산출서!$A65:$B65)<ROW(공량산출서!A$1),"",OFFSET(공량산출서!A$1,SMALL(IF(#REF!=공량산출서!$A65:$B65,ROW(공량산출서!$A65)),ROW(공량산출서!A$1))-1,))} -> #REF! | B9: {=IF(COUNTIF(#REF!,공량산출서!$A65:$B65)<ROW(공량산출서!B$1),"",OFFSET(공량산출서!B$1,SMALL(IF(#REF!=공량산출서!$A65:$B65,ROW(공량산출서!$A65)),ROW(공량산출서!B$1))-1,))} -> #REF! | C9: {=IF(COUNTIF(#REF!,공량산출서!$A65:$B65)<ROW(공량산출서!Q$1),"",OFFSET(공량산출서!Q$1,SMALL(IF(#REF!=공량산출서!$A65:$B65,ROW(공량산출서!$A65)),ROW(공량산출서!Q$1))-1,))} -> #REF! | D9: 1 | E9: 3610000 | F9: =E9*D9 -> 3610000 | G9: 168994.26 | H9: =G9*D9 -> 168994.26 | I9: =H9+F9 -> 3778994.3 | J9: {=IF(COUNTIF(#REF!,공량산출서!$A65:$B65)<ROW(공량산출서!R$1),"",OFFSET(공량산출서!R$1,SMALL(IF(#REF!=공량산출서!$A65:$B65,ROW(공량산출서!$A65)),ROW(공량산출서!R$1))-1,))} -> #REF! | K9: {=IF(COUNTIF(#REF!,공량산출서!$A65:$B65)<ROW(공량산출서!S$1),"",OFFSET(공량산출서!S$1,SMALL(IF(#REF!=공량산출서!$A65:$B65,ROW(공량산출서!$A65)),ROW(공량산출서!S$1))-1,))} -> #REF! | L9: =K9*J9 -> #REF! | M9: {=IF(COUNTIF(#REF!,공량산출서!$A65:$B65)<ROW(공량산출서!P$1),"",OFFSET(공량산출서!P$1,SMALL(IF(#REF!=공량산출서!$A65:$B65,ROW(공량산출서!$A65)),ROW(공량산출서!P$1))-1,))} -> #REF! | N9: =M9*J9 -> #REF! | O9: =N9+L9 -> #REF! | P9: =J9-D9 -> #REF! | Q9: =O9-I9 -> #REF! | R9: {=IF(COUNTIF(#REF!,공량산출서!$A65:$B65)<ROW(공량산출서!O$1),"",OFFSET(공량산출서!O$1,SMALL(IF(#REF!=공량산출서!$A65:$B65,ROW(공량산출서!$A65)),ROW(공량산출서!O$1))-1,))} -> #REF!
A10: {=IF(COUNTIF(#REF!,공량산출서!$A66:$B66)<ROW(공량산출서!A$1),"",OFFSET(공량산출서!A$1,SMALL(IF(#REF!=공량산출서!$A66:$B66,ROW(공량산출서!$A66)),ROW(공량산출서!A$1))-1,))} -> #REF! | B10: {=IF(COUNTIF(#REF!,공량산출서!$A66:$B66)<ROW(공량산출서!B$1),"",OFFSET(공량산출서!B$1,SMALL(IF(#REF!=공량산출서!$A66:$B66,ROW(공량산출서!$A66)),ROW(공량산출서!B$1))-1,))} -> #REF! | C10: {=IF(COUNTIF(#REF!,공량산출서!$A66:$B66)<ROW(공량산출서!Q$1),"",OFFSET(공량산출서!Q$1,SMALL(IF(#REF!=공량산출서!$A66:$B66,ROW(공량산출서!$A66)),ROW(공량산출서!Q$1))-1,))} -> #REF! | D10: 8 | E10: 3610000 | F10: =E10*D10 -> 28880000 | G10: 168994.26 | H10: =G10*D10 -> 1351954.1 | I10: =H10+F10 -> 30231954 | J10: {=IF(COUNTIF(#REF!,공량산출서!$A66:$B66)<ROW(공량산출서!R$1),"",OFFSET(공량산출서!R$1,SMALL(IF(#REF!=공량산출서!$A66:$B66,ROW(공량산출서!$A66)),ROW(공량산출서!R$1))-1,))} -> #REF! | K10: {=IF(COUNTIF(#REF!,공량산출서!$A66:$B66)<ROW(공량산출서!S$1),"",OFFSET(공량산출서!S$1,SMALL(IF(#REF!=공량산출서!$A66:$B66,ROW(공량산출서!$A66)),ROW(공량산출서!S$1))-1,))} -> #REF! | L10: =K10*J10 -> #REF! | M10: {=IF(COUNTIF(#REF!,공량산출서!$A66:$B66)<ROW(공량산출서!P$1),"",OFFSET(공량산출서!P$1,SMALL(IF(#REF!=공량산출서!$A66:$B66,ROW(공량산출서!$A66)),ROW(공량산출서!P$1))-1,))} -> #REF! | N10: =M10*J10 -> #REF! | O10: =N10+L10 -> #REF! | P10: =J10-D10 -> #REF! | Q10: =O10-I10 -> #REF! | R10: {=IF(COUNTIF(#REF!,공량산출서!$A66:$B66)<ROW(공량산출서!O$1),"",OFFSET(공량산출서!O$1,SMALL(IF(#REF!=공량산출서!$A66:$B66,ROW(공량산출서!$A66)),ROW(공량산출서!O$1))-1,))} -> #REF!
A11: STORAGE SERVER | B11: 24BAY, 72TB, DAS | C11: SET | D11: 2 | E11: 39900000 | F11: =E11*D11 -> 79800000 | G11: 168994.26 | H11: =G11*D11 -> 337988.52 | I11: =H11+F11 -> 80137989 | J11: 5 | K11: 39900000 | L11: =K11*J11 -> 199500000 | M11: 168994.26 | N11: =M11*J11 -> 844971.3 | O11: =N11+L11 -> 2.0034497e+08 | P11: =J11-D11 -> 3 | Q11: =O11-I11 -> 1.2020698e+08 | R11: =공량산출서!O15 -> #REF!
A12: STORAGE SERVER | B12: 24BAY, 72TB, DAS, 확장형 | C12: SET | D12: 2 | E12: 28500000 | F12: =E12*D12 -> 57000000 | G12: 168994.26 | H12: =G12*D12 -> 337988.52 | I12: =H12+F12 -> 57337989 | J12: 0 | K12: 28500000 | L12: =K12*J12 -> 0 | M12: 168994.26 | N12: =M12*J12 -> 0 | O12: =N12+L12 -> 0 | P12: =J12-D12 -> -2 | Q12: =O12-I12 -> -57337989 | R12: =공량산출서!O15 -> #REF!
A13: =공량산출서!A14 -> #REF! | B13: =공량산출서!B14 -> #REF! | C13: =공량산출서!Q14 -> #REF! | D13: 0 | E13: 120000 | F13: =E13*D13 -> 0 | G13: 0 | H13: =G13*D13 -> 0 | I13: =H13+F13 -> 0 | J13: 104 | K13: =공량산출서!S14 -> #REF! | L13: =K13*J13 -> #REF! | M13: =공량산출서!P14 -> #REF! | N13: =M13*J13 -> #REF! | O13: =N13+L13 -> #REF! | P13: =J13-D13 -> 104 | Q13: =O13-I13 -> #REF! | R13: =공량산출서!O14 -> 노무비없음
A14: HBA CARD | B14: 1PORT | C14: EA | D14: 18 | E14: 1615000 | F14: =E14*D14 -> 29070000 | G14: 0 | H14: =G14*D14 -> 0 | I14: =H14+F14 -> 29070000 | J14: 5 | K14: 1615000 | L14: =K14*J14 -> 8075000 | M14: 0 | N14: =M14*J14 -> 0 | O14: =N14+L14 -> 8075000 | P14: =J14-D14 -> -13 | Q14: =O14-I14 -> -20995000 | R14: =공량산출서!O10 -> #REF!
A15: {=IF(COUNTIF(#REF!,공량산출서!$A60:$B60)<ROW(공량산출서!A$1),"",OFFSET(공량산출서!A$1,SMALL(IF(#REF!=공량산출서!$A60:$B60,ROW(공량산출서!$A60)),ROW(공량산출서!A$1))-1,))} -> #REF! | B15: {=IF(COUNTIF(#REF!,공량산출서!$A60:$B60)<ROW(공량산출서!B$1),"",OFFSET(공량산출서!B$1,SMALL(IF(#REF!=공량산출서!$A60:$B60,ROW(공량산출서!$A60)),ROW(공량산출서!B$1))-1,))} -> #REF! | C15: {=IF(COUNTIF(#REF!,공량산출서!$A60:$B60)<ROW(공량산출서!Q$1),"",OFFSET(공량산출서!Q$1,SMALL(IF(#REF!=공량산출서!$A60:$B60,ROW(공량산출서!$A60)),ROW(공량산출서!Q$1))-1,))} -> #REF! | D15: 0 | E15: 12000000 | F15: =E15*D15 -> 0 | G15: 168994.26 | H15: =G15*D15 -> 0 | I15: =H15+F15 -> 0 | J15: {=IF(COUNTIF(#REF!,공량산출서!$A60:$B60)<ROW(공량산출서!R$1),"",OFFSET(공량산출서!R$1,SMALL(IF(#REF!=공량산출서!$A60:$B60,ROW(공량산출서!$A60)),ROW(공량산출서!R$1))-1,))} -> #REF! | K15: {=IF(COUNTIF(#REF!,공량산출서!$A60:$B60)<ROW(공량산출서!S$1),"",OFFSET(공량산출서!S$1,SMALL(IF(#REF!=공량산출서!$A60:$B60,ROW(공량산출서!$A60)),ROW(공량산출서!S$1))-1,))} -> #REF! | L15: =K15*J15 -> #REF! | M15: {=IF(COUNTIF(#REF!,공량산출서!$A60:$B60)<ROW(공량산출서!P$1),"",OFFSET(공량산출서!P$1,SMALL(IF(#REF!=공량산출서!$A60:$B60,ROW(공량산출서!$A60)),ROW(공량산출서!P$1))-1,))} -> #REF! | N15: =M15*J15 -> #REF! | O15: =N15+L15 -> #REF! | P15: =J15-D15 -> #REF! | Q15: =O15-I15 -> #REF! | R15: {=IF(COUNTIF(#REF!,공량산출서!$A60:$B60)<ROW(공량산출서!O$1),"",OFFSET(공량산출서!O$1,SMALL(IF(#REF!=공량산출서!$A60:$B60,ROW(공량산출서!$A60)),ROW(공량산출서!O$1))-1,))} -> #REF!
A16: {=IF(COUNTIF(#REF!,공량산출서!$A61:$B61)<ROW(공량산출서!A$1),"",OFFSET(공량산출서!A$1,SMALL(IF(#REF!=공량산출서!$A61:$B61,ROW(공량산출서!$A61)),ROW(공량산출서!A$1))-1,))} -> #REF! | B16: {=IF(COUNTIF(#REF!,공량산출서!$A61:$B61)<ROW(공량산출서!B$1),"",OFFSET(공량산출서!B$1,SMALL(IF(#REF!=공량산출서!$A61:$B61,ROW(공량산출서!$A61)),ROW(공량산출서!B$1))-1,))} -> #REF! | C16: {=IF(COUNTIF(#REF!,공량산출서!$A61:$B61)<ROW(공량산출서!Q$1),"",OFFSET(공량산출서!Q$1,SMALL(IF(#REF!=공량산출서!$A61:$B61,ROW(공량산출서!$A61)),ROW(공량산출서!Q$1))-1,))} -> #REF! | D16: 2 | E16: 12350000 | F16: =E16*D16 -> 24700000 | G16: 135410.28 | H16: =G16*D16 -> 270820.56 | I16: =H16+F16 -> 24970821 | J16: {=IF(COUNTIF(#REF!,공량산출서!$A61:$B61)<ROW(공량산출서!R$1),"",OFFSET(공량산출서!R$1,SMALL(IF(#REF!=공량산출서!$A61:$B61,ROW(공량산출서!$A61)),ROW(공량산출서!R$1))-1,))} -> #REF! | K16: {=IF(COUNTIF(#REF!,공량산출서!$A61:$B61)<ROW(공량산출서!S$1),"",OFFSET(공량산출서!S$1,SMALL(IF(#REF!=공량산출서!$A61:$B61,ROW(공량산출서!$A61)),ROW(공량산출서!S$1))-1,))} -> #REF! | L16: =K16*J16 -> #REF! | M16: {=IF(COUNTIF(#REF!,공량산출서!$A61:$B61)<ROW(공량산출서!P$1),"",OFFSET(공량산출서!P$1,SMALL(IF(#REF!=공량산출서!$A61:$B61,ROW(공량산출서!$A61)),ROW(공량산출서!P$1))-1,))} -> #REF! | N16: =M16*J16 -> #REF! | O16: =N16+L16 -> #REF! | P16: =J16-D16 -> #REF! | Q16: =O16-I16 -> #REF! | R16: {=IF(COUNTIF(#REF!,공량산출서!$A61:$B61)<ROW(공량산출서!O$1),"",OFFSET(공량산출서!O$1,SMALL(IF(#REF!=공량산출서!$A61:$B61,ROW(공량산출서!$A61)),ROW(공량산출서!O$1))-1,))} -> #REF!
A17: {=IF(COUNTIF(#REF!,공량산출서!$A67:$B67)<ROW(공량산출서!A$1),"",OFFSET(공량산출서!A$1,SMALL(IF(#REF!=공량산출서!$A67:$B67,ROW(공량산출서!$A67)),ROW(공량산출서!A$1))-1,))} -> #REF! | B17: {=IF(COUNTIF(#REF!,공량산출서!$A67:$B67)<ROW(공량산출서!B$1),"",OFFSET(공량산출서!B$1,SMALL(IF(#REF!=공량산출서!$A67:$B67,ROW(공량산출서!$A67)),ROW(공량산출서!B$1))-1,))} -> #REF! | C17: {=IF(COUNTIF(#REF!,공량산출서!$A67:$B67)<ROW(공량산출서!Q$1),"",OFFSET(공량산출서!Q$1,SMALL(IF(#REF!=공량산출서!$A67:$B67,ROW(공량산출서!$A67)),ROW(공량산출서!Q$1))-1,))} -> #REF! | D17: 0 | E17: 8000000 | F17: =E17*D17 -> 0 | G17: 168994.26 | H17: =G17*D17 -> 0 | I17: =H17+F17 -> 0 | J17: {=IF(COUNTIF(#REF!,공량산출서!$A67:$B67)<ROW(공량산출서!R$1),"",OFFSET(공량산출서!R$1,SMALL(IF(#REF!=공량산출서!$A67:$B67,ROW(공량산출서!$A67)),ROW(공량산출서!R$1))-1,))} -> #REF! | K17: {=IF(COUNTIF(#REF!,공량산출서!$A67:$B67)<ROW(공량산출서!S$1),"",OFFSET(공량산출서!S$1,SMALL(IF(#REF!=공량산출서!$A67:$B67,ROW(공량산출서!$A67)),ROW(공량산출서!S$1))-1,))} -> #REF! | L17: =K17*J17 -> #REF! | M17: {=IF(COUNTIF(#REF!,공량산출서!$A67:$B67)<ROW(공량산출서!P$1),"",OFFSET(공량산출서!P$1,SMALL(IF(#REF!=공량산출서!$A67:$B67,ROW(공량산출서!$A67)),ROW(공량산출서!P$1))-1,))} -> #REF! | N17: =M17*J17 -> #REF! | O17: =N17+L17 -> #REF! | P17: =J17-D17 -> #REF! | Q17: =O17-I17 -> #REF! | R17: {=IF(COUNTIF(#REF!,공량산출서!$A67:$B67)<ROW(공량산출서!O$1),"",OFFSET(공량산출서!O$1,SMALL(IF(#REF!=공량산출서!$A67:$B67,ROW(공량산출서!$A67)),ROW(공량산출서!O$1))-1,))} -> #REF!
A18: =공량산출서!A16 -> #REF! | B18: =공량산출서!B16 -> #REF! | C18: =공량산출서!Q16 -> #REF! | D18: 0 | E18: 1615000 | F18: =E18*D18 -> 0 | G18: 168994.26 | H18: =G18*D18 -> 0 | I18: =H18+F18 -> 0 | J18: 5 | K18: =공량산출서!S16 -> #REF! | L18: =K18*J18 -> #REF! | M18: =공량산출서!P16 -> #REF! | N18: =M18*J18 -> #REF! | O18: =N18+L18 -> #REF! | P18: =J18-D18 -> 5 | Q18: =O18-I18 -> #REF! | R18: =공량산출서!O68 -> #REF!
A19: {=IF(COUNTIF(#REF!,공량산출서!$A62:$B62)<ROW(공량산출서!A$1),"",OFFSET(공량산출서!A$1,SMALL(IF(#REF!=공량산출서!$A62:$B62,ROW(공량산출서!$A62)),ROW(공량산출서!A$1))-1,))} -> #REF! | B19: {=IF(COUNTIF(#REF!,공량산출서!$A62:$B62)<ROW(공량산출서!B$1),"",OFFSET(공량산출서!B$1,SMALL(IF(#REF!=공량산출서!$A62:$B62,ROW(공량산출서!$A62)),ROW(공량산출서!B$1))-1,))} -> #REF! | C19: {=IF(COUNTIF(#REF!,공량산출서!$A62:$B62)<ROW(공량산출서!Q$1),"",OFFSET(공량산출서!Q$1,SMALL(IF(#REF!=공량산출서!$A62:$B62,ROW(공량산출서!$A62)),ROW(공량산출서!Q$1))-1,))} -> #REF! | D19: 4 | E19: 6650000 | F19: =E19*D19 -> 26600000 | G19: 168994.26 | H19: =G19*D19 -> 675977.04 | I19: =H19+F19 -> 27275977 | J19: {=IF(COUNTIF(#REF!,공량산출서!$A62:$B62)<ROW(공량산출서!R$1),"",OFFSET(공량산출서!R$1,SMALL(IF(#REF!=공량산출서!$A62:$B62,ROW(공량산출서!$A62)),ROW(공량산출서!R$1))-1,))} -> #REF! | K19: {=IF(COUNTIF(#REF!,공량산출서!$A62:$B62)<ROW(공량산출서!S$1),"",OFFSET(공량산출서!S$1,SMALL(IF(#REF!=공량산출서!$A62:$B62,ROW(공량산출서!$A62)),ROW(공량산출서!S$1))-1,))} -> #REF! | L19: =K19*J19 -> #REF! | M19: {=IF(COUNTIF(#REF!,공량산출서!$A62:$B62)<ROW(공량산출서!P$1),"",OFFSET(공량산출서!P$1,SMALL(IF(#REF!=공량산출서!$A62:$B62,ROW(공량산출서!$A62)),ROW(공량산출서!P$1))-1,))} -> #REF! | N19: =M19*J19 -> #REF! | O19: =N19+L19 -> #REF! | P19: =J19-D19 -> #REF! | Q19: =O19-I19 -> #REF! | R19: {=IF(COUNTIF(#REF!,공량산출서!$A62:$B62)<ROW(공량산출서!O$1),"",OFFSET(공량산출서!O$1,SMALL(IF(#REF!=공량산출서!$A62:$B62,ROW(공량산출서!$A62)),ROW(공량산출서!O$1))-1,))} -> #REF!
A20: {=IF(COUNTIF(#REF!,공량산출서!$A69:$B69)<ROW(공량산출서!A$1),"",OFFSET(공량산출서!A$1,SMALL(IF(#REF!=공량산출서!$A69:$B69,ROW(공량산출서!$A69)),ROW(공량산출서!A$1))-1,))} -> #REF! | B20: {=IF(COUNTIF(#REF!,공량산출서!$A69:$B69)<ROW(공량산출서!B$1),"",OFFSET(공량산출서!B$1,SMALL(IF(#REF!=공량산출서!$A69:$B69,ROW(공량산출서!$A69)),ROW(공량산출서!B$1))-1,))} -> #REF! | C20: {=IF(COUNTIF(#REF!,공량산출서!$A69:$B69)<ROW(공량산출서!Q$1),"",OFFSET(공량산출서!Q$1,SMALL(IF(#REF!=공량산출서!$A69:$B69,ROW(공량산출서!$A69)),ROW(공량산출서!Q$1))-1,))} -> #REF! | D20: 4 | E20: 5700000 | F20: =E20*D20 -> 22800000 | G20: 0 | H20: =G20*D20 -> 0 | I20: =H20+F20 -> 22800000 | J20: {=IF(COUNTIF(#REF!,공량산출서!$A69:$B69)<ROW(공량산출서!R$1),"",OFFSET(공량산출서!R$1,SMALL(IF(#REF!=공량산출서!$A69:$B69,ROW(공량산출서!$A69)),ROW(공량산출서!R$1))-1,))} -> #REF! | K20: {=IF(COUNTIF(#REF!,공량산출서!$A69:$B69)<ROW(공량산출서!S$1),"",OFFSET(공량산출서!S$1,SMALL(IF(#REF!=공량산출서!$A69:$B69,ROW(공량산출서!$A69)),ROW(공량산출서!S$1))-1,))} -> #REF! | L20: =K20*J20 -> #REF! | M20: {=IF(COUNTIF(#REF!,공량산출서!$A69:$B69)<ROW(공량산출서!P$1),"",OFFSET(공량산출서!P$1,SMALL(IF(#REF!=공량산출서!$A69:$B69,ROW(공량산출서!$A69)),ROW(공량산출서!P$1))-1,))} -> #REF! | N20: =M20*J20 -> #REF! | O20: =N20+L20 -> #REF! | P20: =J20-D20 -> #REF! | Q20: =O20-I20 -> #REF! | R20: {=IF(COUNTIF(#REF!,공량산출서!$A69:$B69)<ROW(공량산출서!O$1),"",OFFSET(공량산출서!O$1,SMALL(IF(#REF!=공량산출서!$A69:$B69,ROW(공량산출서!$A69)),ROW(공량산출서!O$1))-1,))} -> #REF!
A22: [ 소 계 ] | F22: =SUM(F8:F21) -> 412680000 | H22: =SUM(H8:H21) -> 4990111.5 | I22: =H22+F22 -> 4.1767011e+08 | L22: =SUM(L8:L21) -> #REF! | N22: =SUM(N8:N21) -> #REF! | O22: =N22+L22 -> #REF! | Q22: =SUM(Q8:Q21) -> #REF!
A23: 02. 전송부
A24: {=IF(COUNTIF(#REF!,공량산출서!$A45:$B45)<ROW(공량산출서!A$1),"",OFFSET(공량산출서!A$1,SMALL(IF(#REF!=공량산출서!$A45:$B45,ROW(공량산출서!$A45)),ROW(공량산출서!A$1))-1,))} -> #REF! | B24: {=IF(COUNTIF(#REF!,공량산출서!$A45:$B45)<ROW(공량산출서!B$1),"",OFFSET(공량산출서!B$1,SMALL(IF(#REF!=공량산출서!$A45:$B45,ROW(공량산출서!$A45)),ROW(공량산출서!B$1))-1,))} -> #REF! | C24: {=IF(COUNTIF(#REF!,공량산출서!$A45:$B45)<ROW(공량산출서!Q$1),"",OFFSET(공량산출서!Q$1,SMALL(IF(#REF!=공량산출서!$A45:$B45,ROW(공량산출서!$A45)),ROW(공량산출서!Q$1))-1,))} -> #REF! | D24: 18 | E24: 106400 | F24: =E24*D24 -> 1915200 | G24: 67540 | H24: =G24*D24 -> 1215720 | I24: =H24+F24 -> 3130920 | J24: 22 | K24: {=IF(COUNTIF(#REF!,공량산출서!$A45:$B45)<ROW(공량산출서!S$1),"",OFFSET(공량산출서!S$1,SMALL(IF(#REF!=공량산출서!$A45:$B45,ROW(공량산출서!$A45)),ROW(공량산출서!S$1))-1,))} -> #REF! | L24: =K24*J24 -> #REF! | M24: {=IF(COUNTIF(#REF!,공량산출서!$A45:$B45)<ROW(공량산출서!P$1),"",OFFSET(공량산출서!P$1,SMALL(IF(#REF!=공량산출서!$A45:$B45,ROW(공량산출서!$A45)),ROW(공량산출서!P$1))-1,))} -> #REF! | N24: =M24*J24 -> #REF! | O24: =N24+L24 -> #REF! | P24: =J24-D24 -> 4 | Q24: =O24-I24 -> #REF! | R24: {=IF(COUNTIF(#REF!,공량산출서!$A45:$B45)<ROW(공량산출서!O$1),"",OFFSET(공량산출서!O$1,SMALL(IF(#REF!=공량산출서!$A45:$B45,ROW(공량산출서!$A45)),ROW(공량산출서!O$1))-1,))} -> #REF!
A25: {=IF(COUNTIF(#REF!,공량산출서!$A50:$B50)<ROW(공량산출서!A$1),"",OFFSET(공량산출서!A$1,SMALL(IF(#REF!=공량산출서!$A50:$B50,ROW(공량산출서!$A50)),ROW(공량산출서!A$1))-1,))} -> #REF! | B25: {=IF(COUNTIF(#REF!,공량산출서!$A50:$B50)<ROW(공량산출서!B$1),"",OFFSET(공량산출서!B$1,SMALL(IF(#REF!=공량산출서!$A50:$B50,ROW(공량산출서!$A50)),ROW(공량산출서!B$1))-1,))} -> #REF! | C25: {=IF(COUNTIF(#REF!,공량산출서!$A50:$B50)<ROW(공량산출서!Q$1),"",OFFSET(공량산출서!Q$1,SMALL(IF(#REF!=공량산출서!$A50:$B50,ROW(공량산출서!$A50)),ROW(공량산출서!Q$1))-1,))} -> #REF! | D25: 0 | E25: 500000 | F25: =E25*D25 -> 0 | G25: 135410.28 | H25: =G25*D25 -> 0 | I25: =H25+F25 -> 0 | J25: {=IF(COUNTIF(#REF!,공량산출서!$A50:$B50)<ROW(공량산출서!R$1),"",OFFSET(공량산출서!R$1,SMALL(IF(#REF!=공량산출서!$A50:$B50,ROW(공량산출서!$A50)),ROW(공량산출서!R$1))-1,))} -> #REF! | K25: {=IF(COUNTIF(#REF!,공량산출서!$A50:$B50)<ROW(공량산출서!S$1),"",OFFSET(공량산출서!S$1,SMALL(IF(#REF!=공량산출서!$A50:$B50,ROW(공량산출서!$A50)),ROW(공량산출서!S$1))-1,))} -> #REF! | L25: =K25*J25 -> #REF! | M25: {=IF(COUNTIF(#REF!,공량산출서!$A50:$B50)<ROW(공량산출서!P$1),"",OFFSET(공량산출서!P$1,SMALL(IF(#REF!=공량산출서!$A50:$B50,ROW(공량산출서!$A50)),ROW(공량산출서!P$1))-1,))} -> #REF! | N25: =M25*J25 -> #REF! | O25: =N25+L25 -> #REF! | P25: =J25-D25 -> #REF! | Q25: =O25-I25 -> #REF! | R25: {=IF(COUNTIF(#REF!,공량산출서!$A50:$B50)<ROW(공량산출서!O$1),"",OFFSET(공량산출서!O$1,SMALL(IF(#REF!=공량산출서!$A50:$B50,ROW(공량산출서!$A50)),ROW(공량산출서!O$1))-1,))} -> #REF!
A26: {=IF(COUNTIF(#REF!,공량산출서!$A49:$B49)<ROW(공량산출서!A$1),"",OFFSET(공량산출서!A$1,SMALL(IF(#REF!=공량산출서!$A49:$B49,ROW(공량산출서!$A49)),ROW(공량산출서!A$1))-1,))} -> #REF! | B26: {=IF(COUNTIF(#REF!,공량산출서!$A49:$B49)<ROW(공량산출서!B$1),"",OFFSET(공량산출서!B$1,SMALL(IF(#REF!=공량산출서!$A49:$B49,ROW(공량산출서!$A49)),ROW(공량산출서!B$1))-1,))} -> #REF! | C26: {=IF(COUNTIF(#REF!,공량산출서!$A49:$B49)<ROW(공량산출서!Q$1),"",OFFSET(공량산출서!Q$1,SMALL(IF(#REF!=공량산출서!$A49:$B49,ROW(공량산출서!$A49)),ROW(공량산출서!Q$1))-1,))} -> #REF! | D26: 29 | E26: 950000 | F26: =E26*D26 -> 27550000 | G26: 135410.28 | H26: =G26*D26 -> 3926898.1 | I26: =H26+F26 -> 31476898 | J26: {=IF(COUNTIF(#REF!,공량산출서!$A49:$B49)<ROW(공량산출서!R$1),"",OFFSET(공량산출서!R$1,SMALL(IF(#REF!=공량산출서!$A49:$B49,ROW(공량산출서!$A49)),ROW(공량산출서!R$1))-1,))} -> #REF! | K26: {=IF(COUNTIF(#REF!,공량산출서!$A49:$B49)<ROW(공량산출서!S$1),"",OFFSET(공량산출서!S$1,SMALL(IF(#REF!=공량산출서!$A49:$B49,ROW(공량산출서!$A49)),ROW(공량산출서!S$1))-1,))} -> #REF! | L26: =K26*J26 -> #REF! | M26: {=IF(COUNTIF(#REF!,공량산출서!$A49:$B49)<ROW(공량산출서!P$1),"",OFFSET(공량산출서!P$1,SMALL(IF(#REF!=공량산출서!$A49:$B49,ROW(공량산출서!$A49)),ROW(공량산출서!P$1))-1,))} -> #REF! | N26: =M26*J26 -> #REF! | O26: =N26+L26 -> #REF! | P26: =J26-D26 -> #REF! | Q26: =O26-I26 -> #REF! | R26: {=IF(COUNTIF(#REF!,공량산출서!$A49:$B49)<ROW(공량산출서!O$1),"",OFFSET(공량산출서!O$1,SMALL(IF(#REF!=공량산출서!$A49:$B49,ROW(공량산출서!$A49)),ROW(공량산출서!O$1))-1,))} -> #REF!
A27: {=IF(COUNTIF(#REF!,공량산출서!$A51:$B51)<ROW(공량산출서!A$1),"",OFFSET(공량산출서!A$1,SMALL(IF(#REF!=공량산출서!$A51:$B51,ROW(공량산출서!$A51)),ROW(공량산출서!A$1))-1,))} -> #REF! | B27: {=IF(COUNTIF(#REF!,공량산출서!$A51:$B51)<ROW(공량산출서!B$1),"",OFFSET(공량산출서!B$1,SMALL(IF(#REF!=공량산출서!$A51:$B51,ROW(공량산출서!$A51)),ROW(공량산출서!B$1))-1,))} -> #REF! | C27: {=IF(COUNTIF(#REF!,공량산출서!$A51:$B51)<ROW(공량산출서!Q$1),"",OFFSET(공량산출서!Q$1,SMALL(IF(#REF!=공량산출서!$A51:$B51,ROW(공량산출서!$A51)),ROW(공량산출서!Q$1))-1,))} -> #REF! | D27: 0 | E27: 950000 | F27: =E27*D27 -> 0 | G27: 135410.28 | H27: =G27*D27 -> 0 | I27: =H27+F27 -> 0 | J27: {=IF(COUNTIF(#REF!,공량산출서!$A51:$B51)<ROW(공량산출서!R$1),"",OFFSET(공량산출서!R$1,SMALL(IF(#REF!=공량산출서!$A51:$B51,ROW(공량산출서!$A51)),ROW(공량산출서!R$1))-1,))} -> #REF! | K27: {=IF(COUNTIF(#REF!,공량산출서!$A51:$B51)<ROW(공량산출서!S$1),"",OFFSET(공량산출서!S$1,SMALL(IF(#REF!=공량산출서!$A51:$B51,ROW(공량산출서!$A51)),ROW(공량산출서!S$1))-1,))} -> #REF! | L27: =K27*J27 -> #REF! | M27: {=IF(COUNTIF(#REF!,공량산출서!$A51:$B51)<ROW(공량산출서!P$1),"",OFFSET(공량산출서!P$1,SMALL(IF(#REF!=공량산출서!$A51:$B51,ROW(공량산출서!$A51)),ROW(공량산출서!P$1))-1,))} -> #REF! | N27: =M27*J27 -> #REF! | O27: =N27+L27 -> #REF! | P27: =J27-D27 -> #REF! | Q27: =O27-I27 -> #REF! | R27: {=IF(COUNTIF(#REF!,공량산출서!$A51:$B51)<ROW(공량산출서!O$1),"",OFFSET(공량산출서!O$1,SMALL(IF(#REF!=공량산출서!$A51:$B51,ROW(공량산출서!$A51)),ROW(공량산출서!O$1))-1,))} -> #REF!
A28: {=IF(COUNTIF(#REF!,공량산출서!$A52:$B52)<ROW(공량산출서!A$1),"",OFFSET(공량산출서!A$1,SMALL(IF(#REF!=공량산출서!$A52:$B52,ROW(공량산출서!$A52)),ROW(공량산출서!A$1))-1,))} -> #REF! | B28: {=IF(COUNTIF(#REF!,공량산출서!$A52:$B52)<ROW(공량산출서!B$1),"",OFFSET(공량산출서!B$1,SMALL(IF(#REF!=공량산출서!$A52:$B52,ROW(공량산출서!$A52)),ROW(공량산출서!B$1))-1,))} -> #REF! | C28: {=IF(COUNTIF(#REF!,공량산출서!$A52:$B52)<ROW(공량산출서!Q$1),"",OFFSET(공량산출서!Q$1,SMALL(IF(#REF!=공량산출서!$A52:$B52,ROW(공량산출서!$A52)),ROW(공량산출서!Q$1))-1,))} -> #REF! | D28: 0 | E28: 3500000 | F28: =E28*D28 -> 0 | G28: 135410.28 | H28: =G28*D28 -> 0 | I28: =H28+F28 -> 0 | J28: {=IF(COUNTIF(#REF!,공량산출서!$A52:$B52)<ROW(공량산출서!R$1),"",OFFSET(공량산출서!R$1,SMALL(IF(#REF!=공량산출서!$A52:$B52,ROW(공량산출서!$A52)),ROW(공량산출서!R$1))-1,))} -> #REF! | K28: {=IF(COUNTIF(#REF!,공량산출서!$A52:$B52)<ROW(공량산출서!S$1),"",OFFSET(공량산출서!S$1,SMALL(IF(#REF!=공량산출서!$A52:$B52,ROW(공량산출서!$A52)),ROW(공량산출서!S$1))-1,))} -> #REF! | L28: =K28*J28 -> #REF! | M28: {=IF(COUNTIF(#REF!,공량산출서!$A52:$B52)<ROW(공량산출서!P$1),"",OFFSET(공량산출서!P$1,SMALL(IF(#REF!=공량산출서!$A52:$B52,ROW(공량산출서!$A52)),ROW(공량산출서!P$1))-1,))} -> #REF! | N28: =M28*J28 -> #REF! | O28: =N28+L28 -> #REF! | P28: =J28-D28 -> #REF! | Q28: =O28-I28 -> #REF! | R28: {=IF(COUNTIF(#REF!,공량산출서!$A52:$B52)<ROW(공량산출서!O$1),"",OFFSET(공량산출서!O$1,SMALL(IF(#REF!=공량산출서!$A52:$B52,ROW(공량산출서!$A52)),ROW(공량산출서!O$1))-1,))} -> #REF!
A29: {=IF(COUNTIF(#REF!,공량산출서!$A53:$B53)<ROW(공량산출서!A$1),"",OFFSET(공량산출서!A$1,SMALL(IF(#REF!=공량산출서!$A53:$B53,ROW(공량산출서!$A53)),ROW(공량산출서!A$1))-1,))} -> #REF! | B29: {=IF(COUNTIF(#REF!,공량산출서!$A53:$B53)<ROW(공량산출서!B$1),"",OFFSET(공량산출서!B$1,SMALL(IF(#REF!=공량산출서!$A53:$B53,ROW(공량산출서!$A53)),ROW(공량산출서!B$1))-1,))} -> #REF! | C29: {=IF(COUNTIF(#REF!,공량산출서!$A53:$B53)<ROW(공량산출서!Q$1),"",OFFSET(공량산출서!Q$1,SMALL(IF(#REF!=공량산출서!$A53:$B53,ROW(공량산출서!$A53)),ROW(공량산출서!Q$1))-1,))} -> #REF! | D29: 0 | E29: 19000000 | F29: =E29*D29 -> 0 | G29: 135410.28 | H29: =G29*D29 -> 0 | I29: =H29+F29 -> 0 | J29: {=IF(COUNTIF(#REF!,공량산출서!$A53:$B53)<ROW(공량산출서!R$1),"",OFFSET(공량산출서!R$1,SMALL(IF(#REF!=공량산출서!$A53:$B53,ROW(공량산출서!$A53)),ROW(공량산출서!R$1))-1,))} -> #REF! | K29: {=IF(COUNTIF(#REF!,공량산출서!$A53:$B53)<ROW(공량산출서!S$1),"",OFFSET(공량산출서!S$1,SMALL(IF(#REF!=공량산출서!$A53:$B53,ROW(공량산출서!$A53)),ROW(공량산출서!S$1))-1,))} -> #REF! | L29: =K29*J29 -> #REF! | M29: {=IF(COUNTIF(#REF!,공량산출서!$A53:$B53)<ROW(공량산출서!P$1),"",OFFSET(공량산출서!P$1,SMALL(IF(#REF!=공량산출서!$A53:$B53,ROW(공량산출서!$A53)),ROW(공량산출서!P$1))-1,))} -> #REF! | N29: =M29*J29 -> #REF! | O29: =N29+L29 -> #REF! | P29: =J29-D29 -> #REF! | Q29: =O29-I29 -> #REF! | R29: {=IF(COUNTIF(#REF!,공량산출서!$A53:$B53)<ROW(공량산출서!O$1),"",OFFSET(공량산출서!O$1,SMALL(IF(#REF!=공량산출서!$A53:$B53,ROW(공량산출서!$A53)),ROW(공량산출서!O$1))-1,))} -> #REF!
A30: {=IF(COUNTIF(#REF!,공량산출서!$A54:$B54)<ROW(공량산출서!A$1),"",OFFSET(공량산출서!A$1,SMALL(IF(#REF!=공량산출서!$A54:$B54,ROW(공량산출서!$A54)),ROW(공량산출서!A$1))-1,))} -> #REF! | B30: {=IF(COUNTIF(#REF!,공량산출서!$A54:$B54)<ROW(공량산출서!B$1),"",OFFSET(공량산출서!B$1,SMALL(IF(#REF!=공량산출서!$A54:$B54,ROW(공량산출서!$A54)),ROW(공량산출서!B$1))-1,))} -> #REF! | C30: {=IF(COUNTIF(#REF!,공량산출서!$A54:$B54)<ROW(공량산출서!Q$1),"",OFFSET(공량산출서!Q$1,SMALL(IF(#REF!=공량산출서!$A54:$B54,ROW(공량산출서!$A54)),ROW(공량산출서!Q$1))-1,))} -> #REF! | D30: 1 | E30: 19000000 | F30: =E30*D30 -> 19000000 | G30: 135410.28 | H30: =G30*D30 -> 135410.28 | I30: =H30+F30 -> 19135410 | J30: {=IF(COUNTIF(#REF!,공량산출서!$A54:$B54)<ROW(공량산출서!R$1),"",OFFSET(공량산출서!R$1,SMALL(IF(#REF!=공량산출서!$A54:$B54,ROW(공량산출서!$A54)),ROW(공량산출서!R$1))-1,))} -> #REF! | K30: {=IF(COUNTIF(#REF!,공량산출서!$A54:$B54)<ROW(공량산출서!S$1),"",OFFSET(공량산출서!S$1,SMALL(IF(#REF!=공량산출서!$A54:$B54,ROW(공량산출서!$A54)),ROW(공량산출서!S$1))-1,))} -> #REF! | L30: =K30*J30 -> #REF! | M30: {=IF(COUNTIF(#REF!,공량산출서!$A54:$B54)<ROW(공량산출서!P$1),"",OFFSET(공량산출서!P$1,SMALL(IF(#REF!=공량산출서!$A54:$B54,ROW(공량산출서!$A54)),ROW(공량산출서!P$1))-1,))} -> #REF! | N30: =M30*J30 -> #REF! | O30: =N30+L30 -> #REF! | P30: =J30-D30 -> #REF! | Q30: =O30-I30 -> #REF! | R30: {=IF(COUNTIF(#REF!,공량산출서!$A54:$B54)<ROW(공량산출서!O$1),"",OFFSET(공량산출서!O$1,SMALL(IF(#REF!=공량산출서!$A54:$B54,ROW(공량산출서!$A54)),ROW(공량산출서!O$1))-1,))} -> #REF!
A31: {=IF(COUNTIF(#REF!,공량산출서!$A56:$B56)<ROW(공량산출서!A$1),"",OFFSET(공량산출서!A$1,SMALL(IF(#REF!=공량산출서!$A56:$B56,ROW(공량산출서!$A56)),ROW(공량산출서!A$1))-1,))} -> #REF! | B31: {=IF(COUNTIF(#REF!,공량산출서!$A56:$B56)<ROW(공량산출서!B$1),"",OFFSET(공량산출서!B$1,SMALL(IF(#REF!=공량산출서!$A56:$B56,ROW(공량산출서!$A56)),ROW(공량산출서!B$1))-1,))} -> #REF! | C31: {=IF(COUNTIF(#REF!,공량산출서!$A56:$B56)<ROW(공량산출서!Q$1),"",OFFSET(공량산출서!Q$1,SMALL(IF(#REF!=공량산출서!$A56:$B56,ROW(공량산출서!$A56)),ROW(공량산출서!Q$1))-1,))} -> #REF! | D31: 6 | E31: 760000 | F31: =E31*D31 -> 4560000 | G31: 135410.28 | H31: =G31*D31 -> 812461.68 | I31: =H31+F31 -> 5372461.7 | J31: {=IF(COUNTIF(#REF!,공량산출서!$A56:$B56)<ROW(공량산출서!R$1),"",OFFSET(공량산출서!R$1,SMALL(IF(#REF!=공량산출서!$A56:$B56,ROW(공량산출서!$A56)),ROW(공량산출서!R$1))-1,))} -> #REF! | K31: {=IF(COUNTIF(#REF!,공량산출서!$A56:$B56)<ROW(공량산출서!S$1),"",OFFSET(공량산출서!S$1,SMALL(IF(#REF!=공량산출서!$A56:$B56,ROW(공량산출서!$A56)),ROW(공량산출서!S$1))-1,))} -> #REF! | L31: =K31*J31 -> #REF! | M31: {=IF(COUNTIF(#REF!,공량산출서!$A56:$B56)<ROW(공량산출서!P$1),"",OFFSET(공량산출서!P$1,SMALL(IF(#REF!=공량산출서!$A56:$B56,ROW(공량산출서!$A56)),ROW(공량산출서!P$1))-1,))} -> #REF! | N31: =M31*J31 -> #REF! | O31: =N31+L31 -> #REF! | P31: =J31-D31 -> #REF! | Q31: =O31-I31 -> #REF! | R31: {=IF(COUNTIF(#REF!,공량산출서!$A56:$B56)<ROW(공량산출서!O$1),"",OFFSET(공량산출서!O$1,SMALL(IF(#REF!=공량산출서!$A56:$B56,ROW(공량산출서!$A56)),ROW(공량산출서!O$1))-1,))} -> #REF!
A32: {=IF(COUNTIF(#REF!,공량산출서!$A57:$B57)<ROW(공량산출서!A$1),"",OFFSET(공량산출서!A$1,SMALL(IF(#REF!=공량산출서!$A57:$B57,ROW(공량산출서!$A57)),ROW(공량산출서!A$1))-1,))} -> #REF! | B32: {=IF(COUNTIF(#REF!,공량산출서!$A57:$B57)<ROW(공량산출서!B$1),"",OFFSET(공량산출서!B$1,SMALL(IF(#REF!=공량산출서!$A57:$B57,ROW(공량산출서!$A57)),ROW(공량산출서!B$1))-1,))} -> #REF! | C32: {=IF(COUNTIF(#REF!,공량산출서!$A57:$B57)<ROW(공량산출서!Q$1),"",OFFSET(공량산출서!Q$1,SMALL(IF(#REF!=공량산출서!$A57:$B57,ROW(공량산출서!$A57)),ROW(공량산출서!Q$1))-1,))} -> #REF! | D32: 6 | E32: 66500 | F32: =E32*D32 -> 399000 | G32: 0 | H32: =G32*D32 -> 0 | I32: =H32+F32 -> 399000 | J32: {=IF(COUNTIF(#REF!,공량산출서!$A57:$B57)<ROW(공량산출서!R$1),"",OFFSET(공량산출서!R$1,SMALL(IF(#REF!=공량산출서!$A57:$B57,ROW(공량산출서!$A57)),ROW(공량산출서!R$1))-1,))} -> #REF! | K32: {=IF(COUNTIF(#REF!,공량산출서!$A57:$B57)<ROW(공량산출서!S$1),"",OFFSET(공량산출서!S$1,SMALL(IF(#REF!=공량산출서!$A57:$B57,ROW(공량산출서!$A57)),ROW(공량산출서!S$1))-1,))} -> #REF! | L32: =K32*J32 -> #REF! | M32: {=IF(COUNTIF(#REF!,공량산출서!$A57:$B57)<ROW(공량산출서!P$1),"",OFFSET(공량산출서!P$1,SMALL(IF(#REF!=공량산출서!$A57:$B57,ROW(공량산출서!$A57)),ROW(공량산출서!P$1))-1,))} -> #REF! | N32: =M32*J32 -> #REF! | O32: =N32+L32 -> #REF! | P32: =J32-D32 -> #REF! | Q32: =O32-I32 -> #REF! | R32: {=IF(COUNTIF(#REF!,공량산출서!$A57:$B57)<ROW(공량산출서!O$1),"",OFFSET(공량산출서!O$1,SMALL(IF(#REF!=공량산출서!$A57:$B57,ROW(공량산출서!$A57)),ROW(공량산출서!O$1))-1,))} -> #REF!
A33: {=IF(COUNTIF(#REF!,공량산출서!$A44:$B44)<ROW(공량산출서!A$1),"",OFFSET(공량산출서!A$1,SMALL(IF(#REF!=공량산출서!$A44:$B44,ROW(공량산출서!$A44)),ROW(공량산출서!A$1))-1,))} -> #REF! | B33: {=IF(COUNTIF(#REF!,공량산출서!$A44:$B44)<ROW(공량산출서!B$1),"",OFFSET(공량산출서!B$1,SMALL(IF(#REF!=공량산출서!$A44:$B44,ROW(공량산출서!$A44)),ROW(공량산출서!B$1))-1,))} -> #REF! | C33: {=IF(COUNTIF(#REF!,공량산출서!$A44:$B44)<ROW(공량산출서!Q$1),"",OFFSET(공량산출서!Q$1,SMALL(IF(#REF!=공량산출서!$A44:$B44,ROW(공량산출서!$A44)),ROW(공량산출서!Q$1))-1,))} -> #REF! | D33: 28 | E33: 212800 | F33: =E33*D33 -> 5958400 | G33: 54032 | H33: =G33*D33 -> 1512896 | I33: =H33+F33 -> 7471296 | J33: {=IF(COUNTIF(#REF!,공량산출서!$A44:$B44)<ROW(공량산출서!R$1),"",OFFSET(공량산출서!R$1,SMALL(IF(#REF!=공량산출서!$A44:$B44,ROW(공량산출서!$A44)),ROW(공량산출서!R$1))-1,))} -> #REF! | K33: {=IF(COUNTIF(#REF!,공량산출서!$A44:$B44)<ROW(공량산출서!S$1),"",OFFSET(공량산출서!S$1,SMALL(IF(#REF!=공량산출서!$A44:$B44,ROW(공량산출서!$A44)),ROW(공량산출서!S$1))-1,))} -> #REF! | L33: =K33*J33 -> #REF! | M33: {=IF(COUNTIF(#REF!,공량산출서!$A44:$B44)<ROW(공량산출서!P$1),"",OFFSET(공량산출서!P$1,SMALL(IF(#REF!=공량산출서!$A44:$B44,ROW(공량산출서!$A44)),ROW(공량산출서!P$1))-1,))} -> #REF! | N33: =M33*J33 -> #REF! | O33: =N33+L33 -> #REF! | P33: =J33-D33 -> #REF! | Q33: =O33-I33 -> #REF! | R33: {=IF(COUNTIF(#REF!,공량산출서!$A44:$B44)<ROW(공량산출서!O$1),"",OFFSET(공량산출서!O$1,SMALL(IF(#REF!=공량산출서!$A44:$B44,ROW(공량산출서!$A44)),ROW(공량산출서!O$1))-1,))} -> #REF!
A34: {=IF(COUNTIF(#REF!,공량산출서!$A46:$B46)<ROW(공량산출서!A$1),"",OFFSET(공량산출서!A$1,SMALL(IF(#REF!=공량산출서!$A46:$B46,ROW(공량산출서!$A46)),ROW(공량산출서!A$1))-1,))} -> #REF! | B34: {=IF(COUNTIF(#REF!,공량산출서!$A46:$B46)<ROW(공량산출서!B$1),"",OFFSET(공량산출서!B$1,SMALL(IF(#REF!=공량산출서!$A46:$B46,ROW(공량산출서!$A46)),ROW(공량산출서!B$1))-1,))} -> #REF! | C34: {=IF(COUNTIF(#REF!,공량산출서!$A46:$B46)<ROW(공량산출서!Q$1),"",OFFSET(공량산출서!Q$1,SMALL(IF(#REF!=공량산출서!$A46:$B46,ROW(공량산출서!$A46)),ROW(공량산출서!Q$1))-1,))} -> #REF! | D34: 9 | E34: 47500 | F34: =E34*D34 -> 427500 | G34: 62136.8 | H34: =G34*D34 -> 559231.2 | I34: =H34+F34 -> 986731.2 | J34: {=IF(COUNTIF(#REF!,공량산출서!$A46:$B46)<ROW(공량산출서!R$1),"",OFFSET(공량산출서!R$1,SMALL(IF(#REF!=공량산출서!$A46:$B46,ROW(공량산출서!$A46)),ROW(공량산출서!R$1))-1,))} -> #REF! | K34: {=IF(COUNTIF(#REF!,공량산출서!$A46:$B46)<ROW(공량산출서!S$1),"",OFFSET(공량산출서!S$1,SMALL(IF(#REF!=공량산출서!$A46:$B46,ROW(공량산출서!$A46)),ROW(공량산출서!S$1))-1,))} -> #REF! | L34: =K34*J34 -> #REF! | M34: {=IF(COUNTIF(#REF!,공량산출서!$A46:$B46)<ROW(공량산출서!P$1),"",OFFSET(공량산출서!P$1,SMALL(IF(#REF!=공량산출서!$A46:$B46,ROW(공량산출서!$A46)),ROW(공량산출서!P$1))-1,))} -> #REF! | N34: =M34*J34 -> #REF! | O34: =N34+L34 -> #REF! | P34: =J34-D34 -> #REF! | Q34: =O34-I34 -> #REF! | R34: {=IF(COUNTIF(#REF!,공량산출서!$A46:$B46)<ROW(공량산출서!O$1),"",OFFSET(공량산출서!O$1,SMALL(IF(#REF!=공량산출서!$A46:$B46,ROW(공량산출서!$A46)),ROW(공량산출서!O$1))-1,))} -> #REF!
A35: {=IF(COUNTIF(#REF!,공량산출서!$A47:$B47)<ROW(공량산출서!A$1),"",OFFSET(공량산출서!A$1,SMALL(IF(#REF!=공량산출서!$A47:$B47,ROW(공량산출서!$A47)),ROW(공량산출서!A$1))-1,))} -> #REF! | B35: {=IF(COUNTIF(#REF!,공량산출서!$A47:$B47)<ROW(공량산출서!B$1),"",OFFSET(공량산출서!B$1,SMALL(IF(#REF!=공량산출서!$A47:$B47,ROW(공량산출서!$A47)),ROW(공량산출서!B$1))-1,))} -> #REF! | C35: {=IF(COUNTIF(#REF!,공량산출서!$A47:$B47)<ROW(공량산출서!Q$1),"",OFFSET(공량산출서!Q$1,SMALL(IF(#REF!=공량산출서!$A47:$B47,ROW(공량산출서!$A47)),ROW(공량산출서!Q$1))-1,))} -> #REF! | D35: 2 | E35: 147250 | F35: =E35*D35 -> 294500 | G35: 62136.8 | H35: =G35*D35 -> 124273.6 | I35: =H35+F35 -> 418773.6 | J35: {=IF(COUNTIF(#REF!,공량산출서!$A47:$B47)<ROW(공량산출서!R$1),"",OFFSET(공량산출서!R$1,SMALL(IF(#REF!=공량산출서!$A47:$B47,ROW(공량산출서!$A47)),ROW(공량산출서!R$1))-1,))} -> #REF! | K35: {=IF(COUNTIF(#REF!,공량산출서!$A47:$B47)<ROW(공량산출서!S$1),"",OFFSET(공량산출서!S$1,SMALL(IF(#REF!=공량산출서!$A47:$B47,ROW(공량산출서!$A47)),ROW(공량산출서!S$1))-1,))} -> #REF! | L35: =K35*J35 -> #REF! | M35: {=IF(COUNTIF(#REF!,공량산출서!$A47:$B47)<ROW(공량산출서!P$1),"",OFFSET(공량산출서!P$1,SMALL(IF(#REF!=공량산출서!$A47:$B47,ROW(공량산출서!$A47)),ROW(공량산출서!P$1))-1,))} -> #REF! | N35: =M35*J35 -> #REF! | O35: =N35+L35 -> #REF! | P35: =J35-D35 -> #REF! | Q35: =O35-I35 -> #REF! | R35: {=IF(COUNTIF(#REF!,공량산출서!$A47:$B47)<ROW(공량산출서!O$1),"",OFFSET(공량산출서!O$1,SMALL(IF(#REF!=공량산출서!$A47:$B47,ROW(공량산출서!$A47)),ROW(공량산출서!O$1))-1,))} -> #REF!
A36: {=IF(COUNTIF(#REF!,공량산출서!$A48:$B48)<ROW(공량산출서!A$1),"",OFFSET(공량산출서!A$1,SMALL(IF(#REF!=공량산출서!$A48:$B48,ROW(공량산출서!$A48)),ROW(공량산출서!A$1))-1,))} -> #REF! | B36: {=IF(COUNTIF(#REF!,공량산출서!$A48:$B48)<ROW(공량산출서!B$1),"",OFFSET(공량산출서!B$1,SMALL(IF(#REF!=공량산출서!$A48:$B48,ROW(공량산출서!$A48)),ROW(공량산출서!B$1))-1,))} -> #REF! | C36: {=IF(COUNTIF(#REF!,공량산출서!$A48:$B48)<ROW(공량산출서!Q$1),"",OFFSET(공량산출서!Q$1,SMALL(IF(#REF!=공량산출서!$A48:$B48,ROW(공량산출서!$A48)),ROW(공량산출서!Q$1))-1,))} -> #REF! | D36: 18 | E36: 9500 | F36: =E36*D36 -> 171000 | G36: 41210.29 | H36: =G36*D36 -> 741785.22 | I36: =H36+F36 -> 912785.22 | J36: {=IF(COUNTIF(#REF!,공량산출서!$A48:$B48)<ROW(공량산출서!R$1),"",OFFSET(공량산출서!R$1,SMALL(IF(#REF!=공량산출서!$A48:$B48,ROW(공량산출서!$A48)),ROW(공량산출서!R$1))-1,))} -> #REF! | K36: {=IF(COUNTIF(#REF!,공량산출서!$A48:$B48)<ROW(공량산출서!S$1),"",OFFSET(공량산출서!S$1,SMALL(IF(#REF!=공량산출서!$A48:$B48,ROW(공량산출서!$A48)),ROW(공량산출서!S$1))-1,))} -> #REF! | L36: =K36*J36 -> #REF! | M36: {=IF(COUNTIF(#REF!,공량산출서!$A48:$B48)<ROW(공량산출서!P$1),"",OFFSET(공량산출서!P$1,SMALL(IF(#REF!=공량산출서!$A48:$B48,ROW(공량산출서!$A48)),ROW(공량산출서!P$1))-1,))} -> #REF! | N36: =M36*J36 -> #REF! | O36: =N36+L36 -> #REF! | P36: =J36-D36 -> #REF! | Q36: =O36-I36 -> #REF! | R36: {=IF(COUNTIF(#REF!,공량산출서!$A48:$B48)<ROW(공량산출서!O$1),"",OFFSET(공량산출서!O$1,SMALL(IF(#REF!=공량산출서!$A48:$B48,ROW(공량산출서!$A48)),ROW(공량산출서!O$1))-1,))} -> #REF!
A38: [ 소 계 ] | F38: =SUM(F24:F37) -> 60275600 | H38: =SUM(H24:H37) -> 9028676.1 | I38: =H38+F38 -> 69304276 | L38: =SUM(L24:L37) -> #REF! | N38: =SUM(N24:N37) -> #REF! | O38: =N38+L38 -> #REF! | Q38: =SUM(Q24:Q37) -> #REF!
A39: 03. 촬상부
A40: {=IF(COUNTIF(#REF!,공량산출서!$A26:$B26)<ROW(공량산출서!A$1),"",OFFSET(공량산출서!A$1,SMALL(IF(#REF!=공량산출서!$A26:$B26,ROW(공량산출서!$A26)),ROW(공량산출서!A$1))-1,))} -> #REF! | B40: {=IF(COUNTIF(#REF!,공량산출서!$A26:$B26)<ROW(공량산출서!B$1),"",OFFSET(공량산출서!B$1,SMALL(IF(#REF!=공량산출서!$A26:$B26,ROW(공량산출서!$A26)),ROW(공량산출서!B$1))-1,))} -> #REF! | C40: {=IF(COUNTIF(#REF!,공량산출서!$A26:$B26)<ROW(공량산출서!Q$1),"",OFFSET(공량산출서!Q$1,SMALL(IF(#REF!=공량산출서!$A26:$B26,ROW(공량산출서!$A26)),ROW(공량산출서!Q$1))-1,))} -> #REF! | D40: 209 | E40: 448000 | F40: =E40*D40 -> 93632000 | G40: 55913.36 | H40: =G40*D40 -> 11685892 | I40: =H40+F40 -> 1.0531789e+08 | J40: {=IF(COUNTIF(#REF!,공량산출서!$A26:$B26)<ROW(공량산출서!R$1),"",OFFSET(공량산출서!R$1,SMALL(IF(#REF!=공량산출서!$A26:$B26,ROW(공량산출서!$A26)),ROW(공량산출서!R$1))-1,))} -> #REF! | K40: {=IF(COUNTIF(#REF!,공량산출서!$A26:$B26)<ROW(공량산출서!S$1),"",OFFSET(공량산출서!S$1,SMALL(IF(#REF!=공량산출서!$A26:$B26,ROW(공량산출서!$A26)),ROW(공량산출서!S$1))-1,))} -> #REF! | L40: =K40*J40 -> #REF! | M40: {=IF(COUNTIF(#REF!,공량산출서!$A26:$B26)<ROW(공량산출서!P$1),"",OFFSET(공량산출서!P$1,SMALL(IF(#REF!=공량산출서!$A26:$B26,ROW(공량산출서!$A26)),ROW(공량산출서!P$1))-1,))} -> #REF! | N40: =M40*J40 -> #REF! | O40: =N40+L40 -> #REF! | P40: =J40-D40 -> #REF! | Q40: =O40-I40 -> #REF! | R40: {=IF(COUNTIF(#REF!,공량산출서!$A26:$B26)<ROW(공량산출서!O$1),"",OFFSET(공량산출서!O$1,SMALL(IF(#REF!=공량산출서!$A26:$B26,ROW(공량산출서!$A26)),ROW(공량산출서!O$1))-1,))} -> #REF!
A41: {=IF(COUNTIF(#REF!,공량산출서!$A27:$B27)<ROW(공량산출서!A$1),"",OFFSET(공량산출서!A$1,SMALL(IF(#REF!=공량산출서!$A27:$B27,ROW(공량산출서!$A27)),ROW(공량산출서!A$1))-1,))} -> #REF! | B41: {=IF(COUNTIF(#REF!,공량산출서!$A27:$B27)<ROW(공량산출서!B$1),"",OFFSET(공량산출서!B$1,SMALL(IF(#REF!=공량산출서!$A27:$B27,ROW(공량산출서!$A27)),ROW(공량산출서!B$1))-1,))} -> #REF! | C41: {=IF(COUNTIF(#REF!,공량산출서!$A27:$B27)<ROW(공량산출서!Q$1),"",OFFSET(공량산출서!Q$1,SMALL(IF(#REF!=공량산출서!$A27:$B27,ROW(공량산출서!$A27)),ROW(공량산출서!Q$1))-1,))} -> #REF! | D41: 44 | E41: 500000 | F41: =E41*D41 -> 22000000 | G41: 55913.36 | H41: =G41*D41 -> 2460187.8 | I41: =H41+F41 -> 24460188 | J41: {=IF(COUNTIF(#REF!,공량산출서!$A27:$B27)<ROW(공량산출서!R$1),"",OFFSET(공량산출서!R$1,SMALL(IF(#REF!=공량산출서!$A27:$B27,ROW(공량산출서!$A27)),ROW(공량산출서!R$1))-1,))} -> #REF! | K41: {=IF(COUNTIF(#REF!,공량산출서!$A27:$B27)<ROW(공량산출서!S$1),"",OFFSET(공량산출서!S$1,SMALL(IF(#REF!=공량산출서!$A27:$B27,ROW(공량산출서!$A27)),ROW(공량산출서!S$1))-1,))} -> #REF! | L41: =K41*J41 -> #REF! | M41: {=IF(COUNTIF(#REF!,공량산출서!$A27:$B27)<ROW(공량산출서!P$1),"",OFFSET(공량산출서!P$1,SMALL(IF(#REF!=공량산출서!$A27:$B27,ROW(공량산출서!$A27)),ROW(공량산출서!P$1))-1,))} -> #REF! | N41: =M41*J41 -> #REF! | O41: =N41+L41 -> #REF! | P41: =J41-D41 -> #REF! | Q41: =O41-I41 -> #REF! | R41: {=IF(COUNTIF(#REF!,공량산출서!$A27:$B27)<ROW(공량산출서!O$1),"",OFFSET(공량산출서!O$1,SMALL(IF(#REF!=공량산출서!$A27:$B27,ROW(공량산출서!$A27)),ROW(공량산출서!O$1))-1,))} -> #REF!
A42: {=IF(COUNTIF(#REF!,공량산출서!$A28:$B28)<ROW(공량산출서!A$1),"",OFFSET(공량산출서!A$1,SMALL(IF(#REF!=공량산출서!$A28:$B28,ROW(공량산출서!$A28)),ROW(공량산출서!A$1))-1,))} -> #REF! | B42: {=IF(COUNTIF(#REF!,공량산출서!$A28:$B28)<ROW(공량산출서!B$1),"",OFFSET(공량산출서!B$1,SMALL(IF(#REF!=공량산출서!$A28:$B28,ROW(공량산출서!$A28)),ROW(공량산출서!B$1))-1,))} -> #REF! | C42: {=IF(COUNTIF(#REF!,공량산출서!$A28:$B28)<ROW(공량산출서!Q$1),"",OFFSET(공량산출서!Q$1,SMALL(IF(#REF!=공량산출서!$A28:$B28,ROW(공량산출서!$A28)),ROW(공량산출서!Q$1))-1,))} -> #REF! | D42: 38 | E42: 378000 | F42: =E42*D42 -> 14364000 | G42: 79317.44 | H42: =G42*D42 -> 3014062.7 | I42: =H42+F42 -> 17378063 | J42: {=IF(COUNTIF(#REF!,공량산출서!$A28:$B28)<ROW(공량산출서!R$1),"",OFFSET(공량산출서!R$1,SMALL(IF(#REF!=공량산출서!$A28:$B28,ROW(공량산출서!$A28)),ROW(공량산출서!R$1))-1,))} -> #REF! | K42: {=IF(COUNTIF(#REF!,공량산출서!$A28:$B28)<ROW(공량산출서!S$1),"",OFFSET(공량산출서!S$1,SMALL(IF(#REF!=공량산출서!$A28:$B28,ROW(공량산출서!$A28)),ROW(공량산출서!S$1))-1,))} -> #REF! | L42: =K42*J42 -> #REF! | M42: {=IF(COUNTIF(#REF!,공량산출서!$A28:$B28)<ROW(공량산출서!P$1),"",OFFSET(공량산출서!P$1,SMALL(IF(#REF!=공량산출서!$A28:$B28,ROW(공량산출서!$A28)),ROW(공량산출서!P$1))-1,))} -> #REF! | N42: =M42*J42 -> #REF! | O42: =N42+L42 -> #REF! | P42: =J42-D42 -> #REF! | Q42: =O42-I42 -> #REF! | R42: {=IF(COUNTIF(#REF!,공량산출서!$A28:$B28)<ROW(공량산출서!O$1),"",OFFSET(공량산출서!O$1,SMALL(IF(#REF!=공량산출서!$A28:$B28,ROW(공량산출서!$A28)),ROW(공량산출서!O$1))-1,))} -> #REF!
A43: {=IF(COUNTIF(#REF!,공량산출서!$A29:$B29)<ROW(공량산출서!A$1),"",OFFSET(공량산출서!A$1,SMALL(IF(#REF!=공량산출서!$A29:$B29,ROW(공량산출서!$A29)),ROW(공량산출서!A$1))-1,))} -> #REF! | B43: {=IF(COUNTIF(#REF!,공량산출서!$A29:$B29)<ROW(공량산출서!B$1),"",OFFSET(공량산출서!B$1,SMALL(IF(#REF!=공량산출서!$A29:$B29,ROW(공량산출서!$A29)),ROW(공량산출서!B$1))-1,))} -> #REF! | C43: {=IF(COUNTIF(#REF!,공량산출서!$A29:$B29)<ROW(공량산출서!Q$1),"",OFFSET(공량산출서!Q$1,SMALL(IF(#REF!=공량산출서!$A29:$B29,ROW(공량산출서!$A29)),ROW(공량산출서!Q$1))-1,))} -> #REF! | D43: 25 | E43: 1100000 | F43: =E43*D43 -> 27500000 | G43: 79317.44 | H43: =G43*D43 -> 1982936 | I43: =H43+F43 -> 29482936 | J43: {=IF(COUNTIF(#REF!,공량산출서!$A29:$B29)<ROW(공량산출서!R$1),"",OFFSET(공량산출서!R$1,SMALL(IF(#REF!=공량산출서!$A29:$B29,ROW(공량산출서!$A29)),ROW(공량산출서!R$1))-1,))} -> #REF! | K43: {=IF(COUNTIF(#REF!,공량산출서!$A29:$B29)<ROW(공량산출서!S$1),"",OFFSET(공량산출서!S$1,SMALL(IF(#REF!=공량산출서!$A29:$B29,ROW(공량산출서!$A29)),ROW(공량산출서!S$1))-1,))} -> #REF! | L43: =K43*J43 -> #REF! | M43: {=IF(COUNTIF(#REF!,공량산출서!$A29:$B29)<ROW(공량산출서!P$1),"",OFFSET(공량산출서!P$1,SMALL(IF(#REF!=공량산출서!$A29:$B29,ROW(공량산출서!$A29)),ROW(공량산출서!P$1))-1,))} -> #REF! | N43: =M43*J43 -> #REF! | O43: =N43+L43 -> #REF! | P43: =J43-D43 -> #REF! | Q43: =O43-I43 -> #REF! | R43: {=IF(COUNTIF(#REF!,공량산출서!$A29:$B29)<ROW(공량산출서!O$1),"",OFFSET(공량산출서!O$1,SMALL(IF(#REF!=공량산출서!$A29:$B29,ROW(공량산출서!$A29)),ROW(공량산출서!O$1))-1,))} -> #REF!
A44: {=IF(COUNTIF(#REF!,공량산출서!$A30:$B30)<ROW(공량산출서!A$1),"",OFFSET(공량산출서!A$1,SMALL(IF(#REF!=공량산출서!$A30:$B30,ROW(공량산출서!$A30)),ROW(공량산출서!A$1))-1,))} -> #REF! | B44: {=IF(COUNTIF(#REF!,공량산출서!$A30:$B30)<ROW(공량산출서!B$1),"",OFFSET(공량산출서!B$1,SMALL(IF(#REF!=공량산출서!$A30:$B30,ROW(공량산출서!$A30)),ROW(공량산출서!B$1))-1,))} -> #REF! | C44: {=IF(COUNTIF(#REF!,공량산출서!$A30:$B30)<ROW(공량산출서!Q$1),"",OFFSET(공량산출서!Q$1,SMALL(IF(#REF!=공량산출서!$A30:$B30,ROW(공량산출서!$A30)),ROW(공량산출서!Q$1))-1,))} -> #REF! | D44: 1 | E44: 2500000 | F44: =E44*D44 -> 2500000 | G44: 79317.44 | H44: =G44*D44 -> 79317.44 | I44: =H44+F44 -> 2579317.4 | J44: {=IF(COUNTIF(#REF!,공량산출서!$A30:$B30)<ROW(공량산출서!R$1),"",OFFSET(공량산출서!R$1,SMALL(IF(#REF!=공량산출서!$A30:$B30,ROW(공량산출서!$A30)),ROW(공량산출서!R$1))-1,))} -> #REF! | K44: {=IF(COUNTIF(#REF!,공량산출서!$A30:$B30)<ROW(공량산출서!S$1),"",OFFSET(공량산출서!S$1,SMALL(IF(#REF!=공량산출서!$A30:$B30,ROW(공량산출서!$A30)),ROW(공량산출서!S$1))-1,))} -> #REF! | L44: =K44*J44 -> #REF! | M44: {=IF(COUNTIF(#REF!,공량산출서!$A30:$B30)<ROW(공량산출서!P$1),"",OFFSET(공량산출서!P$1,SMALL(IF(#REF!=공량산출서!$A30:$B30,ROW(공량산출서!$A30)),ROW(공량산출서!P$1))-1,))} -> #REF! | N44: =M44*J44 -> #REF! | O44: =N44+L44 -> #REF! | P44: =J44-D44 -> #REF! | Q44: =O44-I44 -> #REF! | R44: {=IF(COUNTIF(#REF!,공량산출서!$A30:$B30)<ROW(공량산출서!O$1),"",OFFSET(공량산출서!O$1,SMALL(IF(#REF!=공량산출서!$A30:$B30,ROW(공량산출서!$A30)),ROW(공량산출서!O$1))-1,))} -> #REF!
A45: {=IF(COUNTIF(#REF!,공량산출서!$A31:$B31)<ROW(공량산출서!A$1),"",OFFSET(공량산출서!A$1,SMALL(IF(#REF!=공량산출서!$A31:$B31,ROW(공량산출서!$A31)),ROW(공량산출서!A$1))-1,))} -> #REF! | B45: {=IF(COUNTIF(#REF!,공량산출서!$A31:$B31)<ROW(공량산출서!B$1),"",OFFSET(공량산출서!B$1,SMALL(IF(#REF!=공량산출서!$A31:$B31,ROW(공량산출서!$A31)),ROW(공량산출서!B$1))-1,))} -> #REF! | C45: {=IF(COUNTIF(#REF!,공량산출서!$A31:$B31)<ROW(공량산출서!Q$1),"",OFFSET(공량산출서!Q$1,SMALL(IF(#REF!=공량산출서!$A31:$B31,ROW(공량산출서!$A31)),ROW(공량산출서!Q$1))-1,))} -> #REF! | D45: 6 | E45: 3100000 | F45: =E45*D45 -> 18600000 | G45: 79317.44 | H45: =G45*D45 -> 475904.64 | I45: =H45+F45 -> 19075905 | J45: {=IF(COUNTIF(#REF!,공량산출서!$A31:$B31)<ROW(공량산출서!R$1),"",OFFSET(공량산출서!R$1,SMALL(IF(#REF!=공량산출서!$A31:$B31,ROW(공량산출서!$A31)),ROW(공량산출서!R$1))-1,))} -> #REF! | K45: {=IF(COUNTIF(#REF!,공량산출서!$A31:$B31)<ROW(공량산출서!S$1),"",OFFSET(공량산출서!S$1,SMALL(IF(#REF!=공량산출서!$A31:$B31,ROW(공량산출서!$A31)),ROW(공량산출서!S$1))-1,))} -> #REF! | L45: =K45*J45 -> #REF! | M45: {=IF(COUNTIF(#REF!,공량산출서!$A31:$B31)<ROW(공량산출서!P$1),"",OFFSET(공량산출서!P$1,SMALL(IF(#REF!=공량산출서!$A31:$B31,ROW(공량산출서!$A31)),ROW(공량산출서!P$1))-1,))} -> #REF! | N45: =M45*J45 -> #REF! | O45: =N45+L45 -> #REF! | P45: =J45-D45 -> #REF! | Q45: =O45-I45 -> #REF! | R45: {=IF(COUNTIF(#REF!,공량산출서!$A31:$B31)<ROW(공량산출서!O$1),"",OFFSET(공량산출서!O$1,SMALL(IF(#REF!=공량산출서!$A31:$B31,ROW(공량산출서!$A31)),ROW(공량산출서!O$1))-1,))} -> #REF!
A46: {=IF(COUNTIF(#REF!,공량산출서!$A33:$B33)<ROW(공량산출서!A$1),"",OFFSET(공량산출서!A$1,SMALL(IF(#REF!=공량산출서!$A33:$B33,ROW(공량산출서!$A33)),ROW(공량산출서!A$1))-1,))} -> #REF! | B46: {=IF(COUNTIF(#REF!,공량산출서!$A33:$B33)<ROW(공량산출서!B$1),"",OFFSET(공량산출서!B$1,SMALL(IF(#REF!=공량산출서!$A33:$B33,ROW(공량산출서!$A33)),ROW(공량산출서!B$1))-1,))} -> #REF! | C46: {=IF(COUNTIF(#REF!,공량산출서!$A33:$B33)<ROW(공량산출서!Q$1),"",OFFSET(공량산출서!Q$1,SMALL(IF(#REF!=공량산출서!$A33:$B33,ROW(공량산출서!$A33)),ROW(공량산출서!Q$1))-1,))} -> #REF! | D46: 38 | E46: 109250 | F46: =E46*D46 -> 4151500 | G46: 61609.6 | H46: =G46*D46 -> 2341164.8 | I46: =H46+F46 -> 6492664.8 | J46: {=IF(COUNTIF(#REF!,공량산출서!$A33:$B33)<ROW(공량산출서!R$1),"",OFFSET(공량산출서!R$1,SMALL(IF(#REF!=공량산출서!$A33:$B33,ROW(공량산출서!$A33)),ROW(공량산출서!R$1))-1,))} -> #REF! | K46: {=IF(COUNTIF(#REF!,공량산출서!$A33:$B33)<ROW(공량산출서!S$1),"",OFFSET(공량산출서!S$1,SMALL(IF(#REF!=공량산출서!$A33:$B33,ROW(공량산출서!$A33)),ROW(공량산출서!S$1))-1,))} -> #REF! | L46: =K46*J46 -> #REF! | M46: {=IF(COUNTIF(#REF!,공량산출서!$A33:$B33)<ROW(공량산출서!P$1),"",OFFSET(공량산출서!P$1,SMALL(IF(#REF!=공량산출서!$A33:$B33,ROW(공량산출서!$A33)),ROW(공량산출서!P$1))-1,))} -> #REF! | N46: =M46*J46 -> #REF! | O46: =N46+L46 -> #REF! | P46: =J46-D46 -> #REF! | Q46: =O46-I46 -> #REF! | R46: {=IF(COUNTIF(#REF!,공량산출서!$A33:$B33)<ROW(공량산출서!O$1),"",OFFSET(공량산출서!O$1,SMALL(IF(#REF!=공량산출서!$A33:$B33,ROW(공량산출서!$A33)),ROW(공량산출서!O$1))-1,))} -> #REF!
A47: {=IF(COUNTIF(#REF!,공량산출서!$A32:$B32)<ROW(공량산출서!A$1),"",OFFSET(공량산출서!A$1,SMALL(IF(#REF!=공량산출서!$A32:$B32,ROW(공량산출서!$A32)),ROW(공량산출서!A$1))-1,))} -> #REF! | B47: {=IF(COUNTIF(#REF!,공량산출서!$A32:$B32)<ROW(공량산출서!B$1),"",OFFSET(공량산출서!B$1,SMALL(IF(#REF!=공량산출서!$A32:$B32,ROW(공량산출서!$A32)),ROW(공량산출서!B$1))-1,))} -> #REF! | C47: {=IF(COUNTIF(#REF!,공량산출서!$A32:$B32)<ROW(공량산출서!Q$1),"",OFFSET(공량산출서!Q$1,SMALL(IF(#REF!=공량산출서!$A32:$B32,ROW(공량산출서!$A32)),ROW(공량산출서!Q$1))-1,))} -> #REF! | D47: 0 | E47: 109250 | F47: =E47*D47 -> 0 | G47: 0 | H47: =G47*D47 -> 0 | I47: =H47+F47 -> 0 | J47: {=IF(COUNTIF(#REF!,공량산출서!$A32:$B32)<ROW(공량산출서!R$1),"",OFFSET(공량산출서!R$1,SMALL(IF(#REF!=공량산출서!$A32:$B32,ROW(공량산출서!$A32)),ROW(공량산출서!R$1))-1,))} -> #REF! | K47: {=IF(COUNTIF(#REF!,공량산출서!$A32:$B32)<ROW(공량산출서!S$1),"",OFFSET(공량산출서!S$1,SMALL(IF(#REF!=공량산출서!$A32:$B32,ROW(공량산출서!$A32)),ROW(공량산출서!S$1))-1,))} -> #REF! | L47: =K47*J47 -> #REF! | M47: {=IF(COUNTIF(#REF!,공량산출서!$A32:$B32)<ROW(공량산출서!P$1),"",OFFSET(공량산출서!P$1,SMALL(IF(#REF!=공량산출서!$A32:$B32,ROW(공량산출서!$A32)),ROW(공량산출서!P$1))-1,))} -> #REF! | N47: =M47*J47 -> #REF! | O47: =N47+L47 -> #REF! | P47: =J47-D47 -> #REF! | Q47: =O47-I47 -> #REF! | R47: {=IF(COUNTIF(#REF!,공량산출서!$A32:$B32)<ROW(공량산출서!O$1),"",OFFSET(공량산출서!O$1,SMALL(IF(#REF!=공량산출서!$A32:$B32,ROW(공량산출서!$A32)),ROW(공량산출서!O$1))-1,))} -> #REF!
A48: {=IF(COUNTIF(#REF!,공량산출서!$A70:$B70)<ROW(공량산출서!A$1),"",OFFSET(공량산출서!A$1,SMALL(IF(#REF!=공량산출서!$A70:$B70,ROW(공량산출서!$A70)),ROW(공량산출서!A$1))-1,))} -> #REF! | B48: {=IF(COUNTIF(#REF!,공량산출서!$A70:$B70)<ROW(공량산출서!B$1),"",OFFSET(공량산출서!B$1,SMALL(IF(#REF!=공량산출서!$A70:$B70,ROW(공량산출서!$A70)),ROW(공량산출서!B$1))-1,))} -> #REF! | C48: {=IF(COUNTIF(#REF!,공량산출서!$A70:$B70)<ROW(공량산출서!Q$1),"",OFFSET(공량산출서!Q$1,SMALL(IF(#REF!=공량산출서!$A70:$B70,ROW(공량산출서!$A70)),ROW(공량산출서!Q$1))-1,))} -> #REF! | D48: 27 | E48: 292600 | F48: =E48*D48 -> 7900200 | G48: 100661.68 | H48: =G48*D48 -> 2717865.4 | I48: =H48+F48 -> 10618065 | J48: {=IF(COUNTIF(#REF!,공량산출서!$A70:$B70)<ROW(공량산출서!R$1),"",OFFSET(공량산출서!R$1,SMALL(IF(#REF!=공량산출서!$A70:$B70,ROW(공량산출서!$A70)),ROW(공량산출서!R$1))-1,))} -> #REF! | K48: {=IF(COUNTIF(#REF!,공량산출서!$A70:$B70)<ROW(공량산출서!S$1),"",OFFSET(공량산출서!S$1,SMALL(IF(#REF!=공량산출서!$A70:$B70,ROW(공량산출서!$A70)),ROW(공량산출서!S$1))-1,))} -> #REF! | L48: =K48*J48 -> #REF! | M48: {=IF(COUNTIF(#REF!,공량산출서!$A70:$B70)<ROW(공량산출서!P$1),"",OFFSET(공량산출서!P$1,SMALL(IF(#REF!=공량산출서!$A70:$B70,ROW(공량산출서!$A70)),ROW(공량산출서!P$1))-1,))} -> #REF! | N48: =M48*J48 -> #REF! | O48: =N48+L48 -> #REF! | P48: =J48-D48 -> #REF! | Q48: =O48-I48 -> #REF! | R48: {=IF(COUNTIF(#REF!,공량산출서!$A70:$B70)<ROW(공량산출서!O$1),"",OFFSET(공량산출서!O$1,SMALL(IF(#REF!=공량산출서!$A70:$B70,ROW(공량산출서!$A70)),ROW(공량산출서!O$1))-1,))} -> #REF!
A49: {=IF(COUNTIF(#REF!,공량산출서!$A71:$B71)<ROW(공량산출서!A$1),"",OFFSET(공량산출서!A$1,SMALL(IF(#REF!=공량산출서!$A71:$B71,ROW(공량산출서!$A71)),ROW(공량산출서!A$1))-1,))} -> #REF! | B49: {=IF(COUNTIF(#REF!,공량산출서!$A71:$B71)<ROW(공량산출서!B$1),"",OFFSET(공량산출서!B$1,SMALL(IF(#REF!=공량산출서!$A71:$B71,ROW(공량산출서!$A71)),ROW(공량산출서!B$1))-1,))} -> #REF! | C49: {=IF(COUNTIF(#REF!,공량산출서!$A71:$B71)<ROW(공량산출서!Q$1),"",OFFSET(공량산출서!Q$1,SMALL(IF(#REF!=공량산출서!$A71:$B71,ROW(공량산출서!$A71)),ROW(공량산출서!Q$1))-1,))} -> #REF! | D49: 4 | E49: 1330000 | F49: =E49*D49 -> 5320000 | G49: 100661.68 | H49: =G49*D49 -> 402646.72 | I49: =H49+F49 -> 5722646.7 | J49: {=IF(COUNTIF(#REF!,공량산출서!$A71:$B71)<ROW(공량산출서!R$1),"",OFFSET(공량산출서!R$1,SMALL(IF(#REF!=공량산출서!$A71:$B71,ROW(공량산출서!$A71)),ROW(공량산출서!R$1))-1,))} -> #REF! | K49: {=IF(COUNTIF(#REF!,공량산출서!$A71:$B71)<ROW(공량산출서!S$1),"",OFFSET(공량산출서!S$1,SMALL(IF(#REF!=공량산출서!$A71:$B71,ROW(공량산출서!$A71)),ROW(공량산출서!S$1))-1,))} -> #REF! | L49: =K49*J49 -> #REF! | M49: {=IF(COUNTIF(#REF!,공량산출서!$A71:$B71)<ROW(공량산출서!P$1),"",OFFSET(공량산출서!P$1,SMALL(IF(#REF!=공량산출서!$A71:$B71,ROW(공량산출서!$A71)),ROW(공량산출서!P$1))-1,))} -> #REF! | N49: =M49*J49 -> #REF! | O49: =N49+L49 -> #REF! | P49: =J49-D49 -> #REF! | Q49: =O49-I49 -> #REF! | R49: {=IF(COUNTIF(#REF!,공량산출서!$A71:$B71)<ROW(공량산출서!O$1),"",OFFSET(공량산출서!O$1,SMALL(IF(#REF!=공량산출서!$A71:$B71,ROW(공량산출서!$A71)),ROW(공량산출서!O$1))-1,))} -> #REF!
A51: [ 소 계 ] | F51: =SUM(F40:F50) -> 195967700 | H51: =SUM(H40:H50) -> 25159978 | I51: =H51+F51 -> 2.2112768e+08 | L51: =SUM(L40:L50) -> #REF! | N51: =SUM(N40:N50) -> #REF! | O51: =N51+L51 -> #REF! | Q51: =SUM(Q40:Q50) -> #REF!
A52: 04. 주변기기 및 기타
A53: {=IF(COUNTIF(#REF!,공량산출서!$A34:$B34)<ROW(공량산출서!A$1),"",OFFSET(공량산출서!A$1,SMALL(IF(#REF!=공량산출서!$A34:$B34,ROW(공량산출서!$A34)),ROW(공량산출서!A$1))-1,))} -> #REF! | B53: {=IF(COUNTIF(#REF!,공량산출서!$A34:$B34)<ROW(공량산출서!B$1),"",OFFSET(공량산출서!B$1,SMALL(IF(#REF!=공량산출서!$A34:$B34,ROW(공량산출서!$A34)),ROW(공량산출서!B$1))-1,))} -> #REF! | C53: {=IF(COUNTIF(#REF!,공량산출서!$A34:$B34)<ROW(공량산출서!Q$1),"",OFFSET(공량산출서!Q$1,SMALL(IF(#REF!=공량산출서!$A34:$B34,ROW(공량산출서!$A34)),ROW(공량산출서!Q$1))-1,))} -> #REF! | D53: 38 | E53: 28500 | F53: =E53*D53 -> 1083000 | G53: 72943.2 | H53: =G53*D53 -> 2771841.6 | I53: =H53+F53 -> 3854841.6 | J53: {=IF(COUNTIF(#REF!,공량산출서!$A34:$B34)<ROW(공량산출서!R$1),"",OFFSET(공량산출서!R$1,SMALL(IF(#REF!=공량산출서!$A34:$B34,ROW(공량산출서!$A34)),ROW(공량산출서!R$1))-1,))} -> #REF! | K53: {=IF(COUNTIF(#REF!,공량산출서!$A34:$B34)<ROW(공량산출서!S$1),"",OFFSET(공량산출서!S$1,SMALL(IF(#REF!=공량산출서!$A34:$B34,ROW(공량산출서!$A34)),ROW(공량산출서!S$1))-1,))} -> #REF! | L53: =K53*J53 -> #REF! | M53: {=IF(COUNTIF(#REF!,공량산출서!$A34:$B34)<ROW(공량산출서!P$1),"",OFFSET(공량산출서!P$1,SMALL(IF(#REF!=공량산출서!$A34:$B34,ROW(공량산출서!$A34)),ROW(공량산출서!P$1))-1,))} -> #REF! | N53: =M53*J53 -> #REF! | O53: =N53+L53 -> #REF! | P53: =J53-D53 -> #REF! | Q53: =O53-I53 -> #REF! | R53: {=IF(COUNTIF(#REF!,공량산출서!$A34:$B34)<ROW(공량산출서!O$1),"",OFFSET(공량산출서!O$1,SMALL(IF(#REF!=공량산출서!$A34:$B34,ROW(공량산출서!$A34)),ROW(공량산출서!O$1))-1,))} -> #REF!
A54: {=IF(COUNTIF(#REF!,공량산출서!$A35:$B35)<ROW(공량산출서!A$1),"",OFFSET(공량산출서!A$1,SMALL(IF(#REF!=공량산출서!$A35:$B35,ROW(공량산출서!$A35)),ROW(공량산출서!A$1))-1,))} -> #REF! | B54: {=IF(COUNTIF(#REF!,공량산출서!$A35:$B35)<ROW(공량산출서!B$1),"",OFFSET(공량산출서!B$1,SMALL(IF(#REF!=공량산출서!$A35:$B35,ROW(공량산출서!$A35)),ROW(공량산출서!B$1))-1,))} -> #REF! | C54: {=IF(COUNTIF(#REF!,공량산출서!$A35:$B35)<ROW(공량산출서!Q$1),"",OFFSET(공량산출서!Q$1,SMALL(IF(#REF!=공량산출서!$A35:$B35,ROW(공량산출서!$A35)),ROW(공량산출서!Q$1))-1,))} -> #REF! | D54: 38 | E54: 114000 | F54: =E54*D54 -> 4332000 | G54: 102660.8 | H54: =G54*D54 -> 3901110.4 | I54: =H54+F54 -> 8233110.4 | J54: {=IF(COUNTIF(#REF!,공량산출서!$A35:$B35)<ROW(공량산출서!R$1),"",OFFSET(공량산출서!R$1,SMALL(IF(#REF!=공량산출서!$A35:$B35,ROW(공량산출서!$A35)),ROW(공량산출서!R$1))-1,))} -> #REF! | K54: {=IF(COUNTIF(#REF!,공량산출서!$A35:$B35)<ROW(공량산출서!S$1),"",OFFSET(공량산출서!S$1,SMALL(IF(#REF!=공량산출서!$A35:$B35,ROW(공량산출서!$A35)),ROW(공량산출서!S$1))-1,))} -> #REF! | L54: =K54*J54 -> #REF! | M54: {=IF(COUNTIF(#REF!,공량산출서!$A35:$B35)<ROW(공량산출서!P$1),"",OFFSET(공량산출서!P$1,SMALL(IF(#REF!=공량산출서!$A35:$B35,ROW(공량산출서!$A35)),ROW(공량산출서!P$1))-1,))} -> #REF! | N54: =M54*J54 -> #REF! | O54: =N54+L54 -> #REF! | P54: =J54-D54 -> #REF! | Q54: =O54-I54 -> #REF! | R54: {=IF(COUNTIF(#REF!,공량산출서!$A35:$B35)<ROW(공량산출서!O$1),"",OFFSET(공량산출서!O$1,SMALL(IF(#REF!=공량산출서!$A35:$B35,ROW(공량산출서!$A35)),ROW(공량산출서!O$1))-1,))} -> #REF!
A55: {=IF(COUNTIF(#REF!,공량산출서!$A36:$B36)<ROW(공량산출서!A$1),"",OFFSET(공량산출서!A$1,SMALL(IF(#REF!=공량산출서!$A36:$B36,ROW(공량산출서!$A36)),ROW(공량산출서!A$1))-1,))} -> #REF! | B55: {=IF(COUNTIF(#REF!,공량산출서!$A36:$B36)<ROW(공량산출서!B$1),"",OFFSET(공량산출서!B$1,SMALL(IF(#REF!=공량산출서!$A36:$B36,ROW(공량산출서!$A36)),ROW(공량산출서!B$1))-1,))} -> #REF! | C55: {=IF(COUNTIF(#REF!,공량산출서!$A36:$B36)<ROW(공량산출서!Q$1),"",OFFSET(공량산출서!Q$1,SMALL(IF(#REF!=공량산출서!$A36:$B36,ROW(공량산출서!$A36)),ROW(공량산출서!Q$1))-1,))} -> #REF! | D55: 31 | E55: 57000 | F55: =E55*D55 -> 1767000 | G55: 62136.8 | H55: =G55*D55 -> 1926240.8 | I55: =H55+F55 -> 3693240.8 | J55: {=IF(COUNTIF(#REF!,공량산출서!$A36:$B36)<ROW(공량산출서!R$1),"",OFFSET(공량산출서!R$1,SMALL(IF(#REF!=공량산출서!$A36:$B36,ROW(공량산출서!$A36)),ROW(공량산출서!R$1))-1,))} -> #REF! | K55: {=IF(COUNTIF(#REF!,공량산출서!$A36:$B36)<ROW(공량산출서!S$1),"",OFFSET(공량산출서!S$1,SMALL(IF(#REF!=공량산출서!$A36:$B36,ROW(공량산출서!$A36)),ROW(공량산출서!S$1))-1,))} -> #REF! | L55: =K55*J55 -> #REF! | M55: {=IF(COUNTIF(#REF!,공량산출서!$A36:$B36)<ROW(공량산출서!P$1),"",OFFSET(공량산출서!P$1,SMALL(IF(#REF!=공량산출서!$A36:$B36,ROW(공량산출서!$A36)),ROW(공량산출서!P$1))-1,))} -> #REF! | N55: =M55*J55 -> #REF! | O55: =N55+L55 -> #REF! | P55: =J55-D55 -> #REF! | Q55: =O55-I55 -> #REF! | R55: {=IF(COUNTIF(#REF!,공량산출서!$A36:$B36)<ROW(공량산출서!O$1),"",OFFSET(공량산출서!O$1,SMALL(IF(#REF!=공량산출서!$A36:$B36,ROW(공량산출서!$A36)),ROW(공량산출서!O$1))-1,))} -> #REF!
A56: {=IF(COUNTIF(#REF!,공량산출서!$A37:$B37)<ROW(공량산출서!A$1),"",OFFSET(공량산출서!A$1,SMALL(IF(#REF!=공량산출서!$A37:$B37,ROW(공량산출서!$A37)),ROW(공량산출서!A$1))-1,))} -> #REF! | B56: {=IF(COUNTIF(#REF!,공량산출서!$A37:$B37)<ROW(공량산출서!B$1),"",OFFSET(공량산출서!B$1,SMALL(IF(#REF!=공량산출서!$A37:$B37,ROW(공량산출서!$A37)),ROW(공량산출서!B$1))-1,))} -> #REF! | C56: {=IF(COUNTIF(#REF!,공량산출서!$A37:$B37)<ROW(공량산출서!Q$1),"",OFFSET(공량산출서!Q$1,SMALL(IF(#REF!=공량산출서!$A37:$B37,ROW(공량산출서!$A37)),ROW(공량산출서!Q$1))-1,))} -> #REF! | D56: 30 | E56: 665000 | F56: =E56*D56 -> 19950000 | G56: 105116.97 | H56: =G56*D56 -> 3153509.1 | I56: =H56+F56 -> 23103509 | J56: {=IF(COUNTIF(#REF!,공량산출서!$A37:$B37)<ROW(공량산출서!R$1),"",OFFSET(공량산출서!R$1,SMALL(IF(#REF!=공량산출서!$A37:$B37,ROW(공량산출서!$A37)),ROW(공량산출서!R$1))-1,))} -> #REF! | K56: {=IF(COUNTIF(#REF!,공량산출서!$A37:$B37)<ROW(공량산출서!S$1),"",OFFSET(공량산출서!S$1,SMALL(IF(#REF!=공량산출서!$A37:$B37,ROW(공량산출서!$A37)),ROW(공량산출서!S$1))-1,))} -> #REF! | L56: =K56*J56 -> #REF! | M56: {=IF(COUNTIF(#REF!,공량산출서!$A37:$B37)<ROW(공량산출서!P$1),"",OFFSET(공량산출서!P$1,SMALL(IF(#REF!=공량산출서!$A37:$B37,ROW(공량산출서!$A37)),ROW(공량산출서!P$1))-1,))} -> #REF! | N56: =M56*J56 -> #REF! | O56: =N56+L56 -> #REF! | P56: =J56-D56 -> #REF! | Q56: =O56-I56 -> #REF! | R56: {=IF(COUNTIF(#REF!,공량산출서!$A37:$B37)<ROW(공량산출서!O$1),"",OFFSET(공량산출서!O$1,SMALL(IF(#REF!=공량산출서!$A37:$B37,ROW(공량산출서!$A37)),ROW(공량산출서!O$1))-1,))} -> #REF!
A57: {=IF(COUNTIF(#REF!,공량산출서!$A38:$B38)<ROW(공량산출서!A$1),"",OFFSET(공량산출서!A$1,SMALL(IF(#REF!=공량산출서!$A38:$B38,ROW(공량산출서!$A38)),ROW(공량산출서!A$1))-1,))} -> #REF! | B57: {=IF(COUNTIF(#REF!,공량산출서!$A38:$B38)<ROW(공량산출서!B$1),"",OFFSET(공량산출서!B$1,SMALL(IF(#REF!=공량산출서!$A38:$B38,ROW(공량산출서!$A38)),ROW(공량산출서!B$1))-1,))} -> #REF! | C57: {=IF(COUNTIF(#REF!,공량산출서!$A38:$B38)<ROW(공량산출서!Q$1),"",OFFSET(공량산출서!Q$1,SMALL(IF(#REF!=공량산출서!$A38:$B38,ROW(공량산출서!$A38)),ROW(공량산출서!Q$1))-1,))} -> #REF! | D57: 5 | E57: 380000 | F57: =E57*D57 -> 1900000 | G57: 108064 | H57: =G57*D57 -> 540320 | I57: =H57+F57 -> 2440320 | J57: {=IF(COUNTIF(#REF!,공량산출서!$A38:$B38)<ROW(공량산출서!R$1),"",OFFSET(공량산출서!R$1,SMALL(IF(#REF!=공량산출서!$A38:$B38,ROW(공량산출서!$A38)),ROW(공량산출서!R$1))-1,))} -> #REF! | K57: {=IF(COUNTIF(#REF!,공량산출서!$A38:$B38)<ROW(공량산출서!S$1),"",OFFSET(공량산출서!S$1,SMALL(IF(#REF!=공량산출서!$A38:$B38,ROW(공량산출서!$A38)),ROW(공량산출서!S$1))-1,))} -> #REF! | L57: =K57*J57 -> #REF! | M57: {=IF(COUNTIF(#REF!,공량산출서!$A38:$B38)<ROW(공량산출서!P$1),"",OFFSET(공량산출서!P$1,SMALL(IF(#REF!=공량산출서!$A38:$B38,ROW(공량산출서!$A38)),ROW(공량산출서!P$1))-1,))} -> #REF! | N57: =M57*J57 -> #REF! | O57: =N57+L57 -> #REF! | P57: =J57-D57 -> #REF! | Q57: =O57-I57 -> #REF! | R57: {=IF(COUNTIF(#REF!,공량산출서!$A38:$B38)<ROW(공량산출서!O$1),"",OFFSET(공량산출서!O$1,SMALL(IF(#REF!=공량산출서!$A38:$B38,ROW(공량산출서!$A38)),ROW(공량산출서!O$1))-1,))} -> #REF!
A58: {=IF(COUNTIF(#REF!,공량산출서!$A39:$B39)<ROW(공량산출서!A$1),"",OFFSET(공량산출서!A$1,SMALL(IF(#REF!=공량산출서!$A39:$B39,ROW(공량산출서!$A39)),ROW(공량산출서!A$1))-1,))} -> #REF! | B58: {=IF(COUNTIF(#REF!,공량산출서!$A39:$B39)<ROW(공량산출서!B$1),"",OFFSET(공량산출서!B$1,SMALL(IF(#REF!=공량산출서!$A39:$B39,ROW(공량산출서!$A39)),ROW(공량산출서!B$1))-1,))} -> #REF! | C58: {=IF(COUNTIF(#REF!,공량산출서!$A39:$B39)<ROW(공량산출서!Q$1),"",OFFSET(공량산출서!Q$1,SMALL(IF(#REF!=공량산출서!$A39:$B39,ROW(공량산출서!$A39)),ROW(공량산출서!Q$1))-1,))} -> #REF! | D58: 25 | E58: 285000 | F58: =E58*D58 -> 7125000 | G58: 108064 | H58: =G58*D58 -> 2701600 | I58: =H58+F58 -> 9826600 | J58: {=IF(COUNTIF(#REF!,공량산출서!$A39:$B39)<ROW(공량산출서!R$1),"",OFFSET(공량산출서!R$1,SMALL(IF(#REF!=공량산출서!$A39:$B39,ROW(공량산출서!$A39)),ROW(공량산출서!R$1))-1,))} -> #REF! | K58: {=IF(COUNTIF(#REF!,공량산출서!$A39:$B39)<ROW(공량산출서!S$1),"",OFFSET(공량산출서!S$1,SMALL(IF(#REF!=공량산출서!$A39:$B39,ROW(공량산출서!$A39)),ROW(공량산출서!S$1))-1,))} -> #REF! | L58: =K58*J58 -> #REF! | M58: {=IF(COUNTIF(#REF!,공량산출서!$A39:$B39)<ROW(공량산출서!P$1),"",OFFSET(공량산출서!P$1,SMALL(IF(#REF!=공량산출서!$A39:$B39,ROW(공량산출서!$A39)),ROW(공량산출서!P$1))-1,))} -> #REF! | N58: =M58*J58 -> #REF! | O58: =N58+L58 -> #REF! | P58: =J58-D58 -> #REF! | Q58: =O58-I58 -> #REF! | R58: {=IF(COUNTIF(#REF!,공량산출서!$A39:$B39)<ROW(공량산출서!O$1),"",OFFSET(공량산출서!O$1,SMALL(IF(#REF!=공량산출서!$A39:$B39,ROW(공량산출서!$A39)),ROW(공량산출서!O$1))-1,))} -> #REF!
A59: {=IF(COUNTIF(#REF!,공량산출서!$A40:$B40)<ROW(공량산출서!A$1),"",OFFSET(공량산출서!A$1,SMALL(IF(#REF!=공량산출서!$A40:$B40,ROW(공량산출서!$A40)),ROW(공량산출서!A$1))-1,))} -> #REF! | B59: {=IF(COUNTIF(#REF!,공량산출서!$A40:$B40)<ROW(공량산출서!B$1),"",OFFSET(공량산출서!B$1,SMALL(IF(#REF!=공량산출서!$A40:$B40,ROW(공량산출서!$A40)),ROW(공량산출서!B$1))-1,))} -> #REF! | C59: {=IF(COUNTIF(#REF!,공량산출서!$A40:$B40)<ROW(공량산출서!Q$1),"",OFFSET(공량산출서!Q$1,SMALL(IF(#REF!=공량산출서!$A40:$B40,ROW(공량산출서!$A40)),ROW(공량산출서!Q$1))-1,))} -> #REF! | D59: 0 | E59: 380000 | F59: =E59*D59 -> 0 | G59: 108064 | H59: =G59*D59 -> 0 | I59: =H59+F59 -> 0 | J59: {=IF(COUNTIF(#REF!,공량산출서!$A40:$B40)<ROW(공량산출서!R$1),"",OFFSET(공량산출서!R$1,SMALL(IF(#REF!=공량산출서!$A40:$B40,ROW(공량산출서!$A40)),ROW(공량산출서!R$1))-1,))} -> #REF! | K59: {=IF(COUNTIF(#REF!,공량산출서!$A40:$B40)<ROW(공량산출서!S$1),"",OFFSET(공량산출서!S$1,SMALL(IF(#REF!=공량산출서!$A40:$B40,ROW(공량산출서!$A40)),ROW(공량산출서!S$1))-1,))} -> #REF! | L59: =K59*J59 -> #REF! | M59: {=IF(COUNTIF(#REF!,공량산출서!$A40:$B40)<ROW(공량산출서!P$1),"",OFFSET(공량산출서!P$1,SMALL(IF(#REF!=공량산출서!$A40:$B40,ROW(공량산출서!$A40)),ROW(공량산출서!P$1))-1,))} -> #REF! | N59: =M59*J59 -> #REF! | O59: =N59+L59 -> #REF! | P59: =J59-D59 -> #REF! | Q59: =O59-I59 -> #REF! | R59: {=IF(COUNTIF(#REF!,공량산출서!$A40:$B40)<ROW(공량산출서!O$1),"",OFFSET(공량산출서!O$1,SMALL(IF(#REF!=공량산출서!$A40:$B40,ROW(공량산출서!$A40)),ROW(공량산출서!O$1))-1,))} -> #REF!
A60: {=IF(COUNTIF(#REF!,공량산출서!$A41:$B41)<ROW(공량산출서!A$1),"",OFFSET(공량산출서!A$1,SMALL(IF(#REF!=공량산출서!$A41:$B41,ROW(공량산출서!$A41)),ROW(공량산출서!A$1))-1,))} -> #REF! | B60: {=IF(COUNTIF(#REF!,공량산출서!$A41:$B41)<ROW(공량산출서!B$1),"",OFFSET(공량산출서!B$1,SMALL(IF(#REF!=공량산출서!$A41:$B41,ROW(공량산출서!$A41)),ROW(공량산출서!B$1))-1,))} -> #REF! | C60: {=IF(COUNTIF(#REF!,공량산출서!$A41:$B41)<ROW(공량산출서!Q$1),"",OFFSET(공량산출서!Q$1,SMALL(IF(#REF!=공량산출서!$A41:$B41,ROW(공량산출서!$A41)),ROW(공량산출서!Q$1))-1,))} -> #REF! | D60: 30 | E60: 104500 | F60: =E60*D60 -> 3135000 | G60: 38561.28 | H60: =G60*D60 -> 1156838.4 | I60: =H60+F60 -> 4291838.4 | J60: {=IF(COUNTIF(#REF!,공량산출서!$A41:$B41)<ROW(공량산출서!R$1),"",OFFSET(공량산출서!R$1,SMALL(IF(#REF!=공량산출서!$A41:$B41,ROW(공량산출서!$A41)),ROW(공량산출서!R$1))-1,))} -> #REF! | K60: {=IF(COUNTIF(#REF!,공량산출서!$A41:$B41)<ROW(공량산출서!S$1),"",OFFSET(공량산출서!S$1,SMALL(IF(#REF!=공량산출서!$A41:$B41,ROW(공량산출서!$A41)),ROW(공량산출서!S$1))-1,))} -> #REF! | L60: =K60*J60 -> #REF! | M60: {=IF(COUNTIF(#REF!,공량산출서!$A41:$B41)<ROW(공량산출서!P$1),"",OFFSET(공량산출서!P$1,SMALL(IF(#REF!=공량산출서!$A41:$B41,ROW(공량산출서!$A41)),ROW(공량산출서!P$1))-1,))} -> #REF! | N60: =M60*J60 -> #REF! | O60: =N60+L60 -> #REF! | P60: =J60-D60 -> #REF! | Q60: =O60-I60 -> #REF! | R60: {=IF(COUNTIF(#REF!,공량산출서!$A41:$B41)<ROW(공량산출서!O$1),"",OFFSET(공량산출서!O$1,SMALL(IF(#REF!=공량산출서!$A41:$B41,ROW(공량산출서!$A41)),ROW(공량산출서!O$1))-1,))} -> #REF!
A61: {=IF(COUNTIF(#REF!,공량산출서!$A42:$B42)<ROW(공량산출서!A$1),"",OFFSET(공량산출서!A$1,SMALL(IF(#REF!=공량산출서!$A42:$B42,ROW(공량산출서!$A42)),ROW(공량산출서!A$1))-1,))} -> #REF! | B61: {=IF(COUNTIF(#REF!,공량산출서!$A42:$B42)<ROW(공량산출서!B$1),"",OFFSET(공량산출서!B$1,SMALL(IF(#REF!=공량산출서!$A42:$B42,ROW(공량산출서!$A42)),ROW(공량산출서!B$1))-1,))} -> #REF! | C61: {=IF(COUNTIF(#REF!,공량산출서!$A42:$B42)<ROW(공량산출서!Q$1),"",OFFSET(공량산출서!Q$1,SMALL(IF(#REF!=공량산출서!$A42:$B42,ROW(공량산출서!$A42)),ROW(공량산출서!Q$1))-1,))} -> #REF! | D61: 31 | E61: 95000 | F61: =E61*D61 -> 2945000 | G61: 23554.58 | H61: =G61*D61 -> 730191.98 | I61: =H61+F61 -> 3675192 | J61: {=IF(COUNTIF(#REF!,공량산출서!$A42:$B42)<ROW(공량산출서!R$1),"",OFFSET(공량산출서!R$1,SMALL(IF(#REF!=공량산출서!$A42:$B42,ROW(공량산출서!$A42)),ROW(공량산출서!R$1))-1,))} -> #REF! | K61: {=IF(COUNTIF(#REF!,공량산출서!$A42:$B42)<ROW(공량산출서!S$1),"",OFFSET(공량산출서!S$1,SMALL(IF(#REF!=공량산출서!$A42:$B42,ROW(공량산출서!$A42)),ROW(공량산출서!S$1))-1,))} -> #REF! | L61: =K61*J61 -> #REF! | M61: {=IF(COUNTIF(#REF!,공량산출서!$A42:$B42)<ROW(공량산출서!P$1),"",OFFSET(공량산출서!P$1,SMALL(IF(#REF!=공량산출서!$A42:$B42,ROW(공량산출서!$A42)),ROW(공량산출서!P$1))-1,))} -> #REF! | N61: =M61*J61 -> #REF! | O61: =N61+L61 -> #REF! | P61: =J61-D61 -> #REF! | Q61: =O61-I61 -> #REF! | R61: {=IF(COUNTIF(#REF!,공량산출서!$A42:$B42)<ROW(공량산출서!O$1),"",OFFSET(공량산출서!O$1,SMALL(IF(#REF!=공량산출서!$A42:$B42,ROW(공량산출서!$A42)),ROW(공량산출서!O$1))-1,))} -> #REF!
A62: {=IF(COUNTIF(#REF!,공량산출서!$A43:$B43)<ROW(공량산출서!A$1),"",OFFSET(공량산출서!A$1,SMALL(IF(#REF!=공량산출서!$A43:$B43,ROW(공량산출서!$A43)),ROW(공량산출서!A$1))-1,))} -> #REF! | B62: {=IF(COUNTIF(#REF!,공량산출서!$A43:$B43)<ROW(공량산출서!B$1),"",OFFSET(공량산출서!B$1,SMALL(IF(#REF!=공량산출서!$A43:$B43,ROW(공량산출서!$A43)),ROW(공량산출서!B$1))-1,))} -> #REF! | C62: {=IF(COUNTIF(#REF!,공량산출서!$A43:$B43)<ROW(공량산출서!Q$1),"",OFFSET(공량산출서!Q$1,SMALL(IF(#REF!=공량산출서!$A43:$B43,ROW(공량산출서!$A43)),ROW(공량산출서!Q$1))-1,))} -> #REF! | D62: 40 | E62: 79800 | F62: =E62*D62 -> 3192000 | G62: 24314.4 | H62: =G62*D62 -> 972576 | I62: =H62+F62 -> 4164576 | J62: {=IF(COUNTIF(#REF!,공량산출서!$A43:$B43)<ROW(공량산출서!R$1),"",OFFSET(공량산출서!R$1,SMALL(IF(#REF!=공량산출서!$A43:$B43,ROW(공량산출서!$A43)),ROW(공량산출서!R$1))-1,))} -> #REF! | K62: {=IF(COUNTIF(#REF!,공량산출서!$A43:$B43)<ROW(공량산출서!S$1),"",OFFSET(공량산출서!S$1,SMALL(IF(#REF!=공량산출서!$A43:$B43,ROW(공량산출서!$A43)),ROW(공량산출서!S$1))-1,))} -> #REF! | L62: =K62*J62 -> #REF! | M62: {=IF(COUNTIF(#REF!,공량산출서!$A43:$B43)<ROW(공량산출서!P$1),"",OFFSET(공량산출서!P$1,SMALL(IF(#REF!=공량산출서!$A43:$B43,ROW(공량산출서!$A43)),ROW(공량산출서!P$1))-1,))} -> #REF! | N62: =M62*J62 -> #REF! | O62: =N62+L62 -> #REF! | P62: =J62-D62 -> #REF! | Q62: =O62-I62 -> #REF! | R62: {=IF(COUNTIF(#REF!,공량산출서!$A43:$B43)<ROW(공량산출서!O$1),"",OFFSET(공량산출서!O$1,SMALL(IF(#REF!=공량산출서!$A43:$B43,ROW(공량산출서!$A43)),ROW(공량산출서!O$1))-1,))} -> #REF!
A63: {=IF(COUNTIF(#REF!,공량산출서!$A72:$B72)<ROW(공량산출서!A$1),"",OFFSET(공량산출서!A$1,SMALL(IF(#REF!=공량산출서!$A72:$B72,ROW(공량산출서!$A72)),ROW(공량산출서!A$1))-1,))} -> #REF! | B63: {=IF(COUNTIF(#REF!,공량산출서!$A72:$B72)<ROW(공량산출서!B$1),"",OFFSET(공량산출서!B$1,SMALL(IF(#REF!=공량산출서!$A72:$B72,ROW(공량산출서!$A72)),ROW(공량산출서!B$1))-1,))} -> #REF! | C63: {=IF(COUNTIF(#REF!,공량산출서!$A72:$B72)<ROW(공량산출서!Q$1),"",OFFSET(공량산출서!Q$1,SMALL(IF(#REF!=공량산출서!$A72:$B72,ROW(공량산출서!$A72)),ROW(공량산출서!Q$1))-1,))} -> #REF! | D63: 4 | E63: 199500 | F63: =E63*D63 -> 798000 | G63: 54032 | H63: =G63*D63 -> 216128 | I63: =H63+F63 -> 1014128 | J63: {=IF(COUNTIF(#REF!,공량산출서!$A72:$B72)<ROW(공량산출서!R$1),"",OFFSET(공량산출서!R$1,SMALL(IF(#REF!=공량산출서!$A72:$B72,ROW(공량산출서!$A72)),ROW(공량산출서!R$1))-1,))} -> #REF! | K63: {=IF(COUNTIF(#REF!,공량산출서!$A72:$B72)<ROW(공량산출서!S$1),"",OFFSET(공량산출서!S$1,SMALL(IF(#REF!=공량산출서!$A72:$B72,ROW(공량산출서!$A72)),ROW(공량산출서!S$1))-1,))} -> #REF! | L63: =K63*J63 -> #REF! | M63: {=IF(COUNTIF(#REF!,공량산출서!$A72:$B72)<ROW(공량산출서!P$1),"",OFFSET(공량산출서!P$1,SMALL(IF(#REF!=공량산출서!$A72:$B72,ROW(공량산출서!$A72)),ROW(공량산출서!P$1))-1,))} -> #REF! | N63: =M63*J63 -> #REF! | O63: =N63+L63 -> #REF! | P63: =J63-D63 -> #REF! | Q63: =O63-I63 -> #REF! | R63: {=IF(COUNTIF(#REF!,공량산출서!$A72:$B72)<ROW(공량산출서!O$1),"",OFFSET(공량산출서!O$1,SMALL(IF(#REF!=공량산출서!$A72:$B72,ROW(공량산출서!$A72)),ROW(공량산출서!O$1))-1,))} -> #REF!
A64: {=IF(COUNTIF(#REF!,공량산출서!$A73:$B73)<ROW(공량산출서!A$1),"",OFFSET(공량산출서!A$1,SMALL(IF(#REF!=공량산출서!$A73:$B73,ROW(공량산출서!$A73)),ROW(공량산출서!A$1))-1,))} -> #REF! | B64: {=IF(COUNTIF(#REF!,공량산출서!$A73:$B73)<ROW(공량산출서!B$1),"",OFFSET(공량산출서!B$1,SMALL(IF(#REF!=공량산출서!$A73:$B73,ROW(공량산출서!$A73)),ROW(공량산출서!B$1))-1,))} -> #REF! | C64: {=IF(COUNTIF(#REF!,공량산출서!$A73:$B73)<ROW(공량산출서!Q$1),"",OFFSET(공량산출서!Q$1,SMALL(IF(#REF!=공량산출서!$A73:$B73,ROW(공량산출서!$A73)),ROW(공량산출서!Q$1))-1,))} -> #REF! | D64: 0 | E64: 199500 | F64: =E64*D64 -> 0 | G64: 54032 | H64: =G64*D64 -> 0 | I64: =H64+F64 -> 0 | J64: {=IF(COUNTIF(#REF!,공량산출서!$A73:$B73)<ROW(공량산출서!R$1),"",OFFSET(공량산출서!R$1,SMALL(IF(#REF!=공량산출서!$A73:$B73,ROW(공량산출서!$A73)),ROW(공량산출서!R$1))-1,))} -> #REF! | K64: {=IF(COUNTIF(#REF!,공량산출서!$A73:$B73)<ROW(공량산출서!S$1),"",OFFSET(공량산출서!S$1,SMALL(IF(#REF!=공량산출서!$A73:$B73,ROW(공량산출서!$A73)),ROW(공량산출서!S$1))-1,))} -> #REF! | L64: =K64*J64 -> #REF! | M64: {=IF(COUNTIF(#REF!,공량산출서!$A73:$B73)<ROW(공량산출서!P$1),"",OFFSET(공량산출서!P$1,SMALL(IF(#REF!=공량산출서!$A73:$B73,ROW(공량산출서!$A73)),ROW(공량산출서!P$1))-1,))} -> #REF! | N64: =M64*J64 -> #REF! | O64: =N64+L64 -> #REF! | P64: =J64-D64 -> #REF! | Q64: =O64-I64 -> #REF! | R64: {=IF(COUNTIF(#REF!,공량산출서!$A73:$B73)<ROW(공량산출서!O$1),"",OFFSET(공량산출서!O$1,SMALL(IF(#REF!=공량산출서!$A73:$B73,ROW(공량산출서!$A73)),ROW(공량산출서!O$1))-1,))} -> #REF!
A65: {=IF(COUNTIF(#REF!,공량산출서!$A75:$B75)<ROW(공량산출서!A$1),"",OFFSET(공량산출서!A$1,SMALL(IF(#REF!=공량산출서!$A75:$B75,ROW(공량산출서!$A75)),ROW(공량산출서!A$1))-1,))} -> #REF! | B65: {=IF(COUNTIF(#REF!,공량산출서!$A75:$B75)<ROW(공량산출서!B$1),"",OFFSET(공량산출서!B$1,SMALL(IF(#REF!=공량산출서!$A75:$B75,ROW(공량산출서!$A75)),ROW(공량산출서!B$1))-1,))} -> #REF! | C65: {=IF(COUNTIF(#REF!,공량산출서!$A75:$B75)<ROW(공량산출서!Q$1),"",OFFSET(공량산출서!Q$1,SMALL(IF(#REF!=공량산출서!$A75:$B75,ROW(공량산출서!$A75)),ROW(공량산출서!Q$1))-1,))} -> #REF! | D65: 9 | E65: 513000 | F65: =E65*D65 -> 4617000 | G65: 82686.38 | H65: =G65*D65 -> 744177.42 | I65: =H65+F65 -> 5361177.4 | J65: {=IF(COUNTIF(#REF!,공량산출서!$A75:$B75)<ROW(공량산출서!R$1),"",OFFSET(공량산출서!R$1,SMALL(IF(#REF!=공량산출서!$A75:$B75,ROW(공량산출서!$A75)),ROW(공량산출서!R$1))-1,))} -> #REF! | K65: {=IF(COUNTIF(#REF!,공량산출서!$A75:$B75)<ROW(공량산출서!S$1),"",OFFSET(공량산출서!S$1,SMALL(IF(#REF!=공량산출서!$A75:$B75,ROW(공량산출서!$A75)),ROW(공량산출서!S$1))-1,))} -> #REF! | L65: =K65*J65 -> #REF! | M65: {=IF(COUNTIF(#REF!,공량산출서!$A75:$B75)<ROW(공량산출서!P$1),"",OFFSET(공량산출서!P$1,SMALL(IF(#REF!=공량산출서!$A75:$B75,ROW(공량산출서!$A75)),ROW(공량산출서!P$1))-1,))} -> #REF! | N65: =M65*J65 -> #REF! | O65: =N65+L65 -> #REF! | P65: =J65-D65 -> #REF! | Q65: =O65-I65 -> #REF! | R65: {=IF(COUNTIF(#REF!,공량산출서!$A75:$B75)<ROW(공량산출서!O$1),"",OFFSET(공량산출서!O$1,SMALL(IF(#REF!=공량산출서!$A75:$B75,ROW(공량산출서!$A75)),ROW(공량산출서!O$1))-1,))} -> #REF!
A66: {=IF(COUNTIF(#REF!,공량산출서!$A76:$B76)<ROW(공량산출서!A$1),"",OFFSET(공량산출서!A$1,SMALL(IF(#REF!=공량산출서!$A76:$B76,ROW(공량산출서!$A76)),ROW(공량산출서!A$1))-1,))} -> #REF! | B66: {=IF(COUNTIF(#REF!,공량산출서!$A76:$B76)<ROW(공량산출서!B$1),"",OFFSET(공량산출서!B$1,SMALL(IF(#REF!=공량산출서!$A76:$B76,ROW(공량산출서!$A76)),ROW(공량산출서!B$1))-1,))} -> #REF! | C66: {=IF(COUNTIF(#REF!,공량산출서!$A76:$B76)<ROW(공량산출서!Q$1),"",OFFSET(공량산출서!Q$1,SMALL(IF(#REF!=공량산출서!$A76:$B76,ROW(공량산출서!$A76)),ROW(공량산출서!Q$1))-1,))} -> #REF! | D66: 0 | E66: 513000 | F66: =E66*D66 -> 0 | G66: 82686.38 | H66: =G66*D66 -> 0 | I66: =H66+F66 -> 0 | J66: {=IF(COUNTIF(#REF!,공량산출서!$A76:$B76)<ROW(공량산출서!R$1),"",OFFSET(공량산출서!R$1,SMALL(IF(#REF!=공량산출서!$A76:$B76,ROW(공량산출서!$A76)),ROW(공량산출서!R$1))-1,))} -> #REF! | K66: {=IF(COUNTIF(#REF!,공량산출서!$A76:$B76)<ROW(공량산출서!S$1),"",OFFSET(공량산출서!S$1,SMALL(IF(#REF!=공량산출서!$A76:$B76,ROW(공량산출서!$A76)),ROW(공량산출서!S$1))-1,))} -> #REF! | L66: =K66*J66 -> #REF! | M66: {=IF(COUNTIF(#REF!,공량산출서!$A76:$B76)<ROW(공량산출서!P$1),"",OFFSET(공량산출서!P$1,SMALL(IF(#REF!=공량산출서!$A76:$B76,ROW(공량산출서!$A76)),ROW(공량산출서!P$1))-1,))} -> #REF! | N66: =M66*J66 -> #REF! | O66: =N66+L66 -> #REF! | P66: =J66-D66 -> #REF! | Q66: =O66-I66 -> #REF! | R66: {=IF(COUNTIF(#REF!,공량산출서!$A76:$B76)<ROW(공량산출서!O$1),"",OFFSET(공량산출서!O$1,SMALL(IF(#REF!=공량산출서!$A76:$B76,ROW(공량산출서!$A76)),ROW(공량산출서!O$1))-1,))} -> #REF!
A67: {=IF(COUNTIF(#REF!,공량산출서!$A77:$B77)<ROW(공량산출서!A$1),"",OFFSET(공량산출서!A$1,SMALL(IF(#REF!=공량산출서!$A77:$B77,ROW(공량산출서!$A77)),ROW(공량산출서!A$1))-1,))} -> #REF! | B67: {=IF(COUNTIF(#REF!,공량산출서!$A77:$B77)<ROW(공량산출서!B$1),"",OFFSET(공량산출서!B$1,SMALL(IF(#REF!=공량산출서!$A77:$B77,ROW(공량산출서!$A77)),ROW(공량산출서!B$1))-1,))} -> #REF! | C67: {=IF(COUNTIF(#REF!,공량산출서!$A77:$B77)<ROW(공량산출서!Q$1),"",OFFSET(공량산출서!Q$1,SMALL(IF(#REF!=공량산출서!$A77:$B77,ROW(공량산출서!$A77)),ROW(공량산출서!Q$1))-1,))} -> #REF! | D67: 2 | E67: 912000 | F67: =E67*D67 -> 1824000 | G67: 87865.88 | H67: =G67*D67 -> 175731.76 | I67: =H67+F67 -> 1999731.8 | J67: {=IF(COUNTIF(#REF!,공량산출서!$A77:$B77)<ROW(공량산출서!R$1),"",OFFSET(공량산출서!R$1,SMALL(IF(#REF!=공량산출서!$A77:$B77,ROW(공량산출서!$A77)),ROW(공량산출서!R$1))-1,))} -> #REF! | K67: {=IF(COUNTIF(#REF!,공량산출서!$A77:$B77)<ROW(공량산출서!S$1),"",OFFSET(공량산출서!S$1,SMALL(IF(#REF!=공량산출서!$A77:$B77,ROW(공량산출서!$A77)),ROW(공량산출서!S$1))-1,))} -> #REF! | L67: =K67*J67 -> #REF! | M67: {=IF(COUNTIF(#REF!,공량산출서!$A77:$B77)<ROW(공량산출서!P$1),"",OFFSET(공량산출서!P$1,SMALL(IF(#REF!=공량산출서!$A77:$B77,ROW(공량산출서!$A77)),ROW(공량산출서!P$1))-1,))} -> #REF! | N67: =M67*J67 -> #REF! | O67: =N67+L67 -> #REF! | P67: =J67-D67 -> #REF! | Q67: =O67-I67 -> #REF! | R67: {=IF(COUNTIF(#REF!,공량산출서!$A77:$B77)<ROW(공량산출서!O$1),"",OFFSET(공량산출서!O$1,SMALL(IF(#REF!=공량산출서!$A77:$B77,ROW(공량산출서!$A77)),ROW(공량산출서!O$1))-1,))} -> #REF!
A68: {=IF(COUNTIF(#REF!,공량산출서!$A78:$B78)<ROW(공량산출서!A$1),"",OFFSET(공량산출서!A$1,SMALL(IF(#REF!=공량산출서!$A78:$B78,ROW(공량산출서!$A78)),ROW(공량산출서!A$1))-1,))} -> #REF! | B68: {=IF(COUNTIF(#REF!,공량산출서!$A78:$B78)<ROW(공량산출서!B$1),"",OFFSET(공량산출서!B$1,SMALL(IF(#REF!=공량산출서!$A78:$B78,ROW(공량산출서!$A78)),ROW(공량산출서!B$1))-1,))} -> #REF! | C68: {=IF(COUNTIF(#REF!,공량산출서!$A78:$B78)<ROW(공량산출서!Q$1),"",OFFSET(공량산출서!Q$1,SMALL(IF(#REF!=공량산출서!$A78:$B78,ROW(공량산출서!$A78)),ROW(공량산출서!Q$1))-1,))} -> #REF! | D68: 18 | E68: 76000 | F68: =E68*D68 -> 1368000 | G68: 0 | H68: =G68*D68 -> 0 | I68: =H68+F68 -> 1368000 | J68: {=IF(COUNTIF(#REF!,공량산출서!$A78:$B78)<ROW(공량산출서!R$1),"",OFFSET(공량산출서!R$1,SMALL(IF(#REF!=공량산출서!$A78:$B78,ROW(공량산출서!$A78)),ROW(공량산출서!R$1))-1,))} -> #REF! | K68: {=IF(COUNTIF(#REF!,공량산출서!$A78:$B78)<ROW(공량산출서!S$1),"",OFFSET(공량산출서!S$1,SMALL(IF(#REF!=공량산출서!$A78:$B78,ROW(공량산출서!$A78)),ROW(공량산출서!S$1))-1,))} -> #REF! | L68: =K68*J68 -> #REF! | M68: {=IF(COUNTIF(#REF!,공량산출서!$A78:$B78)<ROW(공량산출서!P$1),"",OFFSET(공량산출서!P$1,SMALL(IF(#REF!=공량산출서!$A78:$B78,ROW(공량산출서!$A78)),ROW(공량산출서!P$1))-1,))} -> #REF! | N68: =M68*J68 -> #REF! | O68: =N68+L68 -> #REF! | P68: =J68-D68 -> #REF! | Q68: =O68-I68 -> #REF! | R68: {=IF(COUNTIF(#REF!,공량산출서!$A78:$B78)<ROW(공량산출서!O$1),"",OFFSET(공량산출서!O$1,SMALL(IF(#REF!=공량산출서!$A78:$B78,ROW(공량산출서!$A78)),ROW(공량산출서!O$1))-1,))} -> #REF!
A69: {=IF(COUNTIF(#REF!,공량산출서!$A58:$B58)<ROW(공량산출서!A$1),"",OFFSET(공량산출서!A$1,SMALL(IF(#REF!=공량산출서!$A58:$B58,ROW(공량산출서!$A58)),ROW(공량산출서!A$1))-1,))} -> #REF! | B69: {=IF(COUNTIF(#REF!,공량산출서!$A58:$B58)<ROW(공량산출서!B$1),"",OFFSET(공량산출서!B$1,SMALL(IF(#REF!=공량산출서!$A58:$B58,ROW(공량산출서!$A58)),ROW(공량산출서!B$1))-1,))} -> #REF! | C69: {=IF(COUNTIF(#REF!,공량산출서!$A58:$B58)<ROW(공량산출서!Q$1),"",OFFSET(공량산출서!Q$1,SMALL(IF(#REF!=공량산출서!$A58:$B58,ROW(공량산출서!$A58)),ROW(공량산출서!Q$1))-1,))} -> #REF! | D69: 19 | E69: 285000 | F69: =E69*D69 -> 5415000 | G69: 91427.44 | H69: =G69*D69 -> 1737121.4 | I69: =H69+F69 -> 7152121.4 | J69: {=IF(COUNTIF(#REF!,공량산출서!$A58:$B58)<ROW(공량산출서!R$1),"",OFFSET(공량산출서!R$1,SMALL(IF(#REF!=공량산출서!$A58:$B58,ROW(공량산출서!$A58)),ROW(공량산출서!R$1))-1,))} -> #REF! | K69: {=IF(COUNTIF(#REF!,공량산출서!$A58:$B58)<ROW(공량산출서!S$1),"",OFFSET(공량산출서!S$1,SMALL(IF(#REF!=공량산출서!$A58:$B58,ROW(공량산출서!$A58)),ROW(공량산출서!S$1))-1,))} -> #REF! | L69: =K69*J69 -> #REF! | M69: {=IF(COUNTIF(#REF!,공량산출서!$A58:$B58)<ROW(공량산출서!P$1),"",OFFSET(공량산출서!P$1,SMALL(IF(#REF!=공량산출서!$A58:$B58,ROW(공량산출서!$A58)),ROW(공량산출서!P$1))-1,))} -> #REF! | N69: =M69*J69 -> #REF! | O69: =N69+L69 -> #REF! | P69: =J69-D69 -> #REF! | Q69: =O69-I69 -> #REF! | R69: {=IF(COUNTIF(#REF!,공량산출서!$A58:$B58)<ROW(공량산출서!O$1),"",OFFSET(공량산출서!O$1,SMALL(IF(#REF!=공량산출서!$A58:$B58,ROW(공량산출서!$A58)),ROW(공량산출서!O$1))-1,))} -> #REF!
A70: {=IF(COUNTIF(#REF!,공량산출서!$A59:$B59)<ROW(공량산출서!A$1),"",OFFSET(공량산출서!A$1,SMALL(IF(#REF!=공량산출서!$A59:$B59,ROW(공량산출서!$A59)),ROW(공량산출서!A$1))-1,))} -> #REF! | B70: {=IF(COUNTIF(#REF!,공량산출서!$A59:$B59)<ROW(공량산출서!B$1),"",OFFSET(공량산출서!B$1,SMALL(IF(#REF!=공량산출서!$A59:$B59,ROW(공량산출서!$A59)),ROW(공량산출서!B$1))-1,))} -> #REF! | C70: {=IF(COUNTIF(#REF!,공량산출서!$A59:$B59)<ROW(공량산출서!Q$1),"",OFFSET(공량산출서!Q$1,SMALL(IF(#REF!=공량산출서!$A59:$B59,ROW(공량산출서!$A59)),ROW(공량산출서!Q$1))-1,))} -> #REF! | D70: 0 | E70: 285000 | F70: =E70*D70 -> 0 | G70: 91427.44 | H70: =G70*D70 -> 0 | I70: =H70+F70 -> 0 | J70: {=IF(COUNTIF(#REF!,공량산출서!$A59:$B59)<ROW(공량산출서!R$1),"",OFFSET(공량산출서!R$1,SMALL(IF(#REF!=공량산출서!$A59:$B59,ROW(공량산출서!$A59)),ROW(공량산출서!R$1))-1,))} -> #REF! | K70: {=IF(COUNTIF(#REF!,공량산출서!$A59:$B59)<ROW(공량산출서!S$1),"",OFFSET(공량산출서!S$1,SMALL(IF(#REF!=공량산출서!$A59:$B59,ROW(공량산출서!$A59)),ROW(공량산출서!S$1))-1,))} -> #REF! | L70: =K70*J70 -> #REF! | M70: {=IF(COUNTIF(#REF!,공량산출서!$A59:$B59)<ROW(공량산출서!P$1),"",OFFSET(공량산출서!P$1,SMALL(IF(#REF!=공량산출서!$A59:$B59,ROW(공량산출서!$A59)),ROW(공량산출서!P$1))-1,))} -> #REF! | N70: =M70*J70 -> #REF! | O70: =N70+L70 -> #REF! | P70: =J70-D70 -> #REF! | Q70: =O70-I70 -> #REF! | R70: {=IF(COUNTIF(#REF!,공량산출서!$A59:$B59)<ROW(공량산출서!O$1),"",OFFSET(공량산출서!O$1,SMALL(IF(#REF!=공량산출서!$A59:$B59,ROW(공량산출서!$A59)),ROW(공량산출서!O$1))-1,))} -> #REF!
A71: {=IF(COUNTIF(#REF!,공량산출서!$A79:$B79)<ROW(공량산출서!A$1),"",OFFSET(공량산출서!A$1,SMALL(IF(#REF!=공량산출서!$A79:$B79,ROW(공량산출서!$A79)),ROW(공량산출서!A$1))-1,))} -> #REF! | B71: {=IF(COUNTIF(#REF!,공량산출서!$A79:$B79)<ROW(공량산출서!B$1),"",OFFSET(공량산출서!B$1,SMALL(IF(#REF!=공량산출서!$A79:$B79,ROW(공량산출서!$A79)),ROW(공량산출서!B$1))-1,))} -> #REF! | C71: {=IF(COUNTIF(#REF!,공량산출서!$A79:$B79)<ROW(공량산출서!Q$1),"",OFFSET(공량산출서!Q$1,SMALL(IF(#REF!=공량산출서!$A79:$B79,ROW(공량산출서!$A79)),ROW(공량산출서!Q$1))-1,))} -> #REF! | D71: 9 | E71: 665000 | F71: =E71*D71 -> 5985000 | G71: 91427.44 | H71: =G71*D71 -> 822846.96 | I71: =H71+F71 -> 6807847 | J71: {=IF(COUNTIF(#REF!,공량산출서!$A79:$B79)<ROW(공량산출서!R$1),"",OFFSET(공량산출서!R$1,SMALL(IF(#REF!=공량산출서!$A79:$B79,ROW(공량산출서!$A79)),ROW(공량산출서!R$1))-1,))} -> #REF! | K71: {=IF(COUNTIF(#REF!,공량산출서!$A79:$B79)<ROW(공량산출서!S$1),"",OFFSET(공량산출서!S$1,SMALL(IF(#REF!=공량산출서!$A79:$B79,ROW(공량산출서!$A79)),ROW(공량산출서!S$1))-1,))} -> #REF! | L71: =K71*J71 -> #REF! | M71: {=IF(COUNTIF(#REF!,공량산출서!$A79:$B79)<ROW(공량산출서!P$1),"",OFFSET(공량산출서!P$1,SMALL(IF(#REF!=공량산출서!$A79:$B79,ROW(공량산출서!$A79)),ROW(공량산출서!P$1))-1,))} -> #REF! | N71: =M71*J71 -> #REF! | O71: =N71+L71 -> #REF! | P71: =J71-D71 -> #REF! | Q71: =O71-I71 -> #REF! | R71: {=IF(COUNTIF(#REF!,공량산출서!$A79:$B79)<ROW(공량산출서!O$1),"",OFFSET(공량산출서!O$1,SMALL(IF(#REF!=공량산출서!$A79:$B79,ROW(공량산출서!$A79)),ROW(공량산출서!O$1))-1,))} -> #REF!
A72: {=IF(COUNTIF(#REF!,공량산출서!$A74:$B74)<ROW(공량산출서!A$1),"",OFFSET(공량산출서!A$1,SMALL(IF(#REF!=공량산출서!$A74:$B74,ROW(공량산출서!$A74)),ROW(공량산출서!A$1))-1,))} -> #REF! | B72: {=IF(COUNTIF(#REF!,공량산출서!$A74:$B74)<ROW(공량산출서!B$1),"",OFFSET(공량산출서!B$1,SMALL(IF(#REF!=공량산출서!$A74:$B74,ROW(공량산출서!$A74)),ROW(공량산출서!B$1))-1,))} -> #REF! | C72: {=IF(COUNTIF(#REF!,공량산출서!$A74:$B74)<ROW(공량산출서!Q$1),"",OFFSET(공량산출서!Q$1,SMALL(IF(#REF!=공량산출서!$A74:$B74,ROW(공량산출서!$A74)),ROW(공량산출서!Q$1))-1,))} -> #REF! | D72: 1 | E72: 3800000 | F72: =E72*D72 -> 3800000 | G72: 91427.44 | H72: =G72*D72 -> 91427.44 | I72: =H72+F72 -> 3891427.4 | J72: {=IF(COUNTIF(#REF!,공량산출서!$A74:$B74)<ROW(공량산출서!R$1),"",OFFSET(공량산출서!R$1,SMALL(IF(#REF!=공량산출서!$A74:$B74,ROW(공량산출서!$A74)),ROW(공량산출서!R$1))-1,))} -> #REF! | K72: {=IF(COUNTIF(#REF!,공량산출서!$A74:$B74)<ROW(공량산출서!S$1),"",OFFSET(공량산출서!S$1,SMALL(IF(#REF!=공량산출서!$A74:$B74,ROW(공량산출서!$A74)),ROW(공량산출서!S$1))-1,))} -> #REF! | L72: =K72*J72 -> #REF! | M72: {=IF(COUNTIF(#REF!,공량산출서!$A74:$B74)<ROW(공량산출서!P$1),"",OFFSET(공량산출서!P$1,SMALL(IF(#REF!=공량산출서!$A74:$B74,ROW(공량산출서!$A74)),ROW(공량산출서!P$1))-1,))} -> #REF! | N72: =M72*J72 -> #REF! | O72: =N72+L72 -> #REF! | P72: =J72-D72 -> #REF! | Q72: =O72-I72 -> #REF! | R72: {=IF(COUNTIF(#REF!,공량산출서!$A74:$B74)<ROW(공량산출서!O$1),"",OFFSET(공량산출서!O$1,SMALL(IF(#REF!=공량산출서!$A74:$B74,ROW(공량산출서!$A74)),ROW(공량산출서!O$1))-1,))} -> #REF!
A74: [ 소 계 ] | F74: =SUM(F53:F73) -> 69236000 | H74: =SUM(H53:H73) -> 21641661 | I74: =H74+F74 -> 90877661 | L74: =SUM(L53:L73) -> #REF! | N74: =SUM(N53:N73) -> #REF! | O74: =N74+L74 -> #REF! | Q74: =SUM(Q53:Q73) -> #REF!
A76: [ 총 계 ] | F76: =F74++F51+F38+F22 -> 738159300 | H76: =H74++H51+H38+H22 -> 60820427 | I76: =H76+F76 -> 7.9897973e+08 | L76: =L74++L51+L38+L22 -> #REF! | N76: =N74++N51+N38+N22 -> #REF! | O76: =N76+L76 -> #REF! | Q76: =Q74++Q51+Q38+Q22 -> #REF!

Sheet 공량산출서
A1: 노 무 비 산 출 내 역
A2: =내역서!$A$2 -> 공사명 : 종합의료복합단지(2단계) 화물용 엘리베이터 구매 | C2: 장소가 많이 있어서 장소를 추가 할 경우 11번과 예비 사이에 열을 추가해 주세요
A3: 품 명 | B3: 규 격 | C3: 자재 산출 기초 자료 | O3: 참 고 (노무비 산출) | P3: 노무비단가 | Q3: 단위 | R3: 합계 수량 | S3: 적용 단가 | T3: =#REF! -> #REF! | V3: =#REF! -> #REF! | X3: =#REF! -> #REF! | Z3: =#REF! -> #REF! | AB3: =#REF! -> #REF! | AD3: =#REF! -> #REF! | AF3: =#REF! -> #REF! | AH3: =#REF! -> #REF! | AJ3: =#REF! -> #REF! | AL3: =#REF! -> #REF! | AN3: =#REF! -> #REF! | AP3: =#REF! -> #REF! | AR3: =#REF! -> #REF! | AT3: =#REF! -> #REF! | AV3: 비 고
C4: 청사동 | D4: 옥외 | E4: 기숙사동 | F4: main | G4: 설치 장소 (5) | H4: 설치 장소 (6) | I4: 설치 장소 (7) | J4: 설치 장소 (8) | K4: 설치 장소 (9) | L4: 설치 장소 (10) | M4: 설치 장소 (11) | N4: 예비 | T4: 단위 | U4: 공량 | V4: 단위 | W4: 공량 | X4: 단위 | Y4: 공량 | Z4: 단위 | AA4: 공량 | AB4: 단위 | AC4: 공량 | AD4: 단위 | AE4: 공량 | AF4: 단위 | AG4: 공량 | AH4: 단위 | AI4: 공량 | AJ4: 단위 | AK4: 공량 | AL4: 단위 | AM4: 공량 | AN4: 단위 | AO4: 공량 | AP4: 단위 | AQ4: 공량 | AR4: 단위 | AS4: 공량 | AT4: 단위 | AU4: 공량
T5: 공량합계 | U5: =SUM(U$6:U$82) -> #REF! | V5: 공량합계 | W5: =SUM(W$6:W$82) -> #REF! | X5: 공량합계 | Y5: =SUM(Y$6:Y$82) -> #REF! | Z5: 공량합계 | AA5: =SUM(AA$6:AA$82) -> #REF! | AB5: 공량합계 | AC5: =SUM(AC$6:AC$82) -> #REF! | AD5: 공량합계 | AE5: =SUM(AE$6:AE$82) -> #REF! | AF5: 공량합계 | AG5: =SUM(AG$6:AG$82) -> #REF! | AH5: 공량합계 | AI5: =SUM(AI$6:AI$82) -> #REF! | AJ5: 공량합계 | AK5: =SUM(AK$6:AK$82) -> #REF! | AL5: 공량합계 | AM5: =SUM(AM$6:AM$82) -> #REF! | AN5: 공량합계 | AO5: =SUM(AO$6:AO$82) -> #REF! | AP5: 공량합계 | AQ5: =SUM(AQ$6:AQ$82) -> #REF! | AR5: 공량합계 | AS5: =SUM(AS$6:AS$82) -> #REF! | AT5: 공량합계 | AU5: =SUM(AU$6:AU$82) -> #REF!
A6: 01.대표품목
A7: GIT-MSVR-STR
A8: =#REF! -> #REF! | B8: =#REF! -> #REF! | F8: 4 | G8: =SUM(C8:F8) -> 4 | J8: =SUM(H8:I8) -> 0 | O8: 노무비없음 | P8: =SUMPRODUCT(($O8=#REF!)*(#REF!)) -> #REF! | Q8: =#REF! -> #REF! | R8: =G8+J8 -> 4 | S8: =#REF! -> #REF! | T8: =SUMPRODUCT((#REF!=$O8)*(#REF!=T$3)*#REF!) -> #REF! | U8: =(T8*$R8) -> #REF! | V8: =SUMPRODUCT((#REF!=$O8)*(#REF!=V$3)*#REF!) -> #REF! | W8: =(V8*$R8) -> #REF! | X8: =SUMPRODUCT((#REF!=$O8)*(#REF!=X$3)*#REF!) -> #REF! | Y8: =(X8*$R8) -> #REF! | Z8: =SUMPRODUCT((#REF!=$O8)*(#REF!=Z$3)*#REF!) -> #REF! | AA8: =(Z8*$R8) -> #REF! | AB8: =SUMPRODUCT((#REF!=$O8)*(#REF!=AB$3)*#REF!) -> #REF! | AC8: =(AB8*$R8) -> #REF! | AD8: =SUMPRODUCT((#REF!=$O8)*(#REF!=AD$3)*#REF!) -> #REF! | AE8: =(AD8*$R8) -> #REF! | AF8: =SUMPRODUCT((#REF!=$O8)*(#REF!=AF$3)*#REF!) -> #REF! | AG8: =(AF8*$R8) -> #REF! | AH8: =SUMPRODUCT((#REF!=$O8)*(#REF!=AH$3)*#REF!) -> #REF! | AI8: =(AH8*$R8) -> #REF! | AJ8: =SUMPRODUCT((#REF!=$O8)*(#REF!=AJ$3)*#REF!) -> #REF! | AK8: =(AJ8*$R8) -> #REF! | AL8: =SUMPRODUCT((#REF!=$O8)*(#REF!=AL$3)*#REF!) -> #REF! | AM8: =(AL8*$R8) -> #REF! | AN8: =SUMPRODUCT((#REF!=$O8)*(#REF!=AN$3)*#REF!) -> #REF! | AO8: =(AN8*$R8) -> #REF! | AP8: =SUMPRODUCT((#REF!=$O8)*(#REF!=AP$3)*#REF!) -> #REF! | AQ8: =(AP8*$R8) -> #REF! | AR8: =SUMPRODUCT((#REF!=$O8)*(#REF!=AR$3)*#REF!) -> #REF! | AS8: =(AR8*$R8) -> #REF! | AT8: =SUMPRODUCT((#REF!=$O8)*(#REF!=AT$3)*#REF!) -> #REF! | AU8: =(AT8*$R8) -> #REF!
A9: =#REF! -> #REF! | B9: =#REF! -> #REF! | F9: 4 | G9: =SUM(C9:F9) -> 4 | J9: =SUM(H9:I9) -> 0 | O9: =#REF! -> #REF! | P9: =SUMPRODUCT(($O9=#REF!)*(#REF!)) -> #REF! | Q9: =#REF! -> #REF! | R9: =G9+J9 -> 4 | S9: =#REF! -> #REF! | T9: =SUMPRODUCT((#REF!=$O9)*(#REF!=T$3)*#REF!) -> #REF! | U9: =(T9*$R9) -> #REF! | V9: =SUMPRODUCT((#REF!=$O9)*(#REF!=V$3)*#REF!) -> #REF! | W9: =(V9*$R9) -> #REF! | X9: =SUMPRODUCT((#REF!=$O9)*(#REF!=X$3)*#REF!) -> #REF! | Y9: =(X9*$R9) -> #REF! | Z9: =SUMPRODUCT((#REF!=$O9)*(#REF!=Z$3)*#REF!) -> #REF! | AA9: =(Z9*$R9) -> #REF! | AB9: =SUMPRODUCT((#REF!=$O9)*(#REF!=AB$3)*#REF!) -> #REF! | AC9: =(AB9*$R9) -> #REF! | AD9: =SUMPRODUCT((#REF!=$O9)*(#REF!=AD$3)*#REF!) -> #REF! | AE9: =(AD9*$R9) -> #REF! | AF9: =SUMPRODUCT((#REF!=$O9)*(#REF!=AF$3)*#REF!) -> #REF! | AG9: =(AF9*$R9) -> #REF! | AH9: =SUMPRODUCT((#REF!=$O9)*(#REF!=AH$3)*#REF!) -> #REF! | AI9: =(AH9*$R9) -> #REF! | AJ9: =SUMPRODUCT((#REF!=$O9)*(#REF!=AJ$3)*#REF!) -> #REF! | AK9: =(AJ9*$R9) -> #REF! | AL9: =SUMPRODUCT((#REF!=$O9)*(#REF!=AL$3)*#REF!) -> #REF! | AM9: =(AL9*$R9) -> #REF! | AN9: =SUMPRODUCT((#REF!=$O9)*(#REF!=AN$3)*#REF!) -> #REF! | AO9: =(AN9*$R9) -> #REF! | AP9: =SUMPRODUCT((#REF!=$O9)*(#REF!=AP$3)*#REF!) -> #REF! | AQ9: =(AP9*$R9) -> #REF! | AR9: =SUMPRODUCT((#REF!=$O9)*(#REF!=AR$3)*#REF!) -> #REF! | AS9: =(AR9*$R9) -> #REF! | AT9: =SUMPRODUCT((#REF!=$O9)*(#REF!=AT$3)*#REF!) -> #REF! | AU9: =(AT9*$R9) -> #REF!
A10: =#REF! -> #REF! | B10: =#REF! -> #REF! | F10: 4 | G10: =SUM(C10:F10) -> 4 | J10: =SUM(H10:I10) -> 0 | O10: =#REF! -> #REF! | P10: =SUMPRODUCT(($O10=#REF!)*(#REF!)) -> #REF! | Q10: =#REF! -> #REF! | R10: =G10+J10 -> 4 | S10: =#REF! -> #REF! | T10: =SUMPRODUCT((#REF!=$O10)*(#REF!=T$3)*#REF!) -> #REF! | U10: =(T10*$R10) -> #REF! | V10: =SUMPRODUCT((#REF!=$O10)*(#REF!=V$3)*#REF!) -> #REF! | W10: =(V10*$R10) -> #REF! | X10: =SUMPRODUCT((#REF!=$O10)*(#REF!=X$3)*#REF!) -> #REF! | Y10: =(X10*$R10) -> #REF! | Z10: =SUMPRODUCT((#REF!=$O10)*(#REF!=Z$3)*#REF!) -> #REF! | AA10: =(Z10*$R10) -> #REF! | AB10: =SUMPRODUCT((#REF!=$O10)*(#REF!=AB$3)*#REF!) -> #REF! | AC10: =(AB10*$R10) -> #REF! | AD10: =SUMPRODUCT((#REF!=$O10)*(#REF!=AD$3)*#REF!) -> #REF! | AE10: =(AD10*$R10) -> #REF! | AF10: =SUMPRODUCT((#REF!=$O10)*(#REF!=AF$3)*#REF!) -> #REF! | AG10: =(AF10*$R10) -> #REF! | AH10: =SUMPRODUCT((#REF!=$O10)*(#REF!=AH$3)*#REF!) -> #REF! | AI10: =(AH10*$R10) -> #REF! | AJ10: =SUMPRODUCT((#REF!=$O10)*(#REF!=AJ$3)*#REF!) -> #REF! | AK10: =(AJ10*$R10) -> #REF! | AL10: =SUMPRODUCT((#REF!=$O10)*(#REF!=AL$3)*#REF!) -> #REF! | AM10: =(AL10*$R10) -> #REF! | AN10: =SUMPRODUCT((#REF!=$O10)*(#REF!=AN$3)*#REF!) -> #REF! | AO10: =(AN10*$R10) -> #REF! | AP10: =SUMPRODUCT((#REF!=$O10)*(#REF!=AP$3)*#REF!) -> #REF! | AQ10: =(AP10*$R10) -> #REF! | AR10: =SUMPRODUCT((#REF!=$O10)*(#REF!=AR$3)*#REF!) -> #REF! | AS10: =(AR10*$R10) -> #REF! | AT10: =SUMPRODUCT((#REF!=$O10)*(#REF!=AT$3)*#REF!) -> #REF! | AU10: =(AT10*$R10) -> #REF!
A11: =#REF! -> #REF! | B11: =#REF! -> #REF! | F11: 4 | G11: =SUM(C11:F11) -> 4 | J11: =SUM(H11:I11) -> 0 | O11: =#REF! -> #REF! | P11: =SUMPRODUCT(($O11=#REF!)*(#REF!)) -> #REF! | Q11: =#REF! -> #REF! | R11: =G11+J11 -> 4 | S11: =#REF! -> #REF! | T11: =SUMPRODUCT((#REF!=$O11)*(#REF!=T$3)*#REF!) -> #REF! | U11: =(T11*$R11) -> #REF! | V11: =SUMPRODUCT((#REF!=$O11)*(#REF!=V$3)*#REF!) -> #REF! | W11: =(V11*$R11) -> #REF! | X11: =SUMPRODUCT((#REF!=$O11)*(#REF!=X$3)*#REF!) -> #REF! | Y11: =(X11*$R11) -> #REF! | Z11: =SUMPRODUCT((#REF!=$O11)*(#REF!=Z$3)*#REF!) -> #REF! | AA11: =(Z11*$R11) -> #REF! | AB11: =SUMPRODUCT((#REF!=$O11)*(#REF!=AB$3)*#REF!) -> #REF! | AC11: =(AB11*$R11) -> #REF! | AD11: =SUMPRODUCT((#REF!=$O11)*(#REF!=AD$3)*#REF!) -> #REF! | AE11: =(AD11*$R11) -> #REF! | AF11: =SUMPRODUCT((#REF!=$O11)*(#REF!=AF$3)*#REF!) -> #REF! | AG11: =(AF11*$R11) -> #REF! | AH11: =SUMPRODUCT((#REF!=$O11)*(#REF!=AH$3)*#REF!) -> #REF! | AI11: =(AH11*$R11) -> #REF! | AJ11: =SUMPRODUCT((#REF!=$O11)*(#REF!=AJ$3)*#REF!) -> #REF! | AK11: =(AJ11*$R11) -> #REF! | AL11: =SUMPRODUCT((#REF!=$O11)*(#REF!=AL$3)*#REF!) -> #REF! | AM11: =(AL11*$R11) -> #REF! | AN11: =SUMPRODUCT((#REF!=$O11)*(#REF!=AN$3)*#REF!) -> #REF! | AO11: =(AN11*$R11) -> #REF! | AP11: =SUMPRODUCT((#REF!=$O11)*(#REF!=AP$3)*#REF!) -> #REF! | AQ11: =(AP11*$R11) -> #REF! | AR11: =SUMPRODUCT((#REF!=$O11)*(#REF!=AR$3)*#REF!) -> #REF! | AS11: =(AR11*$R11) -> #REF! | AT11: =SUMPRODUCT((#REF!=$O11)*(#REF!=AT$3)*#REF!) -> #REF! | AU11: =(AT11*$R11) -> #REF!
G12: =SUM(C12:F12) -> 0 | J12: =SUM(H12:I12) -> 0 | R12: =G12+J12 -> 0
A13: GIT-MSVR-VRS1PX | G13: =SUM(C13:F13) -> 0 | J13: =SUM(H13:I13) -> 0 | R13: =G13+J13 -> 0
A14: =#REF! -> #REF! | B14: =#REF! -> #REF! | F14: 100 | G14: =SUM(C14:F14) -> 100 | J14: =SUM(H14:I14) -> 0 | O14: 노무비없음 | P14: =SUMPRODUCT(($O14=#REF!)*(#REF!)) -> #REF! | Q14: =#REF! -> #REF! | R14: =G14+J14 -> 100 | S14: =#REF! -> #REF! | T14: =SUMPRODUCT((#REF!=$O14)*(#REF!=T$3)*#REF!) -> #REF! | U14: =(T14*$R14) -> #REF! | V14: =SUMPRODUCT((#REF!=$O14)*(#REF!=V$3)*#REF!) -> #REF! | W14: =(V14*$R14) -> #REF! | X14: =SUMPRODUCT((#REF!=$O14)*(#REF!=X$3)*#REF!) -> #REF! | Y14: =(X14*$R14) -> #REF! | Z14: =SUMPRODUCT((#REF!=$O14)*(#REF!=Z$3)*#REF!) -> #REF! | AA14: =(Z14*$R14) -> #REF! | AB14: =SUMPRODUCT((#REF!=$O14)*(#REF!=AB$3)*#REF!) -> #REF! | AC14: =(AB14*$R14) -> #REF! | AD14: =SUMPRODUCT((#REF!=$O14)*(#REF!=AD$3)*#REF!) -> #REF! | AE14: =(AD14*$R14) -> #REF! | AF14: =SUMPRODUCT((#REF!=$O14)*(#REF!=AF$3)*#REF!) -> #REF! | AG14: =(AF14*$R14) -> #REF! | AH14: =SUMPRODUCT((#REF!=$O14)*(#REF!=AH$3)*#REF!) -> #REF! | AI14: =(AH14*$R14) -> #REF! | AJ14: =SUMPRODUCT((#REF!=$O14)*(#REF!=AJ$3)*#REF!) -> #REF! | AK14: =(AJ14*$R14) -> #REF! | AL14: =SUMPRODUCT((#REF!=$O14)*(#REF!=AL$3)*#REF!) -> #REF! | AM14: =(AL14*$R14) -> #REF! | AN14: =SUMPRODUCT((#REF!=$O14)*(#REF!=AN$3)*#REF!) -> #REF! | AO14: =(AN14*$R14) -> #REF! | AP14: =SUMPRODUCT((#REF!=$O14)*(#REF!=AP$3)*#REF!) -> #REF! | AQ14: =(AP14*$R14) -> #REF! | AR14: =SUMPRODUCT((#REF!=$O14)*(#REF!=AR$3)*#REF!) -> #REF! | AS14: =(AR14*$R14) -> #REF! | AT14: =SUMPRODUCT((#REF!=$O14)*(#REF!=AT$3)*#REF!) -> #REF! | AU14: =(AT14*$R14) -> #REF!
A15: =#REF! -> #REF! | B15: =#REF! -> #REF! | F15: 1 | G15: =SUM(C15:F15) -> 1 | J15: =SUM(H15:I15) -> 0 | O15: =#REF! -> #REF! | P15: =SUMPRODUCT(($O15=#REF!)*(#REF!)) -> #REF! | Q15: =#REF! -> #REF! | R15: =G15+J15 -> 1 | S15: =#REF! -> #REF! | T15: =SUMPRODUCT((#REF!=$O15)*(#REF!=T$3)*#REF!) -> #REF! | U15: =(T15*$R15) -> #REF! | V15: =SUMPRODUCT((#REF!=$O15)*(#REF!=V$3)*#REF!) -> #REF! | W15: =(V15*$R15) -> #REF! | X15: =SUMPRODUCT((#REF!=$O15)*(#REF!=X$3)*#REF!) -> #REF! | Y15: =(X15*$R15) -> #REF! | Z15: =SUMPRODUCT((#REF!=$O15)*(#REF!=Z$3)*#REF!) -> #REF! | AA15: =(Z15*$R15) -> #REF! | AB15: =SUMPRODUCT((#REF!=$O15)*(#REF!=AB$3)*#REF!) -> #REF! | AC15: =(AB15*$R15) -> #REF! | AD15: =SUMPRODUCT((#REF!=$O15)*(#REF!=AD$3)*#REF!) -> #REF! | AE15: =(AD15*$R15) -> #REF! | AF15: =SUMPRODUCT((#REF!=$O15)*(#REF!=AF$3)*#REF!) -> #REF! | AG15: =(AF15*$R15) -> #REF! | AH15: =SUMPRODUCT((#REF!=$O15)*(#REF!=AH$3)*#REF!) -> #REF! | AI15: =(AH15*$R15) -> #REF! | AJ15: =SUMPRODUCT((#REF!=$O15)*(#REF!=AJ$3)*#REF!) -> #REF! | AK15: =(AJ15*$R15) -> #REF! | AL15: =SUMPRODUCT((#REF!=$O15)*(#REF!=AL$3)*#REF!) -> #REF! | AM15: =(AL15*$R15) -> #REF! | AN15: =SUMPRODUCT((#REF!=$O15)*(#REF!=AN$3)*#REF!) -> #REF! | AO15: =(AN15*$R15) -> #REF! | AP15: =SUMPRODUCT((#REF!=$O15)*(#REF!=AP$3)*#REF!) -> #REF! | AQ15: =(AP15*$R15) -> #REF! | AR15: =SUMPRODUCT((#REF!=$O15)*(#REF!=AR$3)*#REF!) -> #REF! | AS15: =(AR15*$R15) -> #REF! | AT15: =SUMPRODUCT((#REF!=$O15)*(#REF!=AT$3)*#REF!) -> #REF! | AU15: =(AT15*$R15) -> #REF!
A16: =#REF! -> #REF! | B16: =#REF! -> #REF! | F16: 1 | G16: =SUM(C16:F16) -> 1 | J16: =SUM(H16:I16) -> 0 | O16: =#REF! -> #REF! | P16: =SUMPRODUCT(($O16=#REF!)*(#REF!)) -> #REF! | Q16: =#REF! -> #REF! | R16: =G16+J16 -> 1 | S16: =#REF! -> #REF! | T16: =SUMPRODUCT((#REF!=$O16)*(#REF!=T$3)*#REF!) -> #REF! | U16: =(T16*$R16) -> #REF! | V16: =SUMPRODUCT((#REF!=$O16)*(#REF!=V$3)*#REF!) -> #REF! | W16: =(V16*$R16) -> #REF! | X16: =SUMPRODUCT((#REF!=$O16)*(#REF!=X$3)*#REF!) -> #REF! | Y16: =(X16*$R16) -> #REF! | Z16: =SUMPRODUCT((#REF!=$O16)*(#REF!=Z$3)*#REF!) -> #REF! | AA16: =(Z16*$R16) -> #REF! | AB16: =SUMPRODUCT((#REF!=$O16)*(#REF!=AB$3)*#REF!) -> #REF! | AC16: =(AB16*$R16) -> #REF! | AD16: =SUMPRODUCT((#REF!=$O16)*(#REF!=AD$3)*#REF!) -> #REF! | AE16: =(AD16*$R16) -> #REF! | AF16: =SUMPRODUCT((#REF!=$O16)*(#REF!=AF$3)*#REF!) -> #REF! | AG16: =(AF16*$R16) -> #REF! | AH16: =SUMPRODUCT((#REF!=$O16)*(#REF!=AH$3)*#REF!) -> #REF! | AI16: =(AH16*$R16) -> #REF! | AJ16: =SUMPRODUCT((#REF!=$O16)*(#REF!=AJ$3)*#REF!) -> #REF! | AK16: =(AJ16*$R16) -> #REF! | AL16: =SUMPRODUCT((#REF!=$O16)*(#REF!=AL$3)*#REF!) -> #REF! | AM16: =(AL16*$R16) -> #REF! | AN16: =SUMPRODUCT((#REF!=$O16)*(#REF!=AN$3)*#REF!) -> #REF! | AO16: =(AN16*$R16) -> #REF! | AP16: =SUMPRODUCT((#REF!=$O16)*(#REF!=AP$3)*#REF!) -> #REF! | AQ16: =(AP16*$R16) -> #REF! | AR16: =SUMPRODUCT((#REF!=$O16)*(#REF!=AR$3)*#REF!) -> #REF! | AS16: =(AR16*$R16) -> #REF! | AT16: =SUMPRODUCT((#REF!=$O16)*(#REF!=AT$3)*#REF!) -> #REF! | AU16: =(AT16*$R16) -> #REF!
A18: GIT-MSVR-IPD2
A19: =#REF! -> #REF! | B19: =#REF! -> #REF! | G19: =SUM(C19:F19) -> 0 | I19: 1 | J19: =SUM(H19:I19) -> 1 | O19: 노무비없음 | P19: =SUMPRODUCT(($O19=#REF!)*(#REF!)) -> #REF! | Q19: =#REF! -> #REF! | R19: =G19+J19 -> 1 | S19: =#REF! -> #REF! | T19: =SUMPRODUCT((#REF!=$O19)*(#REF!=T$3)*#REF!) -> #REF! | U19: =(T19*$R19) -> #REF! | V19: =SUMPRODUCT((#REF!=$O19)*(#REF!=V$3)*#REF!) -> #REF! | W19: =(V19*$R19) -> #REF! | X19: =SUMPRODUCT((#REF!=$O19)*(#REF!=X$3)*#REF!) -> #REF! | Y19: =(X19*$R19) -> #REF! | Z19: =SUMPRODUCT((#REF!=$O19)*(#REF!=Z$3)*#REF!) -> #REF! | AA19: =(Z19*$R19) -> #REF! | AB19: =SUMPRODUCT((#REF!=$O19)*(#REF!=AB$3)*#REF!) -> #REF! | AC19: =(AB19*$R19) -> #REF! | AD19: =SUMPRODUCT((#REF!=$O19)*(#REF!=AD$3)*#REF!) -> #REF! | AE19: =(AD19*$R19) -> #REF! | AF19: =SUMPRODUCT((#REF!=$O19)*(#REF!=AF$3)*#REF!) -> #REF! | AG19: =(AF19*$R19) -> #REF! | AH19: =SUMPRODUCT((#REF!=$O19)*(#REF!=AH$3)*#REF!) -> #REF! | AI19: =(AH19*$R19) -> #REF! | AJ19: =SUMPRODUCT((#REF!=$O19)*(#REF!=AJ$3)*#REF!) -> #REF! | AK19: =(AJ19*$R19) -> #REF! | AL19: =SUMPRODUCT((#REF!=$O19)*(#REF!=AL$3)*#REF!) -> #REF! | AM19: =(AL19*$R19) -> #REF! | AN19: =SUMPRODUCT((#REF!=$O19)*(#REF!=AN$3)*#REF!) -> #REF! | AO19: =(AN19*$R19) -> #REF! | AP19: =SUMPRODUCT((#REF!=$O19)*(#REF!=AP$3)*#REF!) -> #REF! | AQ19: =(AP19*$R19) -> #REF! | AR19: =SUMPRODUCT((#REF!=$O19)*(#REF!=AR$3)*#REF!) -> #REF! | AS19: =(AR19*$R19) -> #REF! | AT19: =SUMPRODUCT((#REF!=$O19)*(#REF!=AT$3)*#REF!) -> #REF! | AU19: =(AT19*$R19) -> #REF!
A20: =#REF! -> #REF! | B20: =#REF! -> #REF! | G20: =SUM(C20:F20) -> 0 | I20: 1 | J20: =SUM(H20:I20) -> 1 | O20: =#REF! -> #REF! | P20: =SUMPRODUCT(($O20=#REF!)*(#REF!)) -> #REF! | Q20: =#REF! -> #REF! | R20: =G20+J20 -> 1 | S20: =#REF! -> #REF! | T20: =SUMPRODUCT((#REF!=$O20)*(#REF!=T$3)*#REF!) -> #REF! | U20: =(T20*$R20) -> #REF! | V20: =SUMPRODUCT((#REF!=$O20)*(#REF!=V$3)*#REF!) -> #REF! | W20: =(V20*$R20) -> #REF! | X20: =SUMPRODUCT((#REF!=$O20)*(#REF!=X$3)*#REF!) -> #REF! | Y20: =(X20*$R20) -> #REF! | Z20: =SUMPRODUCT((#REF!=$O20)*(#REF!=Z$3)*#REF!) -> #REF! | AA20: =(Z20*$R20) -> #REF! | AB20: =SUMPRODUCT((#REF!=$O20)*(#REF!=AB$3)*#REF!) -> #REF! | AC20: =(AB20*$R20) -> #REF! | AD20: =SUMPRODUCT((#REF!=$O20)*(#REF!=AD$3)*#REF!) -> #REF! | AE20: =(AD20*$R20) -> #REF! | AF20: =SUMPRODUCT((#REF!=$O20)*(#REF!=AF$3)*#REF!) -> #REF! | AG20: =(AF20*$R20) -> #REF! | AH20: =SUMPRODUCT((#REF!=$O20)*(#REF!=AH$3)*#REF!) -> #REF! | AI20: =(AH20*$R20) -> #REF! | AJ20: =SUMPRODUCT((#REF!=$O20)*(#REF!=AJ$3)*#REF!) -> #REF! | AK20: =(AJ20*$R20) -> #REF! | AL20: =SUMPRODUCT((#REF!=$O20)*(#REF!=AL$3)*#REF!) -> #REF! | AM20: =(AL20*$R20) -> #REF! | AN20: =SUMPRODUCT((#REF!=$O20)*(#REF!=AN$3)*#REF!) -> #REF! | AO20: =(AN20*$R20) -> #REF! | AP20: =SUMPRODUCT((#REF!=$O20)*(#REF!=AP$3)*#REF!) -> #REF! | AQ20: =(AP20*$R20) -> #REF! | AR20: =SUMPRODUCT((#REF!=$O20)*(#REF!=AR$3)*#REF!) -> #REF! | AS20: =(AR20*$R20) -> #REF! | AT20: =SUMPRODUCT((#REF!=$O20)*(#REF!=AT$3)*#REF!) -> #REF! | AU20: =(AT20*$R20) -> #REF!
A21: =#REF! -> #REF! | B21: =#REF! -> #REF! | G21: =SUM(C21:F21) -> 0 | I21: 1 | J21: =SUM(H21:I21) -> 1 | O21: 노무비없음 | P21: =SUMPRODUCT(($O21=#REF!)*(#REF!)) -> #REF! | Q21: =#REF! -> #REF! | R21: =G21+J21 -> 1 | S21: =#REF! -> #REF! | T21: =SUMPRODUCT((#REF!=$O21)*(#REF!=T$3)*#REF!) -> #REF! | U21: =(T21*$R21) -> #REF! | V21: =SUMPRODUCT((#REF!=$O21)*(#REF!=V$3)*#REF!) -> #REF! | W21: =(V21*$R21) -> #REF! | X21: =SUMPRODUCT((#REF!=$O21)*(#REF!=X$3)*#REF!) -> #REF! | Y21: =(X21*$R21) -> #REF! | Z21: =SUMPRODUCT((#REF!=$O21)*(#REF!=Z$3)*#REF!) -> #REF! | AA21: =(Z21*$R21) -> #REF! | AB21: =SUMPRODUCT((#REF!=$O21)*(#REF!=AB$3)*#REF!) -> #REF! | AC21: =(AB21*$R21) -> #REF! | AD21: =SUMPRODUCT((#REF!=$O21)*(#REF!=AD$3)*#REF!) -> #REF! | AE21: =(AD21*$R21) -> #REF! | AF21: =SUMPRODUCT((#REF!=$O21)*(#REF!=AF$3)*#REF!) -> #REF! | AG21: =(AF21*$R21) -> #REF! | AH21: =SUMPRODUCT((#REF!=$O21)*(#REF!=AH$3)*#REF!) -> #REF! | AI21: =(AH21*$R21) -> #REF! | AJ21: =SUMPRODUCT((#REF!=$O21)*(#REF!=AJ$3)*#REF!) -> #REF! | AK21: =(AJ21*$R21) -> #REF! | AL21: =SUMPRODUCT((#REF!=$O21)*(#REF!=AL$3)*#REF!) -> #REF! | AM21: =(AL21*$R21) -> #REF! | AN21: =SUMPRODUCT((#REF!=$O21)*(#REF!=AN$3)*#REF!) -> #REF! | AO21: =(AN21*$R21) -> #REF! | AP21: =SUMPRODUCT((#REF!=$O21)*(#REF!=AP$3)*#REF!) -> #REF! | AQ21: =(AP21*$R21) -> #REF! | AR21: =SUMPRODUCT((#REF!=$O21)*(#REF!=AR$3)*#REF!) -> #REF! | AS21: =(AR21*$R21) -> #REF! | AT21: =SUMPRODUCT((#REF!=$O21)*(#REF!=AT$3)*#REF!) -> #REF! | AU21: =(AT21*$R21) -> #REF!
G22: =SUM(C22:F22) -> 0 | J22: =SUM(H22:I22) -> 0 | R22: =G22+J22 -> 0
G23: =SUM(C23:F23) -> 0 | J23: =SUM(H23:I23) -> 0 | R23: =G23+J23 -> 0
G24: =SUM(C24:F24) -> 0 | J24: =SUM(H24:I24) -> 0 | R24: =G24+J24 -> 0
A25: 02.옵션품목
A26: =#REF! -> #REF! | B26: =#REF! -> #REF! | C26: 189 | D26: 1 | E26: 19 | G26: =SUM(C26:F26) -> 209 | I26: 13 | J26: =SUM(H26:I26) -> 13 | O26: =#REF! -> #REF! | P26: =SUMPRODUCT(($O26=#REF!)*(#REF!)) -> #REF! | Q26: =#REF! -> #REF! | R26: =G26+J26 -> 222 | S26: =#REF! -> #REF! | T26: =SUMPRODUCT((#REF!=$O26)*(#REF!=T$3)*#REF!) -> #REF! | U26: =(T26*$R26) -> #REF! | V26: =SUMPRODUCT((#REF!=$O26)*(#REF!=V$3)*#REF!) -> #REF! | W26: =(V26*$R26) -> #REF! | X26: =SUMPRODUCT((#REF!=$O26)*(#REF!=X$3)*#REF!) -> #REF! | Y26: =(X26*$R26) -> #REF! | Z26: =SUMPRODUCT((#REF!=$O26)*(#REF!=Z$3)*#REF!) -> #REF! | AA26: =(Z26*$R26) -> #REF! | AB26: =SUMPRODUCT((#REF!=$O26)*(#REF!=AB$3)*#REF!) -> #REF! | AC26: =(AB26*$R26) -> #REF! | AD26: =SUMPRODUCT((#REF!=$O26)*(#REF!=AD$3)*#REF!) -> #REF! | AE26: =(AD26*$R26) -> #REF! | AF26: =SUMPRODUCT((#REF!=$O26)*(#REF!=AF$3)*#REF!) -> #REF! | AG26: =(AF26*$R26) -> #REF! | AH26: =SUMPRODUCT((#REF!=$O26)*(#REF!=AH$3)*#REF!) -> #REF! | AI26: =(AH26*$R26) -> #REF! | AJ26: =SUMPRODUCT((#REF!=$O26)*(#REF!=AJ$3)*#REF!) -> #REF! | AK26: =(AJ26*$R26) -> #REF! | AL26: =SUMPRODUCT((#REF!=$O26)*(#REF!=AL$3)*#REF!) -> #REF! | AM26: =(AL26*$R26) -> #REF! | AN26: =SUMPRODUCT((#REF!=$O26)*(#REF!=AN$3)*#REF!) -> #REF! | AO26: =(AN26*$R26) -> #REF! | AP26: =SUMPRODUCT((#REF!=$O26)*(#REF!=AP$3)*#REF!) -> #REF! | AQ26: =(AP26*$R26) -> #REF! | AR26: =SUMPRODUCT((#REF!=$O26)*(#REF!=AR$3)*#REF!) -> #REF! | AS26: =(AR26*$R26) -> #REF! | AT26: =SUMPRODUCT((#REF!=$O26)*(#REF!=AT$3)*#REF!) -> #REF! | AU26: =(AT26*$R26) -> #REF!
A27: =#REF! -> #REF! | B27: =#REF! -> #REF! | C27: 44 | D27: 2 | G27: =SUM(C27:F27) -> 46 | J27: =SUM(H27:I27) -> 0 | O27: =#REF! -> #REF! | P27: =SUMPRODUCT(($O27=#REF!)*(#REF!)) -> #REF! | Q27: =#REF! -> #REF! | R27: =G27+J27 -> 46 | S27: =#REF! -> #REF! | T27: =SUMPRODUCT((#REF!=$O27)*(#REF!=T$3)*#REF!) -> #REF! | U27: =(T27*$R27) -> #REF! | V27: =SUMPRODUCT((#REF!=$O27)*(#REF!=V$3)*#REF!) -> #REF! | W27: =(V27*$R27) -> #REF! | X27: =SUMPRODUCT((#REF!=$O27)*(#REF!=X$3)*#REF!) -> #REF! | Y27: =(X27*$R27) -> #REF! | Z27: =SUMPRODUCT((#REF!=$O27)*(#REF!=Z$3)*#REF!) -> #REF! | AA27: =(Z27*$R27) -> #REF! | AB27: =SUMPRODUCT((#REF!=$O27)*(#REF!=AB$3)*#REF!) -> #REF! | AC27: =(AB27*$R27) -> #REF! | AD27: =SUMPRODUCT((#REF!=$O27)*(#REF!=AD$3)*#REF!) -> #REF! | AE27: =(AD27*$R27) -> #REF! | AF27: =SUMPRODUCT((#REF!=$O27)*(#REF!=AF$3)*#REF!) -> #REF! | AG27: =(AF27*$R27) -> #REF! | AH27: =SUMPRODUCT((#REF!=$O27)*(#REF!=AH$3)*#REF!) -> #REF! | AI27: =(AH27*$R27) -> #REF! | AJ27: =SUMPRODUCT((#REF!=$O27)*(#REF!=AJ$3)*#REF!) -> #REF! | AK27: =(AJ27*$R27) -> #REF! | AL27: =SUMPRODUCT((#REF!=$O27)*(#REF!=AL$3)*#REF!) -> #REF! | AM27: =(AL27*$R27) -> #REF! | AN27: =SUMPRODUCT((#REF!=$O27)*(#REF!=AN$3)*#REF!) -> #REF! | AO27: =(AN27*$R27) -> #REF! | AP27: =SUMPRODUCT((#REF!=$O27)*(#REF!=AP$3)*#REF!) -> #REF! | AQ27: =(AP27*$R27) -> #REF! | AR27: =SUMPRODUCT((#REF!=$O27)*(#REF!=AR$3)*#REF!) -> #REF! | AS27: =(AR27*$R27) -> #REF! | AT27: =SUMPRODUCT((#REF!=$O27)*(#REF!=AT$3)*#REF!) -> #REF! | AU27: =(AT27*$R27) -> #REF!
A28: =#REF! -> #REF! | B28: =#REF! -> #REF! | C28: 38 | G28: =SUM(C28:F28) -> 38 | J28: =SUM(H28:I28) -> 0 | O28: =#REF! -> #REF! | P28: =SUMPRODUCT(($O28=#REF!)*(#REF!)) -> #REF! | Q28: =#REF! -> #REF! | R28: =G28+J28 -> 38 | S28: =#REF! -> #REF! | T28: =SUMPRODUCT((#REF!=$O28)*(#REF!=T$3)*#REF!) -> #REF! | U28: =(T28*$R28) -> #REF! | V28: =SUMPRODUCT((#REF!=$O28)*(#REF!=V$3)*#REF!) -> #REF! | W28: =(V28*$R28) -> #REF! | X28: =SUMPRODUCT((#REF!=$O28)*(#REF!=X$3)*#REF!) -> #REF! | Y28: =(X28*$R28) -> #REF! | Z28: =SUMPRODUCT((#REF!=$O28)*(#REF!=Z$3)*#REF!) -> #REF! | AA28: =(Z28*$R28) -> #REF! | AB28: =SUMPRODUCT((#REF!=$O28)*(#REF!=AB$3)*#REF!) -> #REF! | AC28: =(AB28*$R28) -> #REF! | AD28: =SUMPRODUCT((#REF!=$O28)*(#REF!=AD$3)*#REF!) -> #REF! | AE28: =(AD28*$R28) -> #REF! | AF28: =SUMPRODUCT((#REF!=$O28)*(#REF!=AF$3)*#REF!) -> #REF! | AG28: =(AF28*$R28) -> #REF! | AH28: =SUMPRODUCT((#REF!=$O28)*(#REF!=AH$3)*#REF!) -> #REF! | AI28: =(AH28*$R28) -> #REF! | AJ28: =SUMPRODUCT((#REF!=$O28)*(#REF!=AJ$3)*#REF!) -> #REF! | AK28: =(AJ28*$R28) -> #REF! | AL28: =SUMPRODUCT((#REF!=$O28)*(#REF!=AL$3)*#REF!) -> #REF! | AM28: =(AL28*$R28) -> #REF! | AN28: =SUMPRODUCT((#REF!=$O28)*(#REF!=AN$3)*#REF!) -> #REF! | AO28: =(AN28*$R28) -> #REF! | AP28: =SUMPRODUCT((#REF!=$O28)*(#REF!=AP$3)*#REF!) -> #REF! | AQ28: =(AP28*$R28) -> #REF! | AR28: =SUMPRODUCT((#REF!=$O28)*(#REF!=AR$3)*#REF!) -> #REF! | AS28: =(AR28*$R28) -> #REF! | AT28: =SUMPRODUCT((#REF!=$O28)*(#REF!=AT$3)*#REF!) -> #REF! | AU28: =(AT28*$R28) -> #REF!
A29: =#REF! -> #REF! | B29: =#REF! -> #REF! | C29: 7 | D29: 15 | E29: 2 | G29: =SUM(C29:F29) -> 24 | I29: 7 | J29: =SUM(H29:I29) -> 7 | O29: =#REF! -> #REF! | P29: =SUMPRODUCT(($O29=#REF!)*(#REF!)) -> #REF! | Q29: =#REF! -> #REF! | R29: =G29+J29 -> 31 | S29: =#REF! -> #REF! | T29: =SUMPRODUCT((#REF!=$O29)*(#REF!=T$3)*#REF!) -> #REF! | U29: =(T29*$R29) -> #REF! | V29: =SUMPRODUCT((#REF!=$O29)*(#REF!=V$3)*#REF!) -> #REF! | W29: =(V29*$R29) -> #REF! | X29: =SUMPRODUCT((#REF!=$O29)*(#REF!=X$3)*#REF!) -> #REF! | Y29: =(X29*$R29) -> #REF! | Z29: =SUMPRODUCT((#REF!=$O29)*(#REF!=Z$3)*#REF!) -> #REF! | AA29: =(Z29*$R29) -> #REF! | AB29: =SUMPRODUCT((#REF!=$O29)*(#REF!=AB$3)*#REF!) -> #REF! | AC29: =(AB29*$R29) -> #REF! | AD29: =SUMPRODUCT((#REF!=$O29)*(#REF!=AD$3)*#REF!) -> #REF! | AE29: =(AD29*$R29) -> #REF! | AF29: =SUMPRODUCT((#REF!=$O29)*(#REF!=AF$3)*#REF!) -> #REF! | AG29: =(AF29*$R29) -> #REF! | AH29: =SUMPRODUCT((#REF!=$O29)*(#REF!=AH$3)*#REF!) -> #REF! | AI29: =(AH29*$R29) -> #REF! | AJ29: =SUMPRODUCT((#REF!=$O29)*(#REF!=AJ$3)*#REF!) -> #REF! | AK29: =(AJ29*$R29) -> #REF! | AL29: =SUMPRODUCT((#REF!=$O29)*(#REF!=AL$3)*#REF!) -> #REF! | AM29: =(AL29*$R29) -> #REF! | AN29: =SUMPRODUCT((#REF!=$O29)*(#REF!=AN$3)*#REF!) -> #REF! | AO29: =(AN29*$R29) -> #REF! | AP29: =SUMPRODUCT((#REF!=$O29)*(#REF!=AP$3)*#REF!) -> #REF! | AQ29: =(AP29*$R29) -> #REF! | AR29: =SUMPRODUCT((#REF!=$O29)*(#REF!=AR$3)*#REF!) -> #REF! | AS29: =(AR29*$R29) -> #REF! | AT29: =SUMPRODUCT((#REF!=$O29)*(#REF!=AT$3)*#REF!) -> #REF! | AU29: =(AT29*$R29) -> #REF!
A30: =#REF! -> #REF! | B30: =#REF! -> #REF! | C30: 1 | G30: =SUM(C30:F30) -> 1 | J30: =SUM(H30:I30) -> 0 | O30: =#REF! -> #REF! | P30: =SUMPRODUCT(($O30=#REF!)*(#REF!)) -> #REF! | Q30: =#REF! -> #REF! | R30: =G30+J30 -> 1 | S30: =#REF! -> #REF! | T30: =SUMPRODUCT((#REF!=$O30)*(#REF!=T$3)*#REF!) -> #REF! | U30: =(T30*$R30) -> #REF! | V30: =SUMPRODUCT((#REF!=$O30)*(#REF!=V$3)*#REF!) -> #REF! | W30: =(V30*$R30) -> #REF! | X30: =SUMPRODUCT((#REF!=$O30)*(#REF!=X$3)*#REF!) -> #REF! | Y30: =(X30*$R30) -> #REF! | Z30: =SUMPRODUCT((#REF!=$O30)*(#REF!=Z$3)*#REF!) -> #REF! | AA30: =(Z30*$R30) -> #REF! | AB30: =SUMPRODUCT((#REF!=$O30)*(#REF!=AB$3)*#REF!) -> #REF! | AC30: =(AB30*$R30) -> #REF! | AD30: =SUMPRODUCT((#REF!=$O30)*(#REF!=AD$3)*#REF!) -> #REF! | AE30: =(AD30*$R30) -> #REF! | AF30: =SUMPRODUCT((#REF!=$O30)*(#REF!=AF$3)*#REF!) -> #REF! | AG30: =(AF30*$R30) -> #REF! | AH30: =SUMPRODUCT((#REF!=$O30)*(#REF!=AH$3)*#REF!) -> #REF! | AI30: =(AH30*$R30) -> #REF! | AJ30: =SUMPRODUCT((#REF!=$O30)*(#REF!=AJ$3)*#REF!) -> #REF! | AK30: =(AJ30*$R30) -> #REF! | AL30: =SUMPRODUCT((#REF!=$O30)*(#REF!=AL$3)*#REF!) -> #REF! | AM30: =(AL30*$R30) -> #REF! | AN30: =SUMPRODUCT((#REF!=$O30)*(#REF!=AN$3)*#REF!) -> #REF! | AO30: =(AN30*$R30) -> #REF! | AP30: =SUMPRODUCT((#REF!=$O30)*(#REF!=AP$3)*#REF!) -> #REF! | AQ30: =(AP30*$R30) -> #REF! | AR30: =SUMPRODUCT((#REF!=$O30)*(#REF!=AR$3)*#REF!) -> #REF! | AS30: =(AR30*$R30) -> #REF! | AT30: =SUMPRODUCT((#REF!=$O30)*(#REF!=AT$3)*#REF!) -> #REF! | AU30: =(AT30*$R30) -> #REF!
A31: =#REF! -> #REF! | B31: =#REF! -> #REF! | D31: 6 | G31: =SUM(C31:F31) -> 6 | J31: =SUM(H31:I31) -> 0 | O31: =#REF! -> #REF! | P31: =SUMPRODUCT(($O31=#REF!)*(#REF!)) -> #REF! | Q31: =#REF! -> #REF! | R31: =G31+J31 -> 6 | S31: =#REF! -> #REF! | T31: =SUMPRODUCT((#REF!=$O31)*(#REF!=T$3)*#REF!) -> #REF! | U31: =(T31*$R31) -> #REF! | V31: =SUMPRODUCT((#REF!=$O31)*(#REF!=V$3)*#REF!) -> #REF! | W31: =(V31*$R31) -> #REF! | X31: =SUMPRODUCT((#REF!=$O31)*(#REF!=X$3)*#REF!) -> #REF! | Y31: =(X31*$R31) -> #REF! | Z31: =SUMPRODUCT((#REF!=$O31)*(#REF!=Z$3)*#REF!) -> #REF! | AA31: =(Z31*$R31) -> #REF! | AB31: =SUMPRODUCT((#REF!=$O31)*(#REF!=AB$3)*#REF!) -> #REF! | AC31: =(AB31*$R31) -> #REF! | AD31: =SUMPRODUCT((#REF!=$O31)*(#REF!=AD$3)*#REF!) -> #REF! | AE31: =(AD31*$R31) -> #REF! | AF31: =SUMPRODUCT((#REF!=$O31)*(#REF!=AF$3)*#REF!) -> #REF! | AG31: =(AF31*$R31) -> #REF! | AH31: =SUMPRODUCT((#REF!=$O31)*(#REF!=AH$3)*#REF!) -> #REF! | AI31: =(AH31*$R31) -> #REF! | AJ31: =SUMPRODUCT((#REF!=$O31)*(#REF!=AJ$3)*#REF!) -> #REF! | AK31: =(AJ31*$R31) -> #REF! | AL31: =SUMPRODUCT((#REF!=$O31)*(#REF!=AL$3)*#REF!) -> #REF! | AM31: =(AL31*$R31) -> #REF! | AN31: =SUMPRODUCT((#REF!=$O31)*(#REF!=AN$3)*#REF!) -> #REF! | AO31: =(AN31*$R31) -> #REF! | AP31: =SUMPRODUCT((#REF!=$O31)*(#REF!=AP$3)*#REF!) -> #REF! | AQ31: =(AP31*$R31) -> #REF! | AR31: =SUMPRODUCT((#REF!=$O31)*(#REF!=AR$3)*#REF!) -> #REF! | AS31: =(AR31*$R31) -> #REF! | AT31: =SUMPRODUCT((#REF!=$O31)*(#REF!=AT$3)*#REF!) -> #REF! | AU31: =(AT31*$R31) -> #REF!
A32: =#REF! -> #REF! | B32: =#REF! -> #REF! | C32: 38 | G32: =SUM(C32:F32) -> 38 | J32: =SUM(H32:I32) -> 0 | O32: 노무비없음 | P32: =SUMPRODUCT(($O32=#REF!)*(#REF!)) -> #REF! | Q32: =#REF! -> #REF! | R32: =G32+J32 -> 38 | S32: =#REF! -> #REF! | T32: =SUMPRODUCT((#REF!=$O32)*(#REF!=T$3)*#REF!) -> #REF! | U32: =(T32*$R32) -> #REF! | V32: =SUMPRODUCT((#REF!=$O32)*(#REF!=V$3)*#REF!) -> #REF! | W32: =(V32*$R32) -> #REF! | X32: =SUMPRODUCT((#REF!=$O32)*(#REF!=X$3)*#REF!) -> #REF! | Y32: =(X32*$R32) -> #REF! | Z32: =SUMPRODUCT((#REF!=$O32)*(#REF!=Z$3)*#REF!) -> #REF! | AA32: =(Z32*$R32) -> #REF! | AB32: =SUMPRODUCT((#REF!=$O32)*(#REF!=AB$3)*#REF!) -> #REF! | AC32: =(AB32*$R32) -> #REF! | AD32: =SUMPRODUCT((#REF!=$O32)*(#REF!=AD$3)*#REF!) -> #REF! | AE32: =(AD32*$R32) -> #REF! | AF32: =SUMPRODUCT((#REF!=$O32)*(#REF!=AF$3)*#REF!) -> #REF! | AG32: =(AF32*$R32) -> #REF! | AH32: =SUMPRODUCT((#REF!=$O32)*(#REF!=AH$3)*#REF!) -> #REF! | AI32: =(AH32*$R32) -> #REF! | AJ32: =SUMPRODUCT((#REF!=$O32)*(#REF!=AJ$3)*#REF!) -> #REF! | AK32: =(AJ32*$R32) -> #REF! | AL32: =SUMPRODUCT((#REF!=$O32)*(#REF!=AL$3)*#REF!) -> #REF! | AM32: =(AL32*$R32) -> #REF! | AN32: =SUMPRODUCT((#REF!=$O32)*(#REF!=AN$3)*#REF!) -> #REF! | AO32: =(AN32*$R32) -> #REF! | AP32: =SUMPRODUCT((#REF!=$O32)*(#REF!=AP$3)*#REF!) -> #REF! | AQ32: =(AP32*$R32) -> #REF! | AR32: =SUMPRODUCT((#REF!=$O32)*(#REF!=AR$3)*#REF!) -> #REF! | AS32: =(AR32*$R32) -> #REF! | AT32: =SUMPRODUCT((#REF!=$O32)*(#REF!=AT$3)*#REF!) -> #REF! | AU32: =(AT32*$R32) -> #REF!
A33: =#REF! -> #REF! | B33: =#REF! -> #REF! | C33: 0 | G33: =SUM(C33:F33) -> 0 | J33: =SUM(H33:I33) -> 0 | O33: =#REF! -> #REF! | P33: =SUMPRODUCT(($O33=#REF!)*(#REF!)) -> #REF! | Q33: =#REF! -> #REF! | R33: =G33+J33 -> 0 | S33: =#REF! -> #REF! | T33: =SUMPRODUCT((#REF!=$O33)*(#REF!=T$3)*#REF!) -> #REF! | U33: =(T33*$R33) -> #REF! | V33: =SUMPRODUCT((#REF!=$O33)*(#REF!=V$3)*#REF!) -> #REF! | W33: =(V33*$R33) -> #REF! | X33: =SUMPRODUCT((#REF!=$O33)*(#REF!=X$3)*#REF!) -> #REF! | Y33: =(X33*$R33) -> #REF! | Z33: =SUMPRODUCT((#REF!=$O33)*(#REF!=Z$3)*#REF!) -> #REF! | AA33: =(Z33*$R33) -> #REF! | AB33: =SUMPRODUCT((#REF!=$O33)*(#REF!=AB$3)*#REF!) -> #REF! | AC33: =(AB33*$R33) -> #REF! | AD33: =SUMPRODUCT((#REF!=$O33)*(#REF!=AD$3)*#REF!) -> #REF! | AE33: =(AD33*$R33) -> #REF! | AF33: =SUMPRODUCT((#REF!=$O33)*(#REF!=AF$3)*#REF!) -> #REF! | AG33: =(AF33*$R33) -> #REF! | AH33: =SUMPRODUCT((#REF!=$O33)*(#REF!=AH$3)*#REF!) -> #REF! | AI33: =(AH33*$R33) -> #REF! | AJ33: =SUMPRODUCT((#REF!=$O33)*(#REF!=AJ$3)*#REF!) -> #REF! | AK33: =(AJ33*$R33) -> #REF! | AL33: =SUMPRODUCT((#REF!=$O33)*(#REF!=AL$3)*#REF!) -> #REF! | AM33: =(AL33*$R33) -> #REF! | AN33: =SUMPRODUCT((#REF!=$O33)*(#REF!=AN$3)*#REF!) -> #REF! | AO33: =(AN33*$R33) -> #REF! | AP33: =SUMPRODUCT((#REF!=$O33)*(#REF!=AP$3)*#REF!) -> #REF! | AQ33: =(AP33*$R33) -> #REF! | AR33: =SUMPRODUCT((#REF!=$O33)*(#REF!=AR$3)*#REF!) -> #REF! | AS33: =(AR33*$R33) -> #REF! | AT33: =SUMPRODUCT((#REF!=$O33)*(#REF!=AT$3)*#REF!) -> #REF! | AU33: =(AT33*$R33) -> #REF!
A34: =#REF! -> #REF! | B34: =#REF! -> #REF! | C34: 38 | G34: =SUM(C34:F34) -> 38 | J34: =SUM(H34:I34) -> 0 | O34: =#REF! -> #REF! | P34: =SUMPRODUCT(($O34=#REF!)*(#REF!)) -> #REF! | Q34: =#REF! -> #REF! | R34: =G34+J34 -> 38 | S34: =#REF! -> #REF! | T34: =SUMPRODUCT((#REF!=$O34)*(#REF!=T$3)*#REF!) -> #REF! | U34: =(T34*$R34) -> #REF! | V34: =SUMPRODUCT((#REF!=$O34)*(#REF!=V$3)*#REF!) -> #REF! | W34: =(V34*$R34) -> #REF! | X34: =SUMPRODUCT((#REF!=$O34)*(#REF!=X$3)*#REF!) -> #REF! | Y34: =(X34*$R34) -> #REF! | Z34: =SUMPRODUCT((#REF!=$O34)*(#REF!=Z$3)*#REF!) -> #REF! | AA34: =(Z34*$R34) -> #REF! | AB34: =SUMPRODUCT((#REF!=$O34)*(#REF!=AB$3)*#REF!) -> #REF! | AC34: =(AB34*$R34) -> #REF! | AD34: =SUMPRODUCT((#REF!=$O34)*(#REF!=AD$3)*#REF!) -> #REF! | AE34: =(AD34*$R34) -> #REF! | AF34: =SUMPRODUCT((#REF!=$O34)*(#REF!=AF$3)*#REF!) -> #REF! | AG34: =(AF34*$R34) -> #REF! | AH34: =SUMPRODUCT((#REF!=$O34)*(#REF!=AH$3)*#REF!) -> #REF! | AI34: =(AH34*$R34) -> #REF! | AJ34: =SUMPRODUCT((#REF!=$O34)*(#REF!=AJ$3)*#REF!) -> #REF! | AK34: =(AJ34*$R34) -> #REF! | AL34: =SUMPRODUCT((#REF!=$O34)*(#REF!=AL$3)*#REF!) -> #REF! | AM34: =(AL34*$R34) -> #REF! | AN34: =SUMPRODUCT((#REF!=$O34)*(#REF!=AN$3)*#REF!) -> #REF! | AO34: =(AN34*$R34) -> #REF! | AP34: =SUMPRODUCT((#REF!=$O34)*(#REF!=AP$3)*#REF!) -> #REF! | AQ34: =(AP34*$R34) -> #REF! | AR34: =SUMPRODUCT((#REF!=$O34)*(#REF!=AR$3)*#REF!) -> #REF! | AS34: =(AR34*$R34) -> #REF! | AT34: =SUMPRODUCT((#REF!=$O34)*(#REF!=AT$3)*#REF!) -> #REF! | AU34: =(AT34*$R34) -> #REF!
A35: =#REF! -> #REF! | B35: =#REF! -> #REF! | C35: 38 | G35: =SUM(C35:F35) -> 38 | J35: =SUM(H35:I35) -> 0 | O35: =#REF! -> #REF! | P35: =SUMPRODUCT(($O35=#REF!)*(#REF!)) -> #REF! | Q35: =#REF! -> #REF! | R35: =G35+J35 -> 38 | S35: =#REF! -> #REF! | T35: =SUMPRODUCT((#REF!=$O35)*(#REF!=T$3)*#REF!) -> #REF! | U35: =(T35*$R35) -> #REF! | V35: =SUMPRODUCT((#REF!=$O35)*(#REF!=V$3)*#REF!) -> #REF! | W35: =(V35*$R35) -> #REF! | X35: =SUMPRODUCT((#REF!=$O35)*(#REF!=X$3)*#REF!) -> #REF! | Y35: =(X35*$R35) -> #REF! | Z35: =SUMPRODUCT((#REF!=$O35)*(#REF!=Z$3)*#REF!) -> #REF! | AA35: =(Z35*$R35) -> #REF! | AB35: =SUMPRODUCT((#REF!=$O35)*(#REF!=AB$3)*#REF!) -> #REF! | AC35: =(AB35*$R35) -> #REF! | AD35: =SUMPRODUCT((#REF!=$O35)*(#REF!=AD$3)*#REF!) -> #REF! | AE35: =(AD35*$R35) -> #REF! | AF35: =SUMPRODUCT((#REF!=$O35)*(#REF!=AF$3)*#REF!) -> #REF! | AG35: =(AF35*$R35) -> #REF! | AH35: =SUMPRODUCT((#REF!=$O35)*(#REF!=AH$3)*#REF!) -> #REF! | AI35: =(AH35*$R35) -> #REF! | AJ35: =SUMPRODUCT((#REF!=$O35)*(#REF!=AJ$3)*#REF!) -> #REF! | AK35: =(AJ35*$R35) -> #REF! | AL35: =SUMPRODUCT((#REF!=$O35)*(#REF!=AL$3)*#REF!) -> #REF! | AM35: =(AL35*$R35) -> #REF! | AN35: =SUMPRODUCT((#REF!=$O35)*(#REF!=AN$3)*#REF!) -> #REF! | AO35: =(AN35*$R35) -> #REF! | AP35: =SUMPRODUCT((#REF!=$O35)*(#REF!=AP$3)*#REF!) -> #REF! | AQ35: =(AP35*$R35) -> #REF! | AR35: =SUMPRODUCT((#REF!=$O35)*(#REF!=AR$3)*#REF!) -> #REF! | AS35: =(AR35*$R35) -> #REF! | AT35: =SUMPRODUCT((#REF!=$O35)*(#REF!=AT$3)*#REF!) -> #REF! | AU35: =(AT35*$R35) -> #REF!
A36: =#REF! -> #REF! | B36: =#REF! -> #REF! | C36: 7 | D36: 21 | E36: 3 | G36: =SUM(C36:F36) -> 31 | I36: 5 | J36: =SUM(H36:I36) -> 5 | O36: =#REF! -> #REF! | P36: =SUMPRODUCT(($O36=#REF!)*(#REF!)) -> #REF! | Q36: =#REF! -> #REF! | R36: =G36+J36 -> 36 | S36: =#REF! -> #REF! | T36: =SUMPRODUCT((#REF!=$O36)*(#REF!=T$3)*#REF!) -> #REF! | U36: =(T36*$R36) -> #REF! | V36: =SUMPRODUCT((#REF!=$O36)*(#REF!=V$3)*#REF!) -> #REF! | W36: =(V36*$R36) -> #REF! | X36: =SUMPRODUCT((#REF!=$O36)*(#REF!=X$3)*#REF!) -> #REF! | Y36: =(X36*$R36) -> #REF! | Z36: =SUMPRODUCT((#REF!=$O36)*(#REF!=Z$3)*#REF!) -> #REF! | AA36: =(Z36*$R36) -> #REF! | AB36: =SUMPRODUCT((#REF!=$O36)*(#REF!=AB$3)*#REF!) -> #REF! | AC36: =(AB36*$R36) -> #REF! | AD36: =SUMPRODUCT((#REF!=$O36)*(#REF!=AD$3)*#REF!) -> #REF! | AE36: =(AD36*$R36) -> #REF! | AF36: =SUMPRODUCT((#REF!=$O36)*(#REF!=AF$3)*#REF!) -> #REF! | AG36: =(AF36*$R36) -> #REF! | AH36: =SUMPRODUCT((#REF!=$O36)*(#REF!=AH$3)*#REF!) -> #REF! | AI36: =(AH36*$R36) -> #REF! | AJ36: =SUMPRODUCT((#REF!=$O36)*(#REF!=AJ$3)*#REF!) -> #REF! | AK36: =(AJ36*$R36) -> #REF! | AL36: =SUMPRODUCT((#REF!=$O36)*(#REF!=AL$3)*#REF!) -> #REF! | AM36: =(AL36*$R36) -> #REF! | AN36: =SUMPRODUCT((#REF!=$O36)*(#REF!=AN$3)*#REF!) -> #REF! | AO36: =(AN36*$R36) -> #REF! | AP36: =SUMPRODUCT((#REF!=$O36)*(#REF!=AP$3)*#REF!) -> #REF! | AQ36: =(AP36*$R36) -> #REF! | AR36: =SUMPRODUCT((#REF!=$O36)*(#REF!=AR$3)*#REF!) -> #REF! | AS36: =(AR36*$R36) -> #REF! | AT36: =SUMPRODUCT((#REF!=$O36)*(#REF!=AT$3)*#REF!) -> #REF! | AU36: =(AT36*$R36) -> #REF!
A37: =#REF! -> #REF! | B37: =#REF! -> #REF! | C37: 5 | D37: 2 | E37: 2 | G37: =SUM(C37:F37) -> 9 | I37: 2 | J37: =SUM(H37:I37) -> 2 | O37: =#REF! -> #REF! | P37: =SUMPRODUCT(($O37=#REF!)*(#REF!)) -> #REF! | Q37: =#REF! -> #REF! | R37: =G37+J37 -> 11 | S37: =#REF! -> #REF! | T37: =SUMPRODUCT((#REF!=$O37)*(#REF!=T$3)*#REF!) -> #REF! | U37: =(T37*$R37) -> #REF! | V37: =SUMPRODUCT((#REF!=$O37)*(#REF!=V$3)*#REF!) -> #REF! | W37: =(V37*$R37) -> #REF! | X37: =SUMPRODUCT((#REF!=$O37)*(#REF!=X$3)*#REF!) -> #REF! | Y37: =(X37*$R37) -> #REF! | Z37: =SUMPRODUCT((#REF!=$O37)*(#REF!=Z$3)*#REF!) -> #REF! | AA37: =(Z37*$R37) -> #REF! | AB37: =SUMPRODUCT((#REF!=$O37)*(#REF!=AB$3)*#REF!) -> #REF! | AC37: =(AB37*$R37) -> #REF! | AD37: =SUMPRODUCT((#REF!=$O37)*(#REF!=AD$3)*#REF!) -> #REF! | AE37: =(AD37*$R37) -> #REF! | AF37: =SUMPRODUCT((#REF!=$O37)*(#REF!=AF$3)*#REF!) -> #REF! | AG37: =(AF37*$R37) -> #REF! | AH37: =SUMPRODUCT((#REF!=$O37)*(#REF!=AH$3)*#REF!) -> #REF! | AI37: =(AH37*$R37) -> #REF! | AJ37: =SUMPRODUCT((#REF!=$O37)*(#REF!=AJ$3)*#REF!) -> #REF! | AK37: =(AJ37*$R37) -> #REF! | AL37: =SUMPRODUCT((#REF!=$O37)*(#REF!=AL$3)*#REF!) -> #REF! | AM37: =(AL37*$R37) -> #REF! | AN37: =SUMPRODUCT((#REF!=$O37)*(#REF!=AN$3)*#REF!) -> #REF! | AO37: =(AN37*$R37) -> #REF! | AP37: =SUMPRODUCT((#REF!=$O37)*(#REF!=AP$3)*#REF!) -> #REF! | AQ37: =(AP37*$R37) -> #REF! | AR37: =SUMPRODUCT((#REF!=$O37)*(#REF!=AR$3)*#REF!) -> #REF! | AS37: =(AR37*$R37) -> #REF! | AT37: =SUMPRODUCT((#REF!=$O37)*(#REF!=AT$3)*#REF!) -> #REF! | AU37: =(AT37*$R37) -> #REF!
A38: =#REF! -> #REF! | B38: =#REF! -> #REF! | G38: =SUM(C38:F38) -> 0 | J38: =SUM(H38:I38) -> 0 | O38: =#REF! -> #REF! | P38: =SUMPRODUCT(($O38=#REF!)*(#REF!)) -> #REF! | Q38: =#REF! -> #REF! | R38: =G38+J38 -> 0 | S38: =#REF! -> #REF! | T38: =SUMPRODUCT((#REF!=$O38)*(#REF!=T$3)*#REF!) -> #REF! | U38: =(T38*$R38) -> #REF! | V38: =SUMPRODUCT((#REF!=$O38)*(#REF!=V$3)*#REF!) -> #REF! | W38: =(V38*$R38) -> #REF! | X38: =SUMPRODUCT((#REF!=$O38)*(#REF!=X$3)*#REF!) -> #REF! | Y38: =(X38*$R38) -> #REF! | Z38: =SUMPRODUCT((#REF!=$O38)*(#REF!=Z$3)*#REF!) -> #REF! | AA38: =(Z38*$R38) -> #REF! | AB38: =SUMPRODUCT((#REF!=$O38)*(#REF!=AB$3)*#REF!) -> #REF! | AC38: =(AB38*$R38) -> #REF! | AD38: =SUMPRODUCT((#REF!=$O38)*(#REF!=AD$3)*#REF!) -> #REF! | AE38: =(AD38*$R38) -> #REF! | AF38: =SUMPRODUCT((#REF!=$O38)*(#REF!=AF$3)*#REF!) -> #REF! | AG38: =(AF38*$R38) -> #REF! | AH38: =SUMPRODUCT((#REF!=$O38)*(#REF!=AH$3)*#REF!) -> #REF! | AI38: =(AH38*$R38) -> #REF! | AJ38: =SUMPRODUCT((#REF!=$O38)*(#REF!=AJ$3)*#REF!) -> #REF! | AK38: =(AJ38*$R38) -> #REF! | AL38: =SUMPRODUCT((#REF!=$O38)*(#REF!=AL$3)*#REF!) -> #REF! | AM38: =(AL38*$R38) -> #REF! | AN38: =SUMPRODUCT((#REF!=$O38)*(#REF!=AN$3)*#REF!) -> #REF! | AO38: =(AN38*$R38) -> #REF! | AP38: =SUMPRODUCT((#REF!=$O38)*(#REF!=AP$3)*#REF!) -> #REF! | AQ38: =(AP38*$R38) -> #REF! | AR38: =SUMPRODUCT((#REF!=$O38)*(#REF!=AR$3)*#REF!) -> #REF! | AS38: =(AR38*$R38) -> #REF! | AT38: =SUMPRODUCT((#REF!=$O38)*(#REF!=AT$3)*#REF!) -> #REF! | AU38: =(AT38*$R38) -> #REF!
A39: =#REF! -> #REF! | B39: =#REF! -> #REF! | G39: =SUM(C39:F39) -> 0 | J39: =SUM(H39:I39) -> 0 | O39: =#REF! -> #REF! | P39: =SUMPRODUCT(($O39=#REF!)*(#REF!)) -> #REF! | Q39: =#REF! -> #REF! | R39: =G39+J39 -> 0 | S39: =#REF! -> #REF! | T39: =SUMPRODUCT((#REF!=$O39)*(#REF!=T$3)*#REF!) -> #REF! | U39: =(T39*$R39) -> #REF! | V39: =SUMPRODUCT((#REF!=$O39)*(#REF!=V$3)*#REF!) -> #REF! | W39: =(V39*$R39) -> #REF! | X39: =SUMPRODUCT((#REF!=$O39)*(#REF!=X$3)*#REF!) -> #REF! | Y39: =(X39*$R39) -> #REF! | Z39: =SUMPRODUCT((#REF!=$O39)*(#REF!=Z$3)*#REF!) -> #REF! | AA39: =(Z39*$R39) -> #REF! | AB39: =SUMPRODUCT((#REF!=$O39)*(#REF!=AB$3)*#REF!) -> #REF! | AC39: =(AB39*$R39) -> #REF! | AD39: =SUMPRODUCT((#REF!=$O39)*(#REF!=AD$3)*#REF!) -> #REF! | AE39: =(AD39*$R39) -> #REF! | AF39: =SUMPRODUCT((#REF!=$O39)*(#REF!=AF$3)*#REF!) -> #REF! | AG39: =(AF39*$R39) -> #REF! | AH39: =SUMPRODUCT((#REF!=$O39)*(#REF!=AH$3)*#REF!) -> #REF! | AI39: =(AH39*$R39) -> #REF! | AJ39: =SUMPRODUCT((#REF!=$O39)*(#REF!=AJ$3)*#REF!) -> #REF! | AK39: =(AJ39*$R39) -> #REF! | AL39: =SUMPRODUCT((#REF!=$O39)*(#REF!=AL$3)*#REF!) -> #REF! | AM39: =(AL39*$R39) -> #REF! | AN39: =SUMPRODUCT((#REF!=$O39)*(#REF!=AN$3)*#REF!) -> #REF! | AO39: =(AN39*$R39) -> #REF! | AP39: =SUMPRODUCT((#REF!=$O39)*(#REF!=AP$3)*#REF!) -> #REF! | AQ39: =(AP39*$R39) -> #REF! | AR39: =SUMPRODUCT((#REF!=$O39)*(#REF!=AR$3)*#REF!) -> #REF! | AS39: =(AR39*$R39) -> #REF! | AT39: =SUMPRODUCT((#REF!=$O39)*(#REF!=AT$3)*#REF!) -> #REF! | AU39: =(AT39*$R39) -> #REF!
A40: =#REF! -> #REF! | B40: =#REF! -> #REF! | C40: 7 | D40: 20 | E40: 3 | G40: =SUM(C40:F40) -> 30 | I40: 5 | J40: =SUM(H40:I40) -> 5 | O40: =#REF! -> #REF! | P40: =SUMPRODUCT(($O40=#REF!)*(#REF!)) -> #REF! | Q40: =#REF! -> #REF! | R40: =G40+J40 -> 35 | S40: =#REF! -> #REF! | T40: =SUMPRODUCT((#REF!=$O40)*(#REF!=T$3)*#REF!) -> #REF! | U40: =(T40*$R40) -> #REF! | V40: =SUMPRODUCT((#REF!=$O40)*(#REF!=V$3)*#REF!) -> #REF! | W40: =(V40*$R40) -> #REF! | X40: =SUMPRODUCT((#REF!=$O40)*(#REF!=X$3)*#REF!) -> #REF! | Y40: =(X40*$R40) -> #REF! | Z40: =SUMPRODUCT((#REF!=$O40)*(#REF!=Z$3)*#REF!) -> #REF! | AA40: =(Z40*$R40) -> #REF! | AB40: =SUMPRODUCT((#REF!=$O40)*(#REF!=AB$3)*#REF!) -> #REF! | AC40: =(AB40*$R40) -> #REF! | AD40: =SUMPRODUCT((#REF!=$O40)*(#REF!=AD$3)*#REF!) -> #REF! | AE40: =(AD40*$R40) -> #REF! | AF40: =SUMPRODUCT((#REF!=$O40)*(#REF!=AF$3)*#REF!) -> #REF! | AG40: =(AF40*$R40) -> #REF! | AH40: =SUMPRODUCT((#REF!=$O40)*(#REF!=AH$3)*#REF!) -> #REF! | AI40: =(AH40*$R40) -> #REF! | AJ40: =SUMPRODUCT((#REF!=$O40)*(#REF!=AJ$3)*#REF!) -> #REF! | AK40: =(AJ40*$R40) -> #REF! | AL40: =SUMPRODUCT((#REF!=$O40)*(#REF!=AL$3)*#REF!) -> #REF! | AM40: =(AL40*$R40) -> #REF! | AN40: =SUMPRODUCT((#REF!=$O40)*(#REF!=AN$3)*#REF!) -> #REF! | AO40: =(AN40*$R40) -> #REF! | AP40: =SUMPRODUCT((#REF!=$O40)*(#REF!=AP$3)*#REF!) -> #REF! | AQ40: =(AP40*$R40) -> #REF! | AR40: =SUMPRODUCT((#REF!=$O40)*(#REF!=AR$3)*#REF!) -> #REF! | AS40: =(AR40*$R40) -> #REF! | AT40: =SUMPRODUCT((#REF!=$O40)*(#REF!=AT$3)*#REF!) -> #REF! | AU40: =(AT40*$R40) -> #REF!
A41: =#REF! -> #REF! | B41: =#REF! -> #REF! | C41: 7 | D41: 20 | E41: 3 | G41: =SUM(C41:F41) -> 30 | I41: 5 | J41: =SUM(H41:I41) -> 5 | O41: =#REF! -> #REF! | P41: =SUMPRODUCT(($O41=#REF!)*(#REF!)) -> #REF! | Q41: =#REF! -> #REF! | R41: =G41+J41 -> 35 | S41: =#REF! -> #REF! | T41: =SUMPRODUCT((#REF!=$O41)*(#REF!=T$3)*#REF!) -> #REF! | U41: =(T41*$R41) -> #REF! | V41: =SUMPRODUCT((#REF!=$O41)*(#REF!=V$3)*#REF!) -> #REF! | W41: =(V41*$R41) -> #REF! | X41: =SUMPRODUCT((#REF!=$O41)*(#REF!=X$3)*#REF!) -> #REF! | Y41: =(X41*$R41) -> #REF! | Z41: =SUMPRODUCT((#REF!=$O41)*(#REF!=Z$3)*#REF!) -> #REF! | AA41: =(Z41*$R41) -> #REF! | AB41: =SUMPRODUCT((#REF!=$O41)*(#REF!=AB$3)*#REF!) -> #REF! | AC41: =(AB41*$R41) -> #REF! | AD41: =SUMPRODUCT((#REF!=$O41)*(#REF!=AD$3)*#REF!) -> #REF! | AE41: =(AD41*$R41) -> #REF! | AF41: =SUMPRODUCT((#REF!=$O41)*(#REF!=AF$3)*#REF!) -> #REF! | AG41: =(AF41*$R41) -> #REF! | AH41: =SUMPRODUCT((#REF!=$O41)*(#REF!=AH$3)*#REF!) -> #REF! | AI41: =(AH41*$R41) -> #REF! | AJ41: =SUMPRODUCT((#REF!=$O41)*(#REF!=AJ$3)*#REF!) -> #REF! | AK41: =(AJ41*$R41) -> #REF! | AL41: =SUMPRODUCT((#REF!=$O41)*(#REF!=AL$3)*#REF!) -> #REF! | AM41: =(AL41*$R41) -> #REF! | AN41: =SUMPRODUCT((#REF!=$O41)*(#REF!=AN$3)*#REF!) -> #REF! | AO41: =(AN41*$R41) -> #REF! | AP41: =SUMPRODUCT((#REF!=$O41)*(#REF!=AP$3)*#REF!) -> #REF! | AQ41: =(AP41*$R41) -> #REF! | AR41: =SUMPRODUCT((#REF!=$O41)*(#REF!=AR$3)*#REF!) -> #REF! | AS41: =(AR41*$R41) -> #REF! | AT41: =SUMPRODUCT((#REF!=$O41)*(#REF!=AT$3)*#REF!) -> #REF! | AU41: =(AT41*$R41) -> #REF!
A42: =#REF! -> #REF! | B42: =#REF! -> #REF! | C42: 7 | D42: 21 | E42: 3 | G42: =SUM(C42:F42) -> 31 | I42: 5 | J42: =SUM(H42:I42) -> 5 | O42: =#REF! -> #REF! | P42: =SUMPRODUCT(($O42=#REF!)*(#REF!)) -> #REF! | Q42: =#REF! -> #REF! | R42: =G42+J42 -> 36 | S42: =#REF! -> #REF! | T42: =SUMPRODUCT((#REF!=$O42)*(#REF!=T$3)*#REF!) -> #REF! | U42: =(T42*$R42) -> #REF! | V42: =SUMPRODUCT((#REF!=$O42)*(#REF!=V$3)*#REF!) -> #REF! | W42: =(V42*$R42) -> #REF! | X42: =SUMPRODUCT((#REF!=$O42)*(#REF!=X$3)*#REF!) -> #REF! | Y42: =(X42*$R42) -> #REF! | Z42: =SUMPRODUCT((#REF!=$O42)*(#REF!=Z$3)*#REF!) -> #REF! | AA42: =(Z42*$R42) -> #REF! | AB42: =SUMPRODUCT((#REF!=$O42)*(#REF!=AB$3)*#REF!) -> #REF! | AC42: =(AB42*$R42) -> #REF! | AD42: =SUMPRODUCT((#REF!=$O42)*(#REF!=AD$3)*#REF!) -> #REF! | AE42: =(AD42*$R42) -> #REF! | AF42: =SUMPRODUCT((#REF!=$O42)*(#REF!=AF$3)*#REF!) -> #REF! | AG42: =(AF42*$R42) -> #REF! | AH42: =SUMPRODUCT((#REF!=$O42)*(#REF!=AH$3)*#REF!) -> #REF! | AI42: =(AH42*$R42) -> #REF! | AJ42: =SUMPRODUCT((#REF!=$O42)*(#REF!=AJ$3)*#REF!) -> #REF! | AK42: =(AJ42*$R42) -> #REF! | AL42: =SUMPRODUCT((#REF!=$O42)*(#REF!=AL$3)*#REF!) -> #REF! | AM42: =(AL42*$R42) -> #REF! | AN42: =SUMPRODUCT((#REF!=$O42)*(#REF!=AN$3)*#REF!) -> #REF! | AO42: =(AN42*$R42) -> #REF! | AP42: =SUMPRODUCT((#REF!=$O42)*(#REF!=AP$3)*#REF!) -> #REF! | AQ42: =(AP42*$R42) -> #REF! | AR42: =SUMPRODUCT((#REF!=$O42)*(#REF!=AR$3)*#REF!) -> #REF! | AS42: =(AR42*$R42) -> #REF! | AT42: =SUMPRODUCT((#REF!=$O42)*(#REF!=AT$3)*#REF!) -> #REF! | AU42: =(AT42*$R42) -> #REF!
A43: =#REF! -> #REF! | B43: =#REF! -> #REF! | F43: 40 | G43: =SUM(C43:F43) -> 40 | I43: 5 | J43: =SUM(H43:I43) -> 5 | O43: =#REF! -> #REF! | P43: =SUMPRODUCT(($O43=#REF!)*(#REF!)) -> #REF! | Q43: =#REF! -> #REF! | R43: =G43+J43 -> 45 | S43: =#REF! -> #REF! | T43: =SUMPRODUCT((#REF!=$O43)*(#REF!=T$3)*#REF!) -> #REF! | U43: =(T43*$R43) -> #REF! | V43: =SUMPRODUCT((#REF!=$O43)*(#REF!=V$3)*#REF!) -> #REF! | W43: =(V43*$R43) -> #REF! | X43: =SUMPRODUCT((#REF!=$O43)*(#REF!=X$3)*#REF!) -> #REF! | Y43: =(X43*$R43) -> #REF! | Z43: =SUMPRODUCT((#REF!=$O43)*(#REF!=Z$3)*#REF!) -> #REF! | AA43: =(Z43*$R43) -> #REF! | AB43: =SUMPRODUCT((#REF!=$O43)*(#REF!=AB$3)*#REF!) -> #REF! | AC43: =(AB43*$R43) -> #REF! | AD43: =SUMPRODUCT((#REF!=$O43)*(#REF!=AD$3)*#REF!) -> #REF! | AE43: =(AD43*$R43) -> #REF! | AF43: =SUMPRODUCT((#REF!=$O43)*(#REF!=AF$3)*#REF!) -> #REF! | AG43: =(AF43*$R43) -> #REF! | AH43: =SUMPRODUCT((#REF!=$O43)*(#REF!=AH$3)*#REF!) -> #REF! | AI43: =(AH43*$R43) -> #REF! | AJ43: =SUMPRODUCT((#REF!=$O43)*(#REF!=AJ$3)*#REF!) -> #REF! | AK43: =(AJ43*$R43) -> #REF! | AL43: =SUMPRODUCT((#REF!=$O43)*(#REF!=AL$3)*#REF!) -> #REF! | AM43: =(AL43*$R43) -> #REF! | AN43: =SUMPRODUCT((#REF!=$O43)*(#REF!=AN$3)*#REF!) -> #REF! | AO43: =(AN43*$R43) -> #REF! | AP43: =SUMPRODUCT((#REF!=$O43)*(#REF!=AP$3)*#REF!) -> #REF! | AQ43: =(AP43*$R43) -> #REF! | AR43: =SUMPRODUCT((#REF!=$O43)*(#REF!=AR$3)*#REF!) -> #REF! | AS43: =(AR43*$R43) -> #REF! | AT43: =SUMPRODUCT((#REF!=$O43)*(#REF!=AT$3)*#REF!) -> #REF! | AU43: =(AT43*$R43) -> #REF!
A44: =#REF! -> #REF! | B44: =#REF! -> #REF! | C44: 26 | E44: 2 | G44: =SUM(C44:F44) -> 28 | J44: =SUM(H44:I44) -> 0 | O44: =#REF! -> #REF! | P44: =SUMPRODUCT(($O44=#REF!)*(#REF!)) -> #REF! | Q44: =#REF! -> #REF! | R44: =G44+J44 -> 28 | S44: =#REF! -> #REF! | T44: =SUMPRODUCT((#REF!=$O44)*(#REF!=T$3)*#REF!) -> #REF! | U44: =(T44*$R44) -> #REF! | V44: =SUMPRODUCT((#REF!=$O44)*(#REF!=V$3)*#REF!) -> #REF! | W44: =(V44*$R44) -> #REF! | X44: =SUMPRODUCT((#REF!=$O44)*(#REF!=X$3)*#REF!) -> #REF! | Y44: =(X44*$R44) -> #REF! | Z44: =SUMPRODUCT((#REF!=$O44)*(#REF!=Z$3)*#REF!) -> #REF! | AA44: =(Z44*$R44) -> #REF! | AB44: =SUMPRODUCT((#REF!=$O44)*(#REF!=AB$3)*#REF!) -> #REF! | AC44: =(AB44*$R44) -> #REF! | AD44: =SUMPRODUCT((#REF!=$O44)*(#REF!=AD$3)*#REF!) -> #REF! | AE44: =(AD44*$R44) -> #REF! | AF44: =SUMPRODUCT((#REF!=$O44)*(#REF!=AF$3)*#REF!) -> #REF! | AG44: =(AF44*$R44) -> #REF! | AH44: =SUMPRODUCT((#REF!=$O44)*(#REF!=AH$3)*#REF!) -> #REF! | AI44: =(AH44*$R44) -> #REF! | AJ44: =SUMPRODUCT((#REF!=$O44)*(#REF!=AJ$3)*#REF!) -> #REF! | AK44: =(AJ44*$R44) -> #REF! | AL44: =SUMPRODUCT((#REF!=$O44)*(#REF!=AL$3)*#REF!) -> #REF! | AM44: =(AL44*$R44) -> #REF! | AN44: =SUMPRODUCT((#REF!=$O44)*(#REF!=AN$3)*#REF!) -> #REF! | AO44: =(AN44*$R44) -> #REF! | AP44: =SUMPRODUCT((#REF!=$O44)*(#REF!=AP$3)*#REF!) -> #REF! | AQ44: =(AP44*$R44) -> #REF! | AR44: =SUMPRODUCT((#REF!=$O44)*(#REF!=AR$3)*#REF!) -> #REF! | AS44: =(AR44*$R44) -> #REF! | AT44: =SUMPRODUCT((#REF!=$O44)*(#REF!=AT$3)*#REF!) -> #REF! | AU44: =(AT44*$R44) -> #REF!
A45: =#REF! -> #REF! | B45: =#REF! -> #REF! | C45: 4 | D45: 16 | E45: 2 | G45: =SUM(C45:F45) -> 22 | J45: =SUM(H45:I45) -> 0 | O45: =#REF! -> #REF! | P45: =SUMPRODUCT(($O45=#REF!)*(#REF!)) -> #REF! | Q45: =#REF! -> #REF! | R45: =G45+J45 -> 22 | S45: =#REF! -> #REF! | T45: =SUMPRODUCT((#REF!=$O45)*(#REF!=T$3)*#REF!) -> #REF! | U45: =(T45*$R45) -> #REF! | V45: =SUMPRODUCT((#REF!=$O45)*(#REF!=V$3)*#REF!) -> #REF! | W45: =(V45*$R45) -> #REF! | X45: =SUMPRODUCT((#REF!=$O45)*(#REF!=X$3)*#REF!) -> #REF! | Y45: =(X45*$R45) -> #REF! | Z45: =SUMPRODUCT((#REF!=$O45)*(#REF!=Z$3)*#REF!) -> #REF! | AA45: =(Z45*$R45) -> #REF! | AB45: =SUMPRODUCT((#REF!=$O45)*(#REF!=AB$3)*#REF!) -> #REF! | AC45: =(AB45*$R45) -> #REF! | AD45: =SUMPRODUCT((#REF!=$O45)*(#REF!=AD$3)*#REF!) -> #REF! | AE45: =(AD45*$R45) -> #REF! | AF45: =SUMPRODUCT((#REF!=$O45)*(#REF!=AF$3)*#REF!) -> #REF! | AG45: =(AF45*$R45) -> #REF! | AH45: =SUMPRODUCT((#REF!=$O45)*(#REF!=AH$3)*#REF!) -> #REF! | AI45: =(AH45*$R45) -> #REF! | AJ45: =SUMPRODUCT((#REF!=$O45)*(#REF!=AJ$3)*#REF!) -> #REF! | AK45: =(AJ45*$R45) -> #REF! | AL45: =SUMPRODUCT((#REF!=$O45)*(#REF!=AL$3)*#REF!) -> #REF! | AM45: =(AL45*$R45) -> #REF! | AN45: =SUMPRODUCT((#REF!=$O45)*(#REF!=AN$3)*#REF!) -> #REF! | AO45: =(AN45*$R45) -> #REF! | AP45: =SUMPRODUCT((#REF!=$O45)*(#REF!=AP$3)*#REF!) -> #REF! | AQ45: =(AP45*$R45) -> #REF! | AR45: =SUMPRODUCT((#REF!=$O45)*(#REF!=AR$3)*#REF!) -> #REF! | AS45: =(AR45*$R45) -> #REF! | AT45: =SUMPRODUCT((#REF!=$O45)*(#REF!=AT$3)*#REF!) -> #REF! | AU45: =(AT45*$R45) -> #REF!
A46: =#REF! -> #REF! | B46: =#REF! -> #REF! | C46: 2 | D46: 8 | E46: 1 | G46: =SUM(C46:F46) -> 11 | J46: =SUM(H46:I46) -> 0 | O46: =#REF! -> #REF! | P46: =SUMPRODUCT(($O46=#REF!)*(#REF!)) -> #REF! | Q46: =#REF! -> #REF! | R46: =G46+J46 -> 11 | S46: =#REF! -> #REF! | T46: =SUMPRODUCT((#REF!=$O46)*(#REF!=T$3)*#REF!) -> #REF! | U46: =(T46*$R46) -> #REF! | V46: =SUMPRODUCT((#REF!=$O46)*(#REF!=V$3)*#REF!) -> #REF! | W46: =(V46*$R46) -> #REF! | X46: =SUMPRODUCT((#REF!=$O46)*(#REF!=X$3)*#REF!) -> #REF! | Y46: =(X46*$R46) -> #REF! | Z46: =SUMPRODUCT((#REF!=$O46)*(#REF!=Z$3)*#REF!) -> #REF! | AA46: =(Z46*$R46) -> #REF! | AB46: =SUMPRODUCT((#REF!=$O46)*(#REF!=AB$3)*#REF!) -> #REF! | AC46: =(AB46*$R46) -> #REF! | AD46: =SUMPRODUCT((#REF!=$O46)*(#REF!=AD$3)*#REF!) -> #REF! | AE46: =(AD46*$R46) -> #REF! | AF46: =SUMPRODUCT((#REF!=$O46)*(#REF!=AF$3)*#REF!) -> #REF! | AG46: =(AF46*$R46) -> #REF! | AH46: =SUMPRODUCT((#REF!=$O46)*(#REF!=AH$3)*#REF!) -> #REF! | AI46: =(AH46*$R46) -> #REF! | AJ46: =SUMPRODUCT((#REF!=$O46)*(#REF!=AJ$3)*#REF!) -> #REF! | AK46: =(AJ46*$R46) -> #REF! | AL46: =SUMPRODUCT((#REF!=$O46)*(#REF!=AL$3)*#REF!) -> #REF! | AM46: =(AL46*$R46) -> #REF! | AN46: =SUMPRODUCT((#REF!=$O46)*(#REF!=AN$3)*#REF!) -> #REF! | AO46: =(AN46*$R46) -> #REF! | AP46: =SUMPRODUCT((#REF!=$O46)*(#REF!=AP$3)*#REF!) -> #REF! | AQ46: =(AP46*$R46) -> #REF! | AR46: =SUMPRODUCT((#REF!=$O46)*(#REF!=AR$3)*#REF!) -> #REF! | AS46: =(AR46*$R46) -> #REF! | AT46: =SUMPRODUCT((#REF!=$O46)*(#REF!=AT$3)*#REF!) -> #REF! | AU46: =(AT46*$R46) -> #REF!
A47: =#REF! -> #REF! | B47: =#REF! -> #REF! | F47: 2 | G47: =SUM(C47:F47) -> 2 | J47: =SUM(H47:I47) -> 0 | O47: =#REF! -> #REF! | P47: =SUMPRODUCT(($O47=#REF!)*(#REF!)) -> #REF! | Q47: =#REF! -> #REF! | R47: =G47+J47 -> 2 | S47: =#REF! -> #REF! | T47: =SUMPRODUCT((#REF!=$O47)*(#REF!=T$3)*#REF!) -> #REF! | U47: =(T47*$R47) -> #REF! | V47: =SUMPRODUCT((#REF!=$O47)*(#REF!=V$3)*#REF!) -> #REF! | W47: =(V47*$R47) -> #REF! | X47: =SUMPRODUCT((#REF!=$O47)*(#REF!=X$3)*#REF!) -> #REF! | Y47: =(X47*$R47) -> #REF! | Z47: =SUMPRODUCT((#REF!=$O47)*(#REF!=Z$3)*#REF!) -> #REF! | AA47: =(Z47*$R47) -> #REF! | AB47: =SUMPRODUCT((#REF!=$O47)*(#REF!=AB$3)*#REF!) -> #REF! | AC47: =(AB47*$R47) -> #REF! | AD47: =SUMPRODUCT((#REF!=$O47)*(#REF!=AD$3)*#REF!) -> #REF! | AE47: =(AD47*$R47) -> #REF! | AF47: =SUMPRODUCT((#REF!=$O47)*(#REF!=AF$3)*#REF!) -> #REF! | AG47: =(AF47*$R47) -> #REF! | AH47: =SUMPRODUCT((#REF!=$O47)*(#REF!=AH$3)*#REF!) -> #REF! | AI47: =(AH47*$R47) -> #REF! | AJ47: =SUMPRODUCT((#REF!=$O47)*(#REF!=AJ$3)*#REF!) -> #REF! | AK47: =(AJ47*$R47) -> #REF! | AL47: =SUMPRODUCT((#REF!=$O47)*(#REF!=AL$3)*#REF!) -> #REF! | AM47: =(AL47*$R47) -> #REF! | AN47: =SUMPRODUCT((#REF!=$O47)*(#REF!=AN$3)*#REF!) -> #REF! | AO47: =(AN47*$R47) -> #REF! | AP47: =SUMPRODUCT((#REF!=$O47)*(#REF!=AP$3)*#REF!) -> #REF! | AQ47: =(AP47*$R47) -> #REF! | AR47: =SUMPRODUCT((#REF!=$O47)*(#REF!=AR$3)*#REF!) -> #REF! | AS47: =(AR47*$R47) -> #REF! | AT47: =SUMPRODUCT((#REF!=$O47)*(#REF!=AT$3)*#REF!) -> #REF! | AU47: =(AT47*$R47) -> #REF!
A48: =#REF! -> #REF! | B48: =#REF! -> #REF! | C48: 4 | D48: 16 | E48: 2 | G48: =SUM(C48:F48) -> 22 | J48: =SUM(H48:I48) -> 0 | O48: =#REF! -> #REF! | P48: =SUMPRODUCT(($O48=#REF!)*(#REF!)) -> #REF! | Q48: =#REF! -> #REF! | R48: =G48+J48 -> 22 | S48: =#REF! -> #REF! | T48: =SUMPRODUCT((#REF!=$O48)*(#REF!=T$3)*#REF!) -> #REF! | U48: =(T48*$R48) -> #REF! | V48: =SUMPRODUCT((#REF!=$O48)*(#REF!=V$3)*#REF!) -> #REF! | W48: =(V48*$R48) -> #REF! | X48: =SUMPRODUCT((#REF!=$O48)*(#REF!=X$3)*#REF!) -> #REF! | Y48: =(X48*$R48) -> #REF! | Z48: =SUMPRODUCT((#REF!=$O48)*(#REF!=Z$3)*#REF!) -> #REF! | AA48: =(Z48*$R48) -> #REF! | AB48: =SUMPRODUCT((#REF!=$O48)*(#REF!=AB$3)*#REF!) -> #REF! | AC48: =(AB48*$R48) -> #REF! | AD48: =SUMPRODUCT((#REF!=$O48)*(#REF!=AD$3)*#REF!) -> #REF! | AE48: =(AD48*$R48) -> #REF! | AF48: =SUMPRODUCT((#REF!=$O48)*(#REF!=AF$3)*#REF!) -> #REF! | AG48: =(AF48*$R48) -> #REF! | AH48: =SUMPRODUCT((#REF!=$O48)*(#REF!=AH$3)*#REF!) -> #REF! | AI48: =(AH48*$R48) -> #REF! | AJ48: =SUMPRODUCT((#REF!=$O48)*(#REF!=AJ$3)*#REF!) -> #REF! | AK48: =(AJ48*$R48) -> #REF! | AL48: =SUMPRODUCT((#REF!=$O48)*(#REF!=AL$3)*#REF!) -> #REF! | AM48: =(AL48*$R48) -> #REF! | AN48: =SUMPRODUCT((#REF!=$O48)*(#REF!=AN$3)*#REF!) -> #REF! | AO48: =(AN48*$R48) -> #REF! | AP48: =SUMPRODUCT((#REF!=$O48)*(#REF!=AP$3)*#REF!) -> #REF! | AQ48: =(AP48*$R48) -> #REF! | AR48: =SUMPRODUCT((#REF!=$O48)*(#REF!=AR$3)*#REF!) -> #REF! | AS48: =(AR48*$R48) -> #REF! | AT48: =SUMPRODUCT((#REF!=$O48)*(#REF!=AT$3)*#REF!) -> #REF! | AU48: =(AT48*$R48) -> #REF!
A49: =#REF! -> #REF! | B49: =#REF! -> #REF! | G49: =SUM(C49:F49) -> 0 | J49: =SUM(H49:I49) -> 0 | O49: =#REF! -> #REF! | P49: =SUMPRODUCT(($O49=#REF!)*(#REF!)) -> #REF! | Q49: =#REF! -> #REF! | R49: =G49+J49 -> 0 | S49: =#REF! -> #REF! | T49: =SUMPRODUCT((#REF!=$O49)*(#REF!=T$3)*#REF!) -> #REF! | U49: =(T49*$R49) -> #REF! | V49: =SUMPRODUCT((#REF!=$O49)*(#REF!=V$3)*#REF!) -> #REF! | W49: =(V49*$R49) -> #REF! | X49: =SUMPRODUCT((#REF!=$O49)*(#REF!=X$3)*#REF!) -> #REF! | Y49: =(X49*$R49) -> #REF! | Z49: =SUMPRODUCT((#REF!=$O49)*(#REF!=Z$3)*#REF!) -> #REF! | AA49: =(Z49*$R49) -> #REF! | AB49: =SUMPRODUCT((#REF!=$O49)*(#REF!=AB$3)*#REF!) -> #REF! | AC49: =(AB49*$R49) -> #REF! | AD49: =SUMPRODUCT((#REF!=$O49)*(#REF!=AD$3)*#REF!) -> #REF! | AE49: =(AD49*$R49) -> #REF! | AF49: =SUMPRODUCT((#REF!=$O49)*(#REF!=AF$3)*#REF!) -> #REF! | AG49: =(AF49*$R49) -> #REF! | AH49: =SUMPRODUCT((#REF!=$O49)*(#REF!=AH$3)*#REF!) -> #REF! | AI49: =(AH49*$R49) -> #REF! | AJ49: =SUMPRODUCT((#REF!=$O49)*(#REF!=AJ$3)*#REF!) -> #REF! | AK49: =(AJ49*$R49) -> #REF! | AL49: =SUMPRODUCT((#REF!=$O49)*(#REF!=AL$3)*#REF!) -> #REF! | AM49: =(AL49*$R49) -> #REF! | AN49: =SUMPRODUCT((#REF!=$O49)*(#REF!=AN$3)*#REF!) -> #REF! | AO49: =(AN49*$R49) -> #REF! | AP49: =SUMPRODUCT((#REF!=$O49)*(#REF!=AP$3)*#REF!) -> #REF! | AQ49: =(AP49*$R49) -> #REF! | AR49: =SUMPRODUCT((#REF!=$O49)*(#REF!=AR$3)*#REF!) -> #REF! | AS49: =(AR49*$R49) -> #REF! | AT49: =SUMPRODUCT((#REF!=$O49)*(#REF!=AT$3)*#REF!) -> #REF! | AU49: =(AT49*$R49) -> #REF!
A50: =#REF! -> #REF! | B50: =#REF! -> #REF! | C50: 8 | G50: =SUM(C50:F50) -> 8 | J50: =SUM(H50:I50) -> 0 | O50: =#REF! -> #REF! | P50: =SUMPRODUCT(($O50=#REF!)*(#REF!)) -> #REF! | Q50: =#REF! -> #REF! | R50: =G50+J50 -> 8 | S50: =#REF! -> #REF! | T50: =SUMPRODUCT((#REF!=$O50)*(#REF!=T$3)*#REF!) -> #REF! | U50: =(T50*$R50) -> #REF! | V50: =SUMPRODUCT((#REF!=$O50)*(#REF!=V$3)*#REF!) -> #REF! | W50: =(V50*$R50) -> #REF! | X50: =SUMPRODUCT((#REF!=$O50)*(#REF!=X$3)*#REF!) -> #REF! | Y50: =(X50*$R50) -> #REF! | Z50: =SUMPRODUCT((#REF!=$O50)*(#REF!=Z$3)*#REF!) -> #REF! | AA50: =(Z50*$R50) -> #REF! | AB50: =SUMPRODUCT((#REF!=$O50)*(#REF!=AB$3)*#REF!) -> #REF! | AC50: =(AB50*$R50) -> #REF! | AD50: =SUMPRODUCT((#REF!=$O50)*(#REF!=AD$3)*#REF!) -> #REF! | AE50: =(AD50*$R50) -> #REF! | AF50: =SUMPRODUCT((#REF!=$O50)*(#REF!=AF$3)*#REF!) -> #REF! | AG50: =(AF50*$R50) -> #REF! | AH50: =SUMPRODUCT((#REF!=$O50)*(#REF!=AH$3)*#REF!) -> #REF! | AI50: =(AH50*$R50) -> #REF! | AJ50: =SUMPRODUCT((#REF!=$O50)*(#REF!=AJ$3)*#REF!) -> #REF! | AK50: =(AJ50*$R50) -> #REF! | AL50: =SUMPRODUCT((#REF!=$O50)*(#REF!=AL$3)*#REF!) -> #REF! | AM50: =(AL50*$R50) -> #REF! | AN50: =SUMPRODUCT((#REF!=$O50)*(#REF!=AN$3)*#REF!) -> #REF! | AO50: =(AN50*$R50) -> #REF! | AP50: =SUMPRODUCT((#REF!=$O50)*(#REF!=AP$3)*#REF!) -> #REF! | AQ50: =(AP50*$R50) -> #REF! | AR50: =SUMPRODUCT((#REF!=$O50)*(#REF!=AR$3)*#REF!) -> #REF! | AS50: =(AR50*$R50) -> #REF! | AT50: =SUMPRODUCT((#REF!=$O50)*(#REF!=AT$3)*#REF!) -> #REF! | AU50: =(AT50*$R50) -> #REF!
A51: =#REF! -> #REF! | B51: =#REF! -> #REF! | C51: 20 | E51: 1 | F51: 1 | G51: =SUM(C51:F51) -> 22 | I51: 1 | J51: =SUM(H51:I51) -> 1 | O51: =#REF! -> #REF! | P51: =SUMPRODUCT(($O51=#REF!)*(#REF!)) -> #REF! | Q51: =#REF! -> #REF! | R51: =G51+J51 -> 23 | S51: =#REF! -> #REF! | T51: =SUMPRODUCT((#REF!=$O51)*(#REF!=T$3)*#REF!) -> #REF! | U51: =(T51*$R51) -> #REF! | V51: =SUMPRODUCT((#REF!=$O51)*(#REF!=V$3)*#REF!) -> #REF! | W51: =(V51*$R51) -> #REF! | X51: =SUMPRODUCT((#REF!=$O51)*(#REF!=X$3)*#REF!) -> #REF! | Y51: =(X51*$R51) -> #REF! | Z51: =SUMPRODUCT((#REF!=$O51)*(#REF!=Z$3)*#REF!) -> #REF! | AA51: =(Z51*$R51) -> #REF! | AB51: =SUMPRODUCT((#REF!=$O51)*(#REF!=AB$3)*#REF!) -> #REF! | AC51: =(AB51*$R51) -> #REF! | AD51: =SUMPRODUCT((#REF!=$O51)*(#REF!=AD$3)*#REF!) -> #REF! | AE51: =(AD51*$R51) -> #REF! | AF51: =SUMPRODUCT((#REF!=$O51)*(#REF!=AF$3)*#REF!) -> #REF! | AG51: =(AF51*$R51) -> #REF! | AH51: =SUMPRODUCT((#REF!=$O51)*(#REF!=AH$3)*#REF!) -> #REF! | AI51: =(AH51*$R51) -> #REF! | AJ51: =SUMPRODUCT((#REF!=$O51)*(#REF!=AJ$3)*#REF!) -> #REF! | AK51: =(AJ51*$R51) -> #REF! | AL51: =SUMPRODUCT((#REF!=$O51)*(#REF!=AL$3)*#REF!) -> #REF! | AM51: =(AL51*$R51) -> #REF! | AN51: =SUMPRODUCT((#REF!=$O51)*(#REF!=AN$3)*#REF!) -> #REF! | AO51: =(AN51*$R51) -> #REF! | AP51: =SUMPRODUCT((#REF!=$O51)*(#REF!=AP$3)*#REF!) -> #REF! | AQ51: =(AP51*$R51) -> #REF! | AR51: =SUMPRODUCT((#REF!=$O51)*(#REF!=AR$3)*#REF!) -> #REF! | AS51: =(AR51*$R51) -> #REF! | AT51: =SUMPRODUCT((#REF!=$O51)*(#REF!=AT$3)*#REF!) -> #REF! | AU51: =(AT51*$R51) -> #REF!
A52: =#REF! -> #REF! | B52: =#REF! -> #REF! | F52: 1 | G52: =SUM(C52:F52) -> 1 | J52: =SUM(H52:I52) -> 0 | O52: =#REF! -> #REF! | P52: =SUMPRODUCT(($O52=#REF!)*(#REF!)) -> #REF! | Q52: =#REF! -> #REF! | R52: =G52+J52 -> 1 | S52: =#REF! -> #REF! | T52: =SUMPRODUCT((#REF!=$O52)*(#REF!=T$3)*#REF!) -> #REF! | U52: =(T52*$R52) -> #REF! | V52: =SUMPRODUCT((#REF!=$O52)*(#REF!=V$3)*#REF!) -> #REF! | W52: =(V52*$R52) -> #REF! | X52: =SUMPRODUCT((#REF!=$O52)*(#REF!=X$3)*#REF!) -> #REF! | Y52: =(X52*$R52) -> #REF! | Z52: =SUMPRODUCT((#REF!=$O52)*(#REF!=Z$3)*#REF!) -> #REF! | AA52: =(Z52*$R52) -> #REF! | AB52: =SUMPRODUCT((#REF!=$O52)*(#REF!=AB$3)*#REF!) -> #REF! | AC52: =(AB52*$R52) -> #REF! | AD52: =SUMPRODUCT((#REF!=$O52)*(#REF!=AD$3)*#REF!) -> #REF! | AE52: =(AD52*$R52) -> #REF! | AF52: =SUMPRODUCT((#REF!=$O52)*(#REF!=AF$3)*#REF!) -> #REF! | AG52: =(AF52*$R52) -> #REF! | AH52: =SUMPRODUCT((#REF!=$O52)*(#REF!=AH$3)*#REF!) -> #REF! | AI52: =(AH52*$R52) -> #REF! | AJ52: =SUMPRODUCT((#REF!=$O52)*(#REF!=AJ$3)*#REF!) -> #REF! | AK52: =(AJ52*$R52) -> #REF! | AL52: =SUMPRODUCT((#REF!=$O52)*(#REF!=AL$3)*#REF!) -> #REF! | AM52: =(AL52*$R52) -> #REF! | AN52: =SUMPRODUCT((#REF!=$O52)*(#REF!=AN$3)*#REF!) -> #REF! | AO52: =(AN52*$R52) -> #REF! | AP52: =SUMPRODUCT((#REF!=$O52)*(#REF!=AP$3)*#REF!) -> #REF! | AQ52: =(AP52*$R52) -> #REF! | AR52: =SUMPRODUCT((#REF!=$O52)*(#REF!=AR$3)*#REF!) -> #REF! | AS52: =(AR52*$R52) -> #REF! | AT52: =SUMPRODUCT((#REF!=$O52)*(#REF!=AT$3)*#REF!) -> #REF! | AU52: =(AT52*$R52) -> #REF!
A53: =#REF! -> #REF! | B53: =#REF! -> #REF! | F53: 1 | G53: =SUM(C53:F53) -> 1 | J53: =SUM(H53:I53) -> 0 | O53: =#REF! -> #REF! | P53: =SUMPRODUCT(($O53=#REF!)*(#REF!)) -> #REF! | Q53: =#REF! -> #REF! | R53: =G53+J53 -> 1 | S53: =#REF! -> #REF! | T53: =SUMPRODUCT((#REF!=$O53)*(#REF!=T$3)*#REF!) -> #REF! | U53: =(T53*$R53) -> #REF! | V53: =SUMPRODUCT((#REF!=$O53)*(#REF!=V$3)*#REF!) -> #REF! | W53: =(V53*$R53) -> #REF! | X53: =SUMPRODUCT((#REF!=$O53)*(#REF!=X$3)*#REF!) -> #REF! | Y53: =(X53*$R53) -> #REF! | Z53: =SUMPRODUCT((#REF!=$O53)*(#REF!=Z$3)*#REF!) -> #REF! | AA53: =(Z53*$R53) -> #REF! | AB53: =SUMPRODUCT((#REF!=$O53)*(#REF!=AB$3)*#REF!) -> #REF! | AC53: =(AB53*$R53) -> #REF! | AD53: =SUMPRODUCT((#REF!=$O53)*(#REF!=AD$3)*#REF!) -> #REF! | AE53: =(AD53*$R53) -> #REF! | AF53: =SUMPRODUCT((#REF!=$O53)*(#REF!=AF$3)*#REF!) -> #REF! | AG53: =(AF53*$R53) -> #REF! | AH53: =SUMPRODUCT((#REF!=$O53)*(#REF!=AH$3)*#REF!) -> #REF! | AI53: =(AH53*$R53) -> #REF! | AJ53: =SUMPRODUCT((#REF!=$O53)*(#REF!=AJ$3)*#REF!) -> #REF! | AK53: =(AJ53*$R53) -> #REF! | AL53: =SUMPRODUCT((#REF!=$O53)*(#REF!=AL$3)*#REF!) -> #REF! | AM53: =(AL53*$R53) -> #REF! | AN53: =SUMPRODUCT((#REF!=$O53)*(#REF!=AN$3)*#REF!) -> #REF! | AO53: =(AN53*$R53) -> #REF! | AP53: =SUMPRODUCT((#REF!=$O53)*(#REF!=AP$3)*#REF!) -> #REF! | AQ53: =(AP53*$R53) -> #REF! | AR53: =SUMPRODUCT((#REF!=$O53)*(#REF!=AR$3)*#REF!) -> #REF! | AS53: =(AR53*$R53) -> #REF! | AT53: =SUMPRODUCT((#REF!=$O53)*(#REF!=AT$3)*#REF!) -> #REF! | AU53: =(AT53*$R53) -> #REF!
A54: =#REF! -> #REF! | B54: =#REF! -> #REF! | F54: 0 | G54: =SUM(C54:F54) -> 0 | J54: =SUM(H54:I54) -> 0 | O54: =#REF! -> #REF! | P54: =SUMPRODUCT(($O54=#REF!)*(#REF!)) -> #REF! | Q54: =#REF! -> #REF! | R54: =G54+J54 -> 0 | S54: =#REF! -> #REF! | T54: =SUMPRODUCT((#REF!=$O54)*(#REF!=T$3)*#REF!) -> #REF! | U54: =(T54*$R54) -> #REF! | V54: =SUMPRODUCT((#REF!=$O54)*(#REF!=V$3)*#REF!) -> #REF! | W54: =(V54*$R54) -> #REF! | X54: =SUMPRODUCT((#REF!=$O54)*(#REF!=X$3)*#REF!) -> #REF! | Y54: =(X54*$R54) -> #REF! | Z54: =SUMPRODUCT((#REF!=$O54)*(#REF!=Z$3)*#REF!) -> #REF! | AA54: =(Z54*$R54) -> #REF! | AB54: =SUMPRODUCT((#REF!=$O54)*(#REF!=AB$3)*#REF!) -> #REF! | AC54: =(AB54*$R54) -> #REF! | AD54: =SUMPRODUCT((#REF!=$O54)*(#REF!=AD$3)*#REF!) -> #REF! | AE54: =(AD54*$R54) -> #REF! | AF54: =SUMPRODUCT((#REF!=$O54)*(#REF!=AF$3)*#REF!) -> #REF! | AG54: =(AF54*$R54) -> #REF! | AH54: =SUMPRODUCT((#REF!=$O54)*(#REF!=AH$3)*#REF!) -> #REF! | AI54: =(AH54*$R54) -> #REF! | AJ54: =SUMPRODUCT((#REF!=$O54)*(#REF!=AJ$3)*#REF!) -> #REF! | AK54: =(AJ54*$R54) -> #REF! | AL54: =SUMPRODUCT((#REF!=$O54)*(#REF!=AL$3)*#REF!) -> #REF! | AM54: =(AL54*$R54) -> #REF! | AN54: =SUMPRODUCT((#REF!=$O54)*(#REF!=AN$3)*#REF!) -> #REF! | AO54: =(AN54*$R54) -> #REF! | AP54: =SUMPRODUCT((#REF!=$O54)*(#REF!=AP$3)*#REF!) -> #REF! | AQ54: =(AP54*$R54) -> #REF! | AR54: =SUMPRODUCT((#REF!=$O54)*(#REF!=AR$3)*#REF!) -> #REF! | AS54: =(AR54*$R54) -> #REF! | AT54: =SUMPRODUCT((#REF!=$O54)*(#REF!=AT$3)*#REF!) -> #REF! | AU54: =(AT54*$R54) -> #REF!
A55: =#REF! -> #REF! | B55: =#REF! -> #REF! | F55: 1 | G55: =SUM(C55:F55) -> 1 | O55: =#REF! -> #REF! | P55: =SUMPRODUCT(($O55=#REF!)*(#REF!)) -> #REF! | Q55: =#REF! -> #REF! | R55: =G55+J55 -> 1 | S55: =#REF! -> #REF! | T55: =SUMPRODUCT((#REF!=$O55)*(#REF!=T$3)*#REF!) -> #REF! | U55: =(T55*$R55) -> #REF! | V55: =SUMPRODUCT((#REF!=$O55)*(#REF!=V$3)*#REF!) -> #REF! | W55: =(V55*$R55) -> #REF! | X55: =SUMPRODUCT((#REF!=$O55)*(#REF!=X$3)*#REF!) -> #REF! | Y55: =(X55*$R55) -> #REF! | Z55: =SUMPRODUCT((#REF!=$O55)*(#REF!=Z$3)*#REF!) -> #REF! | AA55: =(Z55*$R55) -> #REF! | AB55: =SUMPRODUCT((#REF!=$O55)*(#REF!=AB$3)*#REF!) -> #REF! | AC55: =(AB55*$R55) -> #REF! | AD55: =SUMPRODUCT((#REF!=$O55)*(#REF!=AD$3)*#REF!) -> #REF! | AE55: =(AD55*$R55) -> #REF! | AF55: =SUMPRODUCT((#REF!=$O55)*(#REF!=AF$3)*#REF!) -> #REF! | AG55: =(AF55*$R55) -> #REF! | AH55: =SUMPRODUCT((#REF!=$O55)*(#REF!=AH$3)*#REF!) -> #REF! | AI55: =(AH55*$R55) -> #REF! | AJ55: =SUMPRODUCT((#REF!=$O55)*(#REF!=AJ$3)*#REF!) -> #REF! | AK55: =(AJ55*$R55) -> #REF! | AL55: =SUMPRODUCT((#REF!=$O55)*(#REF!=AL$3)*#REF!) -> #REF! | AM55: =(AL55*$R55) -> #REF! | AN55: =SUMPRODUCT((#REF!=$O55)*(#REF!=AN$3)*#REF!) -> #REF! | AO55: =(AN55*$R55) -> #REF! | AP55: =SUMPRODUCT((#REF!=$O55)*(#REF!=AP$3)*#REF!) -> #REF! | AQ55: =(AP55*$R55) -> #REF! | AR55: =SUMPRODUCT((#REF!=$O55)*(#REF!=AR$3)*#REF!) -> #REF! | AS55: =(AR55*$R55) -> #REF! | AT55: =SUMPRODUCT((#REF!=$O55)*(#REF!=AT$3)*#REF!) -> #REF! | AU55: =(AT55*$R55) -> #REF!
A56: =#REF! -> #REF! | B56: =#REF! -> #REF! | D56: 6 | G56: =SUM(C56:F56) -> 6 | I56: 1 | J56: =SUM(H56:I56) -> 1 | O56: =#REF! -> #REF! | P56: =SUMPRODUCT(($O56=#REF!)*(#REF!)) -> #REF! | Q56: =#REF! -> #REF! | R56: =G56+J56 -> 7 | S56: =#REF! -> #REF! | T56: =SUMPRODUCT((#REF!=$O56)*(#REF!=T$3)*#REF!) -> #REF! | U56: =(T56*$R56) -> #REF! | V56: =SUMPRODUCT((#REF!=$O56)*(#REF!=V$3)*#REF!) -> #REF! | W56: =(V56*$R56) -> #REF! | X56: =SUMPRODUCT((#REF!=$O56)*(#REF!=X$3)*#REF!) -> #REF! | Y56: =(X56*$R56) -> #REF! | Z56: =SUMPRODUCT((#REF!=$O56)*(#REF!=Z$3)*#REF!) -> #REF! | AA56: =(Z56*$R56) -> #REF! | AB56: =SUMPRODUCT((#REF!=$O56)*(#REF!=AB$3)*#REF!) -> #REF! | AC56: =(AB56*$R56) -> #REF! | AD56: =SUMPRODUCT((#REF!=$O56)*(#REF!=AD$3)*#REF!) -> #REF! | AE56: =(AD56*$R56) -> #REF! | AF56: =SUMPRODUCT((#REF!=$O56)*(#REF!=AF$3)*#REF!) -> #REF! | AG56: =(AF56*$R56) -> #REF! | AH56: =SUMPRODUCT((#REF!=$O56)*(#REF!=AH$3)*#REF!) -> #REF! | AI56: =(AH56*$R56) -> #REF! | AJ56: =SUMPRODUCT((#REF!=$O56)*(#REF!=AJ$3)*#REF!) -> #REF! | AK56: =(AJ56*$R56) -> #REF! | AL56: =SUMPRODUCT((#REF!=$O56)*(#REF!=AL$3)*#REF!) -> #REF! | AM56: =(AL56*$R56) -> #REF! | AN56: =SUMPRODUCT((#REF!=$O56)*(#REF!=AN$3)*#REF!) -> #REF! | AO56: =(AN56*$R56) -> #REF! | AP56: =SUMPRODUCT((#REF!=$O56)*(#REF!=AP$3)*#REF!) -> #REF! | AQ56: =(AP56*$R56) -> #REF! | AR56: =SUMPRODUCT((#REF!=$O56)*(#REF!=AR$3)*#REF!) -> #REF! | AS56: =(AR56*$R56) -> #REF! | AT56: =SUMPRODUCT((#REF!=$O56)*(#REF!=AT$3)*#REF!) -> #REF! | AU56: =(AT56*$R56) -> #REF!
A57: =#REF! -> #REF! | B57: =#REF! -> #REF! | D57: 6 | G57: =SUM(C57:F57) -> 6 | I57: 1 | J57: =SUM(H57:I57) -> 1 | O57: 노무비없음 | P57: =SUMPRODUCT(($O57=#REF!)*(#REF!)) -> #REF! | Q57: =#REF! -> #REF! | R57: =G57+J57 -> 7 | S57: =#REF! -> #REF! | T57: =SUMPRODUCT((#REF!=$O57)*(#REF!=T$3)*#REF!) -> #REF! | U57: =(T57*$R57) -> #REF! | V57: =SUMPRODUCT((#REF!=$O57)*(#REF!=V$3)*#REF!) -> #REF! | W57: =(V57*$R57) -> #REF! | X57: =SUMPRODUCT((#REF!=$O57)*(#REF!=X$3)*#REF!) -> #REF! | Y57: =(X57*$R57) -> #REF! | Z57: =SUMPRODUCT((#REF!=$O57)*(#REF!=Z$3)*#REF!) -> #REF! | AA57: =(Z57*$R57) -> #REF! | AB57: =SUMPRODUCT((#REF!=$O57)*(#REF!=AB$3)*#REF!) -> #REF! | AC57: =(AB57*$R57) -> #REF! | AD57: =SUMPRODUCT((#REF!=$O57)*(#REF!=AD$3)*#REF!) -> #REF! | AE57: =(AD57*$R57) -> #REF! | AF57: =SUMPRODUCT((#REF!=$O57)*(#REF!=AF$3)*#REF!) -> #REF! | AG57: =(AF57*$R57) -> #REF! | AH57: =SUMPRODUCT((#REF!=$O57)*(#REF!=AH$3)*#REF!) -> #REF! | AI57: =(AH57*$R57) -> #REF! | AJ57: =SUMPRODUCT((#REF!=$O57)*(#REF!=AJ$3)*#REF!) -> #REF! | AK57: =(AJ57*$R57) -> #REF! | AL57: =SUMPRODUCT((#REF!=$O57)*(#REF!=AL$3)*#REF!) -> #REF! | AM57: =(AL57*$R57) -> #REF! | AN57: =SUMPRODUCT((#REF!=$O57)*(#REF!=AN$3)*#REF!) -> #REF! | AO57: =(AN57*$R57) -> #REF! | AP57: =SUMPRODUCT((#REF!=$O57)*(#REF!=AP$3)*#REF!) -> #REF! | AQ57: =(AP57*$R57) -> #REF! | AR57: =SUMPRODUCT((#REF!=$O57)*(#REF!=AR$3)*#REF!) -> #REF! | AS57: =(AR57*$R57) -> #REF! | AT57: =SUMPRODUCT((#REF!=$O57)*(#REF!=AT$3)*#REF!) -> #REF! | AU57: =(AT57*$R57) -> #REF!
A58: =#REF! -> #REF! | B58: =#REF! -> #REF! | G58: =SUM(C58:F58) -> 0 | J58: =SUM(H58:I58) -> 0 | O58: =#REF! -> #REF! | P58: =SUMPRODUCT(($O58=#REF!)*(#REF!)) -> #REF! | Q58: =#REF! -> #REF! | R58: =G58+J58 -> 0 | S58: =#REF! -> #REF! | T58: =SUMPRODUCT((#REF!=$O58)*(#REF!=T$3)*#REF!) -> #REF! | U58: =(T58*$R58) -> #REF! | V58: =SUMPRODUCT((#REF!=$O58)*(#REF!=V$3)*#REF!) -> #REF! | W58: =(V58*$R58) -> #REF! | X58: =SUMPRODUCT((#REF!=$O58)*(#REF!=X$3)*#REF!) -> #REF! | Y58: =(X58*$R58) -> #REF! | Z58: =SUMPRODUCT((#REF!=$O58)*(#REF!=Z$3)*#REF!) -> #REF! | AA58: =(Z58*$R58) -> #REF! | AB58: =SUMPRODUCT((#REF!=$O58)*(#REF!=AB$3)*#REF!) -> #REF! | AC58: =(AB58*$R58) -> #REF! | AD58: =SUMPRODUCT((#REF!=$O58)*(#REF!=AD$3)*#REF!) -> #REF! | AE58: =(AD58*$R58) -> #REF! | AF58: =SUMPRODUCT((#REF!=$O58)*(#REF!=AF$3)*#REF!) -> #REF! | AG58: =(AF58*$R58) -> #REF! | AH58: =SUMPRODUCT((#REF!=$O58)*(#REF!=AH$3)*#REF!) -> #REF! | AI58: =(AH58*$R58) -> #REF! | AJ58: =SUMPRODUCT((#REF!=$O58)*(#REF!=AJ$3)*#REF!) -> #REF! | AK58: =(AJ58*$R58) -> #REF! | AL58: =SUMPRODUCT((#REF!=$O58)*(#REF!=AL$3)*#REF!) -> #REF! | AM58: =(AL58*$R58) -> #REF! | AN58: =SUMPRODUCT((#REF!=$O58)*(#REF!=AN$3)*#REF!) -> #REF! | AO58: =(AN58*$R58) -> #REF! | AP58: =SUMPRODUCT((#REF!=$O58)*(#REF!=AP$3)*#REF!) -> #REF! | AQ58: =(AP58*$R58) -> #REF! | AR58: =SUMPRODUCT((#REF!=$O58)*(#REF!=AR$3)*#REF!) -> #REF! | AS58: =(AR58*$R58) -> #REF! | AT58: =SUMPRODUCT((#REF!=$O58)*(#REF!=AT$3)*#REF!) -> #REF! | AU58: =(AT58*$R58) -> #REF!
A59: =#REF! -> #REF! | B59: =#REF! -> #REF! | C59: 18 | E59: 1 | G59: =SUM(C59:F59) -> 19 | J59: =SUM(H59:I59) -> 0 | O59: =#REF! -> #REF! | P59: =SUMPRODUCT(($O59=#REF!)*(#REF!)) -> #REF! | Q59: =#REF! -> #REF! | R59: =G59+J59 -> 19 | S59: =#REF! -> #REF! | T59: =SUMPRODUCT((#REF!=$O59)*(#REF!=T$3)*#REF!) -> #REF! | U59: =(T59*$R59) -> #REF! | V59: =SUMPRODUCT((#REF!=$O59)*(#REF!=V$3)*#REF!) -> #REF! | W59: =(V59*$R59) -> #REF! | X59: =SUMPRODUCT((#REF!=$O59)*(#REF!=X$3)*#REF!) -> #REF! | Y59: =(X59*$R59) -> #REF! | Z59: =SUMPRODUCT((#REF!=$O59)*(#REF!=Z$3)*#REF!) -> #REF! | AA59: =(Z59*$R59) -> #REF! | AB59: =SUMPRODUCT((#REF!=$O59)*(#REF!=AB$3)*#REF!) -> #REF! | AC59: =(AB59*$R59) -> #REF! | AD59: =SUMPRODUCT((#REF!=$O59)*(#REF!=AD$3)*#REF!) -> #REF! | AE59: =(AD59*$R59) -> #REF! | AF59: =SUMPRODUCT((#REF!=$O59)*(#REF!=AF$3)*#REF!) -> #REF! | AG59: =(AF59*$R59) -> #REF! | AH59: =SUMPRODUCT((#REF!=$O59)*(#REF!=AH$3)*#REF!) -> #REF! | AI59: =(AH59*$R59) -> #REF! | AJ59: =SUMPRODUCT((#REF!=$O59)*(#REF!=AJ$3)*#REF!) -> #REF! | AK59: =(AJ59*$R59) -> #REF! | AL59: =SUMPRODUCT((#REF!=$O59)*(#REF!=AL$3)*#REF!) -> #REF! | AM59: =(AL59*$R59) -> #REF! | AN59: =SUMPRODUCT((#REF!=$O59)*(#REF!=AN$3)*#REF!) -> #REF! | AO59: =(AN59*$R59) -> #REF! | AP59: =SUMPRODUCT((#REF!=$O59)*(#REF!=AP$3)*#REF!) -> #REF! | AQ59: =(AP59*$R59) -> #REF! | AR59: =SUMPRODUCT((#REF!=$O59)*(#REF!=AR$3)*#REF!) -> #REF! | AS59: =(AR59*$R59) -> #REF! | AT59: =SUMPRODUCT((#REF!=$O59)*(#REF!=AT$3)*#REF!) -> #REF! | AU59: =(AT59*$R59) -> #REF!
A60: =#REF! -> #REF! | B60: =#REF! -> #REF! | F60: 2 | G60: =SUM(C60:F60) -> 2 | I60: 1 | J60: =SUM(H60:I60) -> 1 | O60: =#REF! -> #REF! | P60: =SUMPRODUCT(($O60=#REF!)*(#REF!)) -> #REF! | Q60: =#REF! -> #REF! | R60: =G60+J60 -> 3 | S60: =#REF! -> #REF! | T60: =SUMPRODUCT((#REF!=$O60)*(#REF!=T$3)*#REF!) -> #REF! | U60: =(T60*$R60) -> #REF! | V60: =SUMPRODUCT((#REF!=$O60)*(#REF!=V$3)*#REF!) -> #REF! | W60: =(V60*$R60) -> #REF! | X60: =SUMPRODUCT((#REF!=$O60)*(#REF!=X$3)*#REF!) -> #REF! | Y60: =(X60*$R60) -> #REF! | Z60: =SUMPRODUCT((#REF!=$O60)*(#REF!=Z$3)*#REF!) -> #REF! | AA60: =(Z60*$R60) -> #REF! | AB60: =SUMPRODUCT((#REF!=$O60)*(#REF!=AB$3)*#REF!) -> #REF! | AC60: =(AB60*$R60) -> #REF! | AD60: =SUMPRODUCT((#REF!=$O60)*(#REF!=AD$3)*#REF!) -> #REF! | AE60: =(AD60*$R60) -> #REF! | AF60: =SUMPRODUCT((#REF!=$O60)*(#REF!=AF$3)*#REF!) -> #REF! | AG60: =(AF60*$R60) -> #REF! | AH60: =SUMPRODUCT((#REF!=$O60)*(#REF!=AH$3)*#REF!) -> #REF! | AI60: =(AH60*$R60) -> #REF! | AJ60: =SUMPRODUCT((#REF!=$O60)*(#REF!=AJ$3)*#REF!) -> #REF! | AK60: =(AJ60*$R60) -> #REF! | AL60: =SUMPRODUCT((#REF!=$O60)*(#REF!=AL$3)*#REF!) -> #REF! | AM60: =(AL60*$R60) -> #REF! | AN60: =SUMPRODUCT((#REF!=$O60)*(#REF!=AN$3)*#REF!) -> #REF! | AO60: =(AN60*$R60) -> #REF! | AP60: =SUMPRODUCT((#REF!=$O60)*(#REF!=AP$3)*#REF!) -> #REF! | AQ60: =(AP60*$R60) -> #REF! | AR60: =SUMPRODUCT((#REF!=$O60)*(#REF!=AR$3)*#REF!) -> #REF! | AS60: =(AR60*$R60) -> #REF! | AT60: =SUMPRODUCT((#REF!=$O60)*(#REF!=AT$3)*#REF!) -> #REF! | AU60: =(AT60*$R60) -> #REF!
A61: =#REF! -> #REF! | B61: =#REF! -> #REF! | F61: 0 | G61: =SUM(C61:F61) -> 0 | J61: =SUM(H61:I61) -> 0 | O61: =#REF! -> #REF! | P61: =SUMPRODUCT(($O61=#REF!)*(#REF!)) -> #REF! | Q61: =#REF! -> #REF! | R61: =G61+J61 -> 0 | S61: =#REF! -> #REF! | T61: =SUMPRODUCT((#REF!=$O61)*(#REF!=T$3)*#REF!) -> #REF! | U61: =(T61*$R61) -> #REF! | V61: =SUMPRODUCT((#REF!=$O61)*(#REF!=V$3)*#REF!) -> #REF! | W61: =(V61*$R61) -> #REF! | X61: =SUMPRODUCT((#REF!=$O61)*(#REF!=X$3)*#REF!) -> #REF! | Y61: =(X61*$R61) -> #REF! | Z61: =SUMPRODUCT((#REF!=$O61)*(#REF!=Z$3)*#REF!) -> #REF! | AA61: =(Z61*$R61) -> #REF! | AB61: =SUMPRODUCT((#REF!=$O61)*(#REF!=AB$3)*#REF!) -> #REF! | AC61: =(AB61*$R61) -> #REF! | AD61: =SUMPRODUCT((#REF!=$O61)*(#REF!=AD$3)*#REF!) -> #REF! | AE61: =(AD61*$R61) -> #REF! | AF61: =SUMPRODUCT((#REF!=$O61)*(#REF!=AF$3)*#REF!) -> #REF! | AG61: =(AF61*$R61) -> #REF! | AH61: =SUMPRODUCT((#REF!=$O61)*(#REF!=AH$3)*#REF!) -> #REF! | AI61: =(AH61*$R61) -> #REF! | AJ61: =SUMPRODUCT((#REF!=$O61)*(#REF!=AJ$3)*#REF!) -> #REF! | AK61: =(AJ61*$R61) -> #REF! | AL61: =SUMPRODUCT((#REF!=$O61)*(#REF!=AL$3)*#REF!) -> #REF! | AM61: =(AL61*$R61) -> #REF! | AN61: =SUMPRODUCT((#REF!=$O61)*(#REF!=AN$3)*#REF!) -> #REF! | AO61: =(AN61*$R61) -> #REF! | AP61: =SUMPRODUCT((#REF!=$O61)*(#REF!=AP$3)*#REF!) -> #REF! | AQ61: =(AP61*$R61) -> #REF! | AR61: =SUMPRODUCT((#REF!=$O61)*(#REF!=AR$3)*#REF!) -> #REF! | AS61: =(AR61*$R61) -> #REF! | AT61: =SUMPRODUCT((#REF!=$O61)*(#REF!=AT$3)*#REF!) -> #REF! | AU61: =(AT61*$R61) -> #REF!
A62: =#REF! -> #REF! | B62: =#REF! -> #REF! | G62: =SUM(C62:F62) -> 0 | J62: =SUM(H62:I62) -> 0 | O62: =#REF! -> #REF! | P62: =SUMPRODUCT(($O62=#REF!)*(#REF!)) -> #REF! | Q62: =#REF! -> #REF! | R62: =G62+J62 -> 0 | S62: =#REF! -> #REF! | T62: =SUMPRODUCT((#REF!=$O62)*(#REF!=T$3)*#REF!) -> #REF! | U62: =(T62*$R62) -> #REF! | V62: =SUMPRODUCT((#REF!=$O62)*(#REF!=V$3)*#REF!) -> #REF! | W62: =(V62*$R62) -> #REF! | X62: =SUMPRODUCT((#REF!=$O62)*(#REF!=X$3)*#REF!) -> #REF! | Y62: =(X62*$R62) -> #REF! | Z62: =SUMPRODUCT((#REF!=$O62)*(#REF!=Z$3)*#REF!) -> #REF! | AA62: =(Z62*$R62) -> #REF! | AB62: =SUMPRODUCT((#REF!=$O62)*(#REF!=AB$3)*#REF!) -> #REF! | AC62: =(AB62*$R62) -> #REF! | AD62: =SUMPRODUCT((#REF!=$O62)*(#REF!=AD$3)*#REF!) -> #REF! | AE62: =(AD62*$R62) -> #REF! | AF62: =SUMPRODUCT((#REF!=$O62)*(#REF!=AF$3)*#REF!) -> #REF! | AG62: =(AF62*$R62) -> #REF! | AH62: =SUMPRODUCT((#REF!=$O62)*(#REF!=AH$3)*#REF!) -> #REF! | AI62: =(AH62*$R62) -> #REF! | AJ62: =SUMPRODUCT((#REF!=$O62)*(#REF!=AJ$3)*#REF!) -> #REF! | AK62: =(AJ62*$R62) -> #REF! | AL62: =SUMPRODUCT((#REF!=$O62)*(#REF!=AL$3)*#REF!) -> #REF! | AM62: =(AL62*$R62) -> #REF! | AN62: =SUMPRODUCT((#REF!=$O62)*(#REF!=AN$3)*#REF!) -> #REF! | AO62: =(AN62*$R62) -> #REF! | AP62: =SUMPRODUCT((#REF!=$O62)*(#REF!=AP$3)*#REF!) -> #REF! | AQ62: =(AP62*$R62) -> #REF! | AR62: =SUMPRODUCT((#REF!=$O62)*(#REF!=AR$3)*#REF!) -> #REF! | AS62: =(AR62*$R62) -> #REF! | AT62: =SUMPRODUCT((#REF!=$O62)*(#REF!=AT$3)*#REF!) -> #REF! | AU62: =(AT62*$R62) -> #REF!
A63: =#REF! -> #REF! | B63: =#REF! -> #REF! | F63: 1 | G63: =SUM(C63:F63) -> 1 | J63: =SUM(H63:I63) -> 0 | O63: 노무비없음 | P63: =SUMPRODUCT(($O63=#REF!)*(#REF!)) -> #REF! | Q63: =#REF! -> #REF! | R63: =G63+J63 -> 1 | S63: =#REF! -> #REF! | T63: =SUMPRODUCT((#REF!=$O63)*(#REF!=T$3)*#REF!) -> #REF! | U63: =(T63*$R63) -> #REF! | V63: =SUMPRODUCT((#REF!=$O63)*(#REF!=V$3)*#REF!) -> #REF! | W63: =(V63*$R63) -> #REF! | X63: =SUMPRODUCT((#REF!=$O63)*(#REF!=X$3)*#REF!) -> #REF! | Y63: =(X63*$R63) -> #REF! | Z63: =SUMPRODUCT((#REF!=$O63)*(#REF!=Z$3)*#REF!) -> #REF! | AA63: =(Z63*$R63) -> #REF! | AB63: =SUMPRODUCT((#REF!=$O63)*(#REF!=AB$3)*#REF!) -> #REF! | AC63: =(AB63*$R63) -> #REF! | AD63: =SUMPRODUCT((#REF!=$O63)*(#REF!=AD$3)*#REF!) -> #REF! | AE63: =(AD63*$R63) -> #REF! | AF63: =SUMPRODUCT((#REF!=$O63)*(#REF!=AF$3)*#REF!) -> #REF! | AG63: =(AF63*$R63) -> #REF! | AH63: =SUMPRODUCT((#REF!=$O63)*(#REF!=AH$3)*#REF!) -> #REF! | AI63: =(AH63*$R63) -> #REF! | AJ63: =SUMPRODUCT((#REF!=$O63)*(#REF!=AJ$3)*#REF!) -> #REF! | AK63: =(AJ63*$R63) -> #REF! | AL63: =SUMPRODUCT((#REF!=$O63)*(#REF!=AL$3)*#REF!) -> #REF! | AM63: =(AL63*$R63) -> #REF! | AN63: =SUMPRODUCT((#REF!=$O63)*(#REF!=AN$3)*#REF!) -> #REF! | AO63: =(AN63*$R63) -> #REF! | AP63: =SUMPRODUCT((#REF!=$O63)*(#REF!=AP$3)*#REF!) -> #REF! | AQ63: =(AP63*$R63) -> #REF! | AR63: =SUMPRODUCT((#REF!=$O63)*(#REF!=AR$3)*#REF!) -> #REF! | AS63: =(AR63*$R63) -> #REF! | AT63: =SUMPRODUCT((#REF!=$O63)*(#REF!=AT$3)*#REF!) -> #REF! | AU63: =(AT63*$R63) -> #REF!
A64: =#REF! -> #REF! | B64: =#REF! -> #REF! | F64: 0 | G64: =SUM(C64:F64) -> 0 | J64: =SUM(H64:I64) -> 0 | O64: =#REF! -> #REF! | P64: =SUMPRODUCT(($O64=#REF!)*(#REF!)) -> #REF! | Q64: =#REF! -> #REF! | R64: =G64+J64 -> 0 | S64: =#REF! -> #REF! | T64: =SUMPRODUCT((#REF!=$O64)*(#REF!=T$3)*#REF!) -> #REF! | U64: =(T64*$R64) -> #REF! | V64: =SUMPRODUCT((#REF!=$O64)*(#REF!=V$3)*#REF!) -> #REF! | W64: =(V64*$R64) -> #REF! | X64: =SUMPRODUCT((#REF!=$O64)*(#REF!=X$3)*#REF!) -> #REF! | Y64: =(X64*$R64) -> #REF! | Z64: =SUMPRODUCT((#REF!=$O64)*(#REF!=Z$3)*#REF!) -> #REF! | AA64: =(Z64*$R64) -> #REF! | AB64: =SUMPRODUCT((#REF!=$O64)*(#REF!=AB$3)*#REF!) -> #REF! | AC64: =(AB64*$R64) -> #REF! | AD64: =SUMPRODUCT((#REF!=$O64)*(#REF!=AD$3)*#REF!) -> #REF! | AE64: =(AD64*$R64) -> #REF! | AF64: =SUMPRODUCT((#REF!=$O64)*(#REF!=AF$3)*#REF!) -> #REF! | AG64: =(AF64*$R64) -> #REF! | AH64: =SUMPRODUCT((#REF!=$O64)*(#REF!=AH$3)*#REF!) -> #REF! | AI64: =(AH64*$R64) -> #REF! | AJ64: =SUMPRODUCT((#REF!=$O64)*(#REF!=AJ$3)*#REF!) -> #REF! | AK64: =(AJ64*$R64) -> #REF! | AL64: =SUMPRODUCT((#REF!=$O64)*(#REF!=AL$3)*#REF!) -> #REF! | AM64: =(AL64*$R64) -> #REF! | AN64: =SUMPRODUCT((#REF!=$O64)*(#REF!=AN$3)*#REF!) -> #REF! | AO64: =(AN64*$R64) -> #REF! | AP64: =SUMPRODUCT((#REF!=$O64)*(#REF!=AP$3)*#REF!) -> #REF! | AQ64: =(AP64*$R64) -> #REF! | AR64: =SUMPRODUCT((#REF!=$O64)*(#REF!=AR$3)*#REF!) -> #REF! | AS64: =(AR64*$R64) -> #REF! | AT64: =SUMPRODUCT((#REF!=$O64)*(#REF!=AT$3)*#REF!) -> #REF! | AU64: =(AT64*$R64) -> #REF!
A65: =#REF! -> #REF! | B65: =#REF! -> #REF! | F65: 1 | G65: =SUM(C65:F65) -> 1 | J65: =SUM(H65:I65) -> 0 | O65: =#REF! -> #REF! | P65: =SUMPRODUCT(($O65=#REF!)*(#REF!)) -> #REF! | Q65: =#REF! -> #REF! | R65: =G65+J65 -> 1 | S65: =#REF! -> #REF! | T65: =SUMPRODUCT((#REF!=$O65)*(#REF!=T$3)*#REF!) -> #REF! | U65: =(T65*$R65) -> #REF! | V65: =SUMPRODUCT((#REF!=$O65)*(#REF!=V$3)*#REF!) -> #REF! | W65: =(V65*$R65) -> #REF! | X65: =SUMPRODUCT((#REF!=$O65)*(#REF!=X$3)*#REF!) -> #REF! | Y65: =(X65*$R65) -> #REF! | Z65: =SUMPRODUCT((#REF!=$O65)*(#REF!=Z$3)*#REF!) -> #REF! | AA65: =(Z65*$R65) -> #REF! | AB65: =SUMPRODUCT((#REF!=$O65)*(#REF!=AB$3)*#REF!) -> #REF! | AC65: =(AB65*$R65) -> #REF! | AD65: =SUMPRODUCT((#REF!=$O65)*(#REF!=AD$3)*#REF!) -> #REF! | AE65: =(AD65*$R65) -> #REF! | AF65: =SUMPRODUCT((#REF!=$O65)*(#REF!=AF$3)*#REF!) -> #REF! | AG65: =(AF65*$R65) -> #REF! | AH65: =SUMPRODUCT((#REF!=$O65)*(#REF!=AH$3)*#REF!) -> #REF! | AI65: =(AH65*$R65) -> #REF! | AJ65: =SUMPRODUCT((#REF!=$O65)*(#REF!=AJ$3)*#REF!) -> #REF! | AK65: =(AJ65*$R65) -> #REF! | AL65: =SUMPRODUCT((#REF!=$O65)*(#REF!=AL$3)*#REF!) -> #REF! | AM65: =(AL65*$R65) -> #REF! | AN65: =SUMPRODUCT((#REF!=$O65)*(#REF!=AN$3)*#REF!) -> #REF! | AO65: =(AN65*$R65) -> #REF! | AP65: =SUMPRODUCT((#REF!=$O65)*(#REF!=AP$3)*#REF!) -> #REF! | AQ65: =(AP65*$R65) -> #REF! | AR65: =SUMPRODUCT((#REF!=$O65)*(#REF!=AR$3)*#REF!) -> #REF! | AS65: =(AR65*$R65) -> #REF! | AT65: =SUMPRODUCT((#REF!=$O65)*(#REF!=AT$3)*#REF!) -> #REF! | AU65: =(AT65*$R65) -> #REF!
A66: =#REF! -> #REF! | B66: =#REF! -> #REF! | F66: 10 | G66: =SUM(C66:F66) -> 10 | J66: =SUM(H66:I66) -> 0 | O66: =#REF! -> #REF! | P66: =SUMPRODUCT(($O66=#REF!)*(#REF!)) -> #REF! | Q66: =#REF! -> #REF! | R66: =G66+J66 -> 10 | S66: =#REF! -> #REF! | T66: =SUMPRODUCT((#REF!=$O66)*(#REF!=T$3)*#REF!) -> #REF! | U66: =(T66*$R66) -> #REF! | V66: =SUMPRODUCT((#REF!=$O66)*(#REF!=V$3)*#REF!) -> #REF! | W66: =(V66*$R66) -> #REF! | X66: =SUMPRODUCT((#REF!=$O66)*(#REF!=X$3)*#REF!) -> #REF! | Y66: =(X66*$R66) -> #REF! | Z66: =SUMPRODUCT((#REF!=$O66)*(#REF!=Z$3)*#REF!) -> #REF! | AA66: =(Z66*$R66) -> #REF! | AB66: =SUMPRODUCT((#REF!=$O66)*(#REF!=AB$3)*#REF!) -> #REF! | AC66: =(AB66*$R66) -> #REF! | AD66: =SUMPRODUCT((#REF!=$O66)*(#REF!=AD$3)*#REF!) -> #REF! | AE66: =(AD66*$R66) -> #REF! | AF66: =SUMPRODUCT((#REF!=$O66)*(#REF!=AF$3)*#REF!) -> #REF! | AG66: =(AF66*$R66) -> #REF! | AH66: =SUMPRODUCT((#REF!=$O66)*(#REF!=AH$3)*#REF!) -> #REF! | AI66: =(AH66*$R66) -> #REF! | AJ66: =SUMPRODUCT((#REF!=$O66)*(#REF!=AJ$3)*#REF!) -> #REF! | AK66: =(AJ66*$R66) -> #REF! | AL66: =SUMPRODUCT((#REF!=$O66)*(#REF!=AL$3)*#REF!) -> #REF! | AM66: =(AL66*$R66) -> #REF! | AN66: =SUMPRODUCT((#REF!=$O66)*(#REF!=AN$3)*#REF!) -> #REF! | AO66: =(AN66*$R66) -> #REF! | AP66: =SUMPRODUCT((#REF!=$O66)*(#REF!=AP$3)*#REF!) -> #REF! | AQ66: =(AP66*$R66) -> #REF! | AR66: =SUMPRODUCT((#REF!=$O66)*(#REF!=AR$3)*#REF!) -> #REF! | AS66: =(AR66*$R66) -> #REF! | AT66: =SUMPRODUCT((#REF!=$O66)*(#REF!=AT$3)*#REF!) -> #REF! | AU66: =(AT66*$R66) -> #REF!
A67: =#REF! -> #REF! | B67: =#REF! -> #REF! | F67: 4 | G67: =SUM(C67:F67) -> 4 | J67: =SUM(H67:I67) -> 0 | O67: =#REF! -> #REF! | P67: =SUMPRODUCT(($O67=#REF!)*(#REF!)) -> #REF! | Q67: =#REF! -> #REF! | R67: =G67+J67 -> 4 | S67: =#REF! -> #REF! | T67: =SUMPRODUCT((#REF!=$O67)*(#REF!=T$3)*#REF!) -> #REF! | U67: =(T67*$R67) -> #REF! | V67: =SUMPRODUCT((#REF!=$O67)*(#REF!=V$3)*#REF!) -> #REF! | W67: =(V67*$R67) -> #REF! | X67: =SUMPRODUCT((#REF!=$O67)*(#REF!=X$3)*#REF!) -> #REF! | Y67: =(X67*$R67) -> #REF! | Z67: =SUMPRODUCT((#REF!=$O67)*(#REF!=Z$3)*#REF!) -> #REF! | AA67: =(Z67*$R67) -> #REF! | AB67: =SUMPRODUCT((#REF!=$O67)*(#REF!=AB$3)*#REF!) -> #REF! | AC67: =(AB67*$R67) -> #REF! | AD67: =SUMPRODUCT((#REF!=$O67)*(#REF!=AD$3)*#REF!) -> #REF! | AE67: =(AD67*$R67) -> #REF! | AF67: =SUMPRODUCT((#REF!=$O67)*(#REF!=AF$3)*#REF!) -> #REF! | AG67: =(AF67*$R67) -> #REF! | AH67: =SUMPRODUCT((#REF!=$O67)*(#REF!=AH$3)*#REF!) -> #REF! | AI67: =(AH67*$R67) -> #REF! | AJ67: =SUMPRODUCT((#REF!=$O67)*(#REF!=AJ$3)*#REF!) -> #REF! | AK67: =(AJ67*$R67) -> #REF! | AL67: =SUMPRODUCT((#REF!=$O67)*(#REF!=AL$3)*#REF!) -> #REF! | AM67: =(AL67*$R67) -> #REF! | AN67: =SUMPRODUCT((#REF!=$O67)*(#REF!=AN$3)*#REF!) -> #REF! | AO67: =(AN67*$R67) -> #REF! | AP67: =SUMPRODUCT((#REF!=$O67)*(#REF!=AP$3)*#REF!) -> #REF! | AQ67: =(AP67*$R67) -> #REF! | AR67: =SUMPRODUCT((#REF!=$O67)*(#REF!=AR$3)*#REF!) -> #REF! | AS67: =(AR67*$R67) -> #REF! | AT67: =SUMPRODUCT((#REF!=$O67)*(#REF!=AT$3)*#REF!) -> #REF! | AU67: =(AT67*$R67) -> #REF!
A68: =#REF! -> #REF! | B68: =#REF! -> #REF! | F68: 4 | G68: =SUM(C68:F68) -> 4 | J68: =SUM(H68:I68) -> 0 | O68: =#REF! -> #REF! | P68: =SUMPRODUCT(($O68=#REF!)*(#REF!)) -> #REF! | Q68: =#REF! -> #REF! | R68: =G68+J68 -> 4 | S68: =#REF! -> #REF! | T68: =SUMPRODUCT((#REF!=$O68)*(#REF!=T$3)*#REF!) -> #REF! | U68: =(T68*$R68) -> #REF! | V68: =SUMPRODUCT((#REF!=$O68)*(#REF!=V$3)*#REF!) -> #REF! | W68: =(V68*$R68) -> #REF! | X68: =SUMPRODUCT((#REF!=$O68)*(#REF!=X$3)*#REF!) -> #REF! | Y68: =(X68*$R68) -> #REF! | Z68: =SUMPRODUCT((#REF!=$O68)*(#REF!=Z$3)*#REF!) -> #REF! | AA68: =(Z68*$R68) -> #REF! | AB68: =SUMPRODUCT((#REF!=$O68)*(#REF!=AB$3)*#REF!) -> #REF! | AC68: =(AB68*$R68) -> #REF! | AD68: =SUMPRODUCT((#REF!=$O68)*(#REF!=AD$3)*#REF!) -> #REF! | AE68: =(AD68*$R68) -> #REF! | AF68: =SUMPRODUCT((#REF!=$O68)*(#REF!=AF$3)*#REF!) -> #REF! | AG68: =(AF68*$R68) -> #REF! | AH68: =SUMPRODUCT((#REF!=$O68)*(#REF!=AH$3)*#REF!) -> #REF! | AI68: =(AH68*$R68) -> #REF! | AJ68: =SUMPRODUCT((#REF!=$O68)*(#REF!=AJ$3)*#REF!) -> #REF! | AK68: =(AJ68*$R68) -> #REF! | AL68: =SUMPRODUCT((#REF!=$O68)*(#REF!=AL$3)*#REF!) -> #REF! | AM68: =(AL68*$R68) -> #REF! | AN68: =SUMPRODUCT((#REF!=$O68)*(#REF!=AN$3)*#REF!) -> #REF! | AO68: =(AN68*$R68) -> #REF! | AP68: =SUMPRODUCT((#REF!=$O68)*(#REF!=AP$3)*#REF!) -> #REF! | AQ68: =(AP68*$R68) -> #REF! | AR68: =SUMPRODUCT((#REF!=$O68)*(#REF!=AR$3)*#REF!) -> #REF! | AS68: =(AR68*$R68) -> #REF! | AT68: =SUMPRODUCT((#REF!=$O68)*(#REF!=AT$3)*#REF!) -> #REF! | AU68: =(AT68*$R68) -> #REF!
A69: =#REF! -> #REF! | B69: =#REF! -> #REF! | G69: =SUM(C69:F69) -> 0 | J69: =SUM(H69:I69) -> 0 | O69: 노무비없음 | P69: =SUMPRODUCT(($O69=#REF!)*(#REF!)) -> #REF! | Q69: =#REF! -> #REF! | R69: =G69+J69 -> 0 | S69: =#REF! -> #REF! | T69: =SUMPRODUCT((#REF!=$O69)*(#REF!=T$3)*#REF!) -> #REF! | U69: =(T69*$R69) -> #REF! | V69: =SUMPRODUCT((#REF!=$O69)*(#REF!=V$3)*#REF!) -> #REF! | W69: =(V69*$R69) -> #REF! | X69: =SUMPRODUCT((#REF!=$O69)*(#REF!=X$3)*#REF!) -> #REF! | Y69: =(X69*$R69) -> #REF! | Z69: =SUMPRODUCT((#REF!=$O69)*(#REF!=Z$3)*#REF!) -> #REF! | AA69: =(Z69*$R69) -> #REF! | AB69: =SUMPRODUCT((#REF!=$O69)*(#REF!=AB$3)*#REF!) -> #REF! | AC69: =(AB69*$R69) -> #REF! | AD69: =SUMPRODUCT((#REF!=$O69)*(#REF!=AD$3)*#REF!) -> #REF! | AE69: =(AD69*$R69) -> #REF! | AF69: =SUMPRODUCT((#REF!=$O69)*(#REF!=AF$3)*#REF!) -> #REF! | AG69: =(AF69*$R69) -> #REF! | AH69: =SUMPRODUCT((#REF!=$O69)*(#REF!=AH$3)*#REF!) -> #REF! | AI69: =(AH69*$R69) -> #REF! | AJ69: =SUMPRODUCT((#REF!=$O69)*(#REF!=AJ$3)*#REF!) -> #REF! | AK69: =(AJ69*$R69) -> #REF! | AL69: =SUMPRODUCT((#REF!=$O69)*(#REF!=AL$3)*#REF!) -> #REF! | AM69: =(AL69*$R69) -> #REF! | AN69: =SUMPRODUCT((#REF!=$O69)*(#REF!=AN$3)*#REF!) -> #REF! | AO69: =(AN69*$R69) -> #REF! | AP69: =SUMPRODUCT((#REF!=$O69)*(#REF!=AP$3)*#REF!) -> #REF! | AQ69: =(AP69*$R69) -> #REF! | AR69: =SUMPRODUCT((#REF!=$O69)*(#REF!=AR$3)*#REF!) -> #REF! | AS69: =(AR69*$R69) -> #REF! | AT69: =SUMPRODUCT((#REF!=$O69)*(#REF!=AT$3)*#REF!) -> #REF! | AU69: =(AT69*$R69) -> #REF!
A70: =#REF! -> #REF! | B70: =#REF! -> #REF! | D70: 4 | F70: 12 | G70: =SUM(C70:F70) -> 16 | I70: 2 | J70: =SUM(H70:I70) -> 2 | O70: =#REF! -> #REF! | P70: =SUMPRODUCT(($O70=#REF!)*(#REF!)) -> #REF! | Q70: =#REF! -> #REF! | R70: =G70+J70 -> 18 | S70: =#REF! -> #REF! | T70: =SUMPRODUCT((#REF!=$O70)*(#REF!=T$3)*#REF!) -> #REF! | U70: =(T70*$R70) -> #REF! | V70: =SUMPRODUCT((#REF!=$O70)*(#REF!=V$3)*#REF!) -> #REF! | W70: =(V70*$R70) -> #REF! | X70: =SUMPRODUCT((#REF!=$O70)*(#REF!=X$3)*#REF!) -> #REF! | Y70: =(X70*$R70) -> #REF! | Z70: =SUMPRODUCT((#REF!=$O70)*(#REF!=Z$3)*#REF!) -> #REF! | AA70: =(Z70*$R70) -> #REF! | AB70: =SUMPRODUCT((#REF!=$O70)*(#REF!=AB$3)*#REF!) -> #REF! | AC70: =(AB70*$R70) -> #REF! | AD70: =SUMPRODUCT((#REF!=$O70)*(#REF!=AD$3)*#REF!) -> #REF! | AE70: =(AD70*$R70) -> #REF! | AF70: =SUMPRODUCT((#REF!=$O70)*(#REF!=AF$3)*#REF!) -> #REF! | AG70: =(AF70*$R70) -> #REF! | AH70: =SUMPRODUCT((#REF!=$O70)*(#REF!=AH$3)*#REF!) -> #REF! | AI70: =(AH70*$R70) -> #REF! | AJ70: =SUMPRODUCT((#REF!=$O70)*(#REF!=AJ$3)*#REF!) -> #REF! | AK70: =(AJ70*$R70) -> #REF! | AL70: =SUMPRODUCT((#REF!=$O70)*(#REF!=AL$3)*#REF!) -> #REF! | AM70: =(AL70*$R70) -> #REF! | AN70: =SUMPRODUCT((#REF!=$O70)*(#REF!=AN$3)*#REF!) -> #REF! | AO70: =(AN70*$R70) -> #REF! | AP70: =SUMPRODUCT((#REF!=$O70)*(#REF!=AP$3)*#REF!) -> #REF! | AQ70: =(AP70*$R70) -> #REF! | AR70: =SUMPRODUCT((#REF!=$O70)*(#REF!=AR$3)*#REF!) -> #REF! | AS70: =(AR70*$R70) -> #REF! | AT70: =SUMPRODUCT((#REF!=$O70)*(#REF!=AT$3)*#REF!) -> #REF! | AU70: =(AT70*$R70) -> #REF!
A71: =#REF! -> #REF! | B71: =#REF! -> #REF! | D71: 4 | F71: 6 | G71: =SUM(C71:F71) -> 10 | J71: =SUM(H71:I71) -> 0 | O71: =#REF! -> #REF! | P71: =SUMPRODUCT(($O71=#REF!)*(#REF!)) -> #REF! | Q71: =#REF! -> #REF! | R71: =G71+J71 -> 10 | S71: =#REF! -> #REF! | T71: =SUMPRODUCT((#REF!=$O71)*(#REF!=T$3)*#REF!) -> #REF! | U71: =(T71*$R71) -> #REF! | V71: =SUMPRODUCT((#REF!=$O71)*(#REF!=V$3)*#REF!) -> #REF! | W71: =(V71*$R71) -> #REF! | X71: =SUMPRODUCT((#REF!=$O71)*(#REF!=X$3)*#REF!) -> #REF! | Y71: =(X71*$R71) -> #REF! | Z71: =SUMPRODUCT((#REF!=$O71)*(#REF!=Z$3)*#REF!) -> #REF! | AA71: =(Z71*$R71) -> #REF! | AB71: =SUMPRODUCT((#REF!=$O71)*(#REF!=AB$3)*#REF!) -> #REF! | AC71: =(AB71*$R71) -> #REF! | AD71: =SUMPRODUCT((#REF!=$O71)*(#REF!=AD$3)*#REF!) -> #REF! | AE71: =(AD71*$R71) -> #REF! | AF71: =SUMPRODUCT((#REF!=$O71)*(#REF!=AF$3)*#REF!) -> #REF! | AG71: =(AF71*$R71) -> #REF! | AH71: =SUMPRODUCT((#REF!=$O71)*(#REF!=AH$3)*#REF!) -> #REF! | AI71: =(AH71*$R71) -> #REF! | AJ71: =SUMPRODUCT((#REF!=$O71)*(#REF!=AJ$3)*#REF!) -> #REF! | AK71: =(AJ71*$R71) -> #REF! | AL71: =SUMPRODUCT((#REF!=$O71)*(#REF!=AL$3)*#REF!) -> #REF! | AM71: =(AL71*$R71) -> #REF! | AN71: =SUMPRODUCT((#REF!=$O71)*(#REF!=AN$3)*#REF!) -> #REF! | AO71: =(AN71*$R71) -> #REF! | AP71: =SUMPRODUCT((#REF!=$O71)*(#REF!=AP$3)*#REF!) -> #REF! | AQ71: =(AP71*$R71) -> #REF! | AR71: =SUMPRODUCT((#REF!=$O71)*(#REF!=AR$3)*#REF!) -> #REF! | AS71: =(AR71*$R71) -> #REF! | AT71: =SUMPRODUCT((#REF!=$O71)*(#REF!=AT$3)*#REF!) -> #REF! | AU71: =(AT71*$R71) -> #REF!
A72: =#REF! -> #REF! | B72: =#REF! -> #REF! | G72: =SUM(C72:F72) -> 0 | J72: =SUM(H72:I72) -> 0 | O72: =#REF! -> #REF! | P72: =SUMPRODUCT(($O72=#REF!)*(#REF!)) -> #REF! | Q72: =#REF! -> #REF! | R72: =G72+J72 -> 0 | S72: =#REF! -> #REF! | T72: =SUMPRODUCT((#REF!=$O72)*(#REF!=T$3)*#REF!) -> #REF! | U72: =(T72*$R72) -> #REF! | V72: =SUMPRODUCT((#REF!=$O72)*(#REF!=V$3)*#REF!) -> #REF! | W72: =(V72*$R72) -> #REF! | X72: =SUMPRODUCT((#REF!=$O72)*(#REF!=X$3)*#REF!) -> #REF! | Y72: =(X72*$R72) -> #REF! | Z72: =SUMPRODUCT((#REF!=$O72)*(#REF!=Z$3)*#REF!) -> #REF! | AA72: =(Z72*$R72) -> #REF! | AB72: =SUMPRODUCT((#REF!=$O72)*(#REF!=AB$3)*#REF!) -> #REF! | AC72: =(AB72*$R72) -> #REF! | AD72: =SUMPRODUCT((#REF!=$O72)*(#REF!=AD$3)*#REF!) -> #REF! | AE72: =(AD72*$R72) -> #REF! | AF72: =SUMPRODUCT((#REF!=$O72)*(#REF!=AF$3)*#REF!) -> #REF! | AG72: =(AF72*$R72) -> #REF! | AH72: =SUMPRODUCT((#REF!=$O72)*(#REF!=AH$3)*#REF!) -> #REF! | AI72: =(AH72*$R72) -> #REF! | AJ72: =SUMPRODUCT((#REF!=$O72)*(#REF!=AJ$3)*#REF!) -> #REF! | AK72: =(AJ72*$R72) -> #REF! | AL72: =SUMPRODUCT((#REF!=$O72)*(#REF!=AL$3)*#REF!) -> #REF! | AM72: =(AL72*$R72) -> #REF! | AN72: =SUMPRODUCT((#REF!=$O72)*(#REF!=AN$3)*#REF!) -> #REF! | AO72: =(AN72*$R72) -> #REF! | AP72: =SUMPRODUCT((#REF!=$O72)*(#REF!=AP$3)*#REF!) -> #REF! | AQ72: =(AP72*$R72) -> #REF! | AR72: =SUMPRODUCT((#REF!=$O72)*(#REF!=AR$3)*#REF!) -> #REF! | AS72: =(AR72*$R72) -> #REF! | AT72: =SUMPRODUCT((#REF!=$O72)*(#REF!=AT$3)*#REF!) -> #REF! | AU72: =(AT72*$R72) -> #REF!
A73: =#REF! -> #REF! | B73: =#REF! -> #REF! | F73: 4 | G73: =SUM(C73:F73) -> 4 | J73: =SUM(H73:I73) -> 0 | O73: =#REF! -> #REF! | P73: =SUMPRODUCT(($O73=#REF!)*(#REF!)) -> #REF! | Q73: =#REF! -> #REF! | R73: =G73+J73 -> 4 | S73: =#REF! -> #REF! | T73: =SUMPRODUCT((#REF!=$O73)*(#REF!=T$3)*#REF!) -> #REF! | U73: =(T73*$R73) -> #REF! | V73: =SUMPRODUCT((#REF!=$O73)*(#REF!=V$3)*#REF!) -> #REF! | W73: =(V73*$R73) -> #REF! | X73: =SUMPRODUCT((#REF!=$O73)*(#REF!=X$3)*#REF!) -> #REF! | Y73: =(X73*$R73) -> #REF! | Z73: =SUMPRODUCT((#REF!=$O73)*(#REF!=Z$3)*#REF!) -> #REF! | AA73: =(Z73*$R73) -> #REF! | AB73: =SUMPRODUCT((#REF!=$O73)*(#REF!=AB$3)*#REF!) -> #REF! | AC73: =(AB73*$R73) -> #REF! | AD73: =SUMPRODUCT((#REF!=$O73)*(#REF!=AD$3)*#REF!) -> #REF! | AE73: =(AD73*$R73) -> #REF! | AF73: =SUMPRODUCT((#REF!=$O73)*(#REF!=AF$3)*#REF!) -> #REF! | AG73: =(AF73*$R73) -> #REF! | AH73: =SUMPRODUCT((#REF!=$O73)*(#REF!=AH$3)*#REF!) -> #REF! | AI73: =(AH73*$R73) -> #REF! | AJ73: =SUMPRODUCT((#REF!=$O73)*(#REF!=AJ$3)*#REF!) -> #REF! | AK73: =(AJ73*$R73) -> #REF! | AL73: =SUMPRODUCT((#REF!=$O73)*(#REF!=AL$3)*#REF!) -> #REF! | AM73: =(AL73*$R73) -> #REF! | AN73: =SUMPRODUCT((#REF!=$O73)*(#REF!=AN$3)*#REF!) -> #REF! | AO73: =(AN73*$R73) -> #REF! | AP73: =SUMPRODUCT((#REF!=$O73)*(#REF!=AP$3)*#REF!) -> #REF! | AQ73: =(AP73*$R73) -> #REF! | AR73: =SUMPRODUCT((#REF!=$O73)*(#REF!=AR$3)*#REF!) -> #REF! | AS73: =(AR73*$R73) -> #REF! | AT73: =SUMPRODUCT((#REF!=$O73)*(#REF!=AT$3)*#REF!) -> #REF! | AU73: =(AT73*$R73) -> #REF!
A74: =#REF! -> #REF! | B74: =#REF! -> #REF! | F74: 1 | G74: =SUM(C74:F74) -> 1 | J74: =SUM(H74:I74) -> 0 | O74: =#REF! -> #REF! | P74: =SUMPRODUCT(($O74=#REF!)*(#REF!)) -> #REF! | Q74: =#REF! -> #REF! | R74: =G74+J74 -> 1 | S74: =#REF! -> #REF! | T74: =SUMPRODUCT((#REF!=$O74)*(#REF!=T$3)*#REF!) -> #REF! | U74: =(T74*$R74) -> #REF! | V74: =SUMPRODUCT((#REF!=$O74)*(#REF!=V$3)*#REF!) -> #REF! | W74: =(V74*$R74) -> #REF! | X74: =SUMPRODUCT((#REF!=$O74)*(#REF!=X$3)*#REF!) -> #REF! | Y74: =(X74*$R74) -> #REF! | Z74: =SUMPRODUCT((#REF!=$O74)*(#REF!=Z$3)*#REF!) -> #REF! | AA74: =(Z74*$R74) -> #REF! | AB74: =SUMPRODUCT((#REF!=$O74)*(#REF!=AB$3)*#REF!) -> #REF! | AC74: =(AB74*$R74) -> #REF! | AD74: =SUMPRODUCT((#REF!=$O74)*(#REF!=AD$3)*#REF!) -> #REF! | AE74: =(AD74*$R74) -> #REF! | AF74: =SUMPRODUCT((#REF!=$O74)*(#REF!=AF$3)*#REF!) -> #REF! | AG74: =(AF74*$R74) -> #REF! | AH74: =SUMPRODUCT((#REF!=$O74)*(#REF!=AH$3)*#REF!) -> #REF! | AI74: =(AH74*$R74) -> #REF! | AJ74: =SUMPRODUCT((#REF!=$O74)*(#REF!=AJ$3)*#REF!) -> #REF! | AK74: =(AJ74*$R74) -> #REF! | AL74: =SUMPRODUCT((#REF!=$O74)*(#REF!=AL$3)*#REF!) -> #REF! | AM74: =(AL74*$R74) -> #REF! | AN74: =SUMPRODUCT((#REF!=$O74)*(#REF!=AN$3)*#REF!) -> #REF! | AO74: =(AN74*$R74) -> #REF! | AP74: =SUMPRODUCT((#REF!=$O74)*(#REF!=AP$3)*#REF!) -> #REF! | AQ74: =(AP74*$R74) -> #REF! | AR74: =SUMPRODUCT((#REF!=$O74)*(#REF!=AR$3)*#REF!) -> #REF! | AS74: =(AR74*$R74) -> #REF! | AT74: =SUMPRODUCT((#REF!=$O74)*(#REF!=AT$3)*#REF!) -> #REF! | AU74: =(AT74*$R74) -> #REF!
A75: =#REF! -> #REF! | B75: =#REF! -> #REF! | F75: 0 | G75: =SUM(C75:F75) -> 0 | J75: =SUM(H75:I75) -> 0 | O75: =#REF! -> #REF! | P75: =SUMPRODUCT(($O75=#REF!)*(#REF!)) -> #REF! | Q75: =#REF! -> #REF! | R75: =G75+J75 -> 0 | S75: =#REF! -> #REF! | T75: =SUMPRODUCT((#REF!=$O75)*(#REF!=T$3)*#REF!) -> #REF! | U75: =(T75*$R75) -> #REF! | V75: =SUMPRODUCT((#REF!=$O75)*(#REF!=V$3)*#REF!) -> #REF! | W75: =(V75*$R75) -> #REF! | X75: =SUMPRODUCT((#REF!=$O75)*(#REF!=X$3)*#REF!) -> #REF! | Y75: =(X75*$R75) -> #REF! | Z75: =SUMPRODUCT((#REF!=$O75)*(#REF!=Z$3)*#REF!) -> #REF! | AA75: =(Z75*$R75) -> #REF! | AB75: =SUMPRODUCT((#REF!=$O75)*(#REF!=AB$3)*#REF!) -> #REF! | AC75: =(AB75*$R75) -> #REF! | AD75: =SUMPRODUCT((#REF!=$O75)*(#REF!=AD$3)*#REF!) -> #REF! | AE75: =(AD75*$R75) -> #REF! | AF75: =SUMPRODUCT((#REF!=$O75)*(#REF!=AF$3)*#REF!) -> #REF! | AG75: =(AF75*$R75) -> #REF! | AH75: =SUMPRODUCT((#REF!=$O75)*(#REF!=AH$3)*#REF!) -> #REF! | AI75: =(AH75*$R75) -> #REF! | AJ75: =SUMPRODUCT((#REF!=$O75)*(#REF!=AJ$3)*#REF!) -> #REF! | AK75: =(AJ75*$R75) -> #REF! | AL75: =SUMPRODUCT((#REF!=$O75)*(#REF!=AL$3)*#REF!) -> #REF! | AM75: =(AL75*$R75) -> #REF! | AN75: =SUMPRODUCT((#REF!=$O75)*(#REF!=AN$3)*#REF!) -> #REF! | AO75: =(AN75*$R75) -> #REF! | AP75: =SUMPRODUCT((#REF!=$O75)*(#REF!=AP$3)*#REF!) -> #REF! | AQ75: =(AP75*$R75) -> #REF! | AR75: =SUMPRODUCT((#REF!=$O75)*(#REF!=AR$3)*#REF!) -> #REF! | AS75: =(AR75*$R75) -> #REF! | AT75: =SUMPRODUCT((#REF!=$O75)*(#REF!=AT$3)*#REF!) -> #REF! | AU75: =(AT75*$R75) -> #REF!
A76: =#REF! -> #REF! | B76: =#REF! -> #REF! | F76: 3 | G76: =SUM(C76:F76) -> 3 | I76: 1 | J76: =SUM(H76:I76) -> 1 | O76: =#REF! -> #REF! | P76: =SUMPRODUCT(($O76=#REF!)*(#REF!)) -> #REF! | Q76: =#REF! -> #REF! | R76: =G76+J76 -> 4 | S76: =#REF! -> #REF! | T76: =SUMPRODUCT((#REF!=$O76)*(#REF!=T$3)*#REF!) -> #REF! | U76: =(T76*$R76) -> #REF! | V76: =SUMPRODUCT((#REF!=$O76)*(#REF!=V$3)*#REF!) -> #REF! | W76: =(V76*$R76) -> #REF! | X76: =SUMPRODUCT((#REF!=$O76)*(#REF!=X$3)*#REF!) -> #REF! | Y76: =(X76*$R76) -> #REF! | Z76: =SUMPRODUCT((#REF!=$O76)*(#REF!=Z$3)*#REF!) -> #REF! | AA76: =(Z76*$R76) -> #REF! | AB76: =SUMPRODUCT((#REF!=$O76)*(#REF!=AB$3)*#REF!) -> #REF! | AC76: =(AB76*$R76) -> #REF! | AD76: =SUMPRODUCT((#REF!=$O76)*(#REF!=AD$3)*#REF!) -> #REF! | AE76: =(AD76*$R76) -> #REF! | AF76: =SUMPRODUCT((#REF!=$O76)*(#REF!=AF$3)*#REF!) -> #REF! | AG76: =(AF76*$R76) -> #REF! | AH76: =SUMPRODUCT((#REF!=$O76)*(#REF!=AH$3)*#REF!) -> #REF! | AI76: =(AH76*$R76) -> #REF! | AJ76: =SUMPRODUCT((#REF!=$O76)*(#REF!=AJ$3)*#REF!) -> #REF! | AK76: =(AJ76*$R76) -> #REF! | AL76: =SUMPRODUCT((#REF!=$O76)*(#REF!=AL$3)*#REF!) -> #REF! | AM76: =(AL76*$R76) -> #REF! | AN76: =SUMPRODUCT((#REF!=$O76)*(#REF!=AN$3)*#REF!) -> #REF! | AO76: =(AN76*$R76) -> #REF! | AP76: =SUMPRODUCT((#REF!=$O76)*(#REF!=AP$3)*#REF!) -> #REF! | AQ76: =(AP76*$R76) -> #REF! | AR76: =SUMPRODUCT((#REF!=$O76)*(#REF!=AR$3)*#REF!) -> #REF! | AS76: =(AR76*$R76) -> #REF! | AT76: =SUMPRODUCT((#REF!=$O76)*(#REF!=AT$3)*#REF!) -> #REF! | AU76: =(AT76*$R76) -> #REF!
A77: =#REF! -> #REF! | B77: =#REF! -> #REF! | G77: =SUM(C77:F77) -> 0 | J77: =SUM(H77:I77) -> 0 | O77: =#REF! -> #REF! | P77: =SUMPRODUCT(($O77=#REF!)*(#REF!)) -> #REF! | Q77: =#REF! -> #REF! | R77: =G77+J77 -> 0 | S77: =#REF! -> #REF! | T77: =SUMPRODUCT((#REF!=$O77)*(#REF!=T$3)*#REF!) -> #REF! | U77: =(T77*$R77) -> #REF! | V77: =SUMPRODUCT((#REF!=$O77)*(#REF!=V$3)*#REF!) -> #REF! | W77: =(V77*$R77) -> #REF! | X77: =SUMPRODUCT((#REF!=$O77)*(#REF!=X$3)*#REF!) -> #REF! | Y77: =(X77*$R77) -> #REF! | Z77: =SUMPRODUCT((#REF!=$O77)*(#REF!=Z$3)*#REF!) -> #REF! | AA77: =(Z77*$R77) -> #REF! | AB77: =SUMPRODUCT((#REF!=$O77)*(#REF!=AB$3)*#REF!) -> #REF! | AC77: =(AB77*$R77) -> #REF! | AD77: =SUMPRODUCT((#REF!=$O77)*(#REF!=AD$3)*#REF!) -> #REF! | AE77: =(AD77*$R77) -> #REF! | AF77: =SUMPRODUCT((#REF!=$O77)*(#REF!=AF$3)*#REF!) -> #REF! | AG77: =(AF77*$R77) -> #REF! | AH77: =SUMPRODUCT((#REF!=$O77)*(#REF!=AH$3)*#REF!) -> #REF! | AI77: =(AH77*$R77) -> #REF! | AJ77: =SUMPRODUCT((#REF!=$O77)*(#REF!=AJ$3)*#REF!) -> #REF! | AK77: =(AJ77*$R77) -> #REF! | AL77: =SUMPRODUCT((#REF!=$O77)*(#REF!=AL$3)*#REF!) -> #REF! | AM77: =(AL77*$R77) -> #REF! | AN77: =SUMPRODUCT((#REF!=$O77)*(#REF!=AN$3)*#REF!) -> #REF! | AO77: =(AN77*$R77) -> #REF! | AP77: =SUMPRODUCT((#REF!=$O77)*(#REF!=AP$3)*#REF!) -> #REF! | AQ77: =(AP77*$R77) -> #REF! | AR77: =SUMPRODUCT((#REF!=$O77)*(#REF!=AR$3)*#REF!) -> #REF! | AS77: =(AR77*$R77) -> #REF! | AT77: =SUMPRODUCT((#REF!=$O77)*(#REF!=AT$3)*#REF!) -> #REF! | AU77: =(AT77*$R77) -> #REF!
A78: =#REF! -> #REF! | B78: =#REF! -> #REF! | G78: =SUM(C78:F78) -> 0 | J78: =SUM(H78:I78) -> 0 | O78: 노무비없음 | P78: =SUMPRODUCT(($O78=#REF!)*(#REF!)) -> #REF! | Q78: =#REF! -> #REF! | R78: =G78+J78 -> 0 | S78: =#REF! -> #REF! | T78: =SUMPRODUCT((#REF!=$O78)*(#REF!=T$3)*#REF!) -> #REF! | U78: =(T78*$R78) -> #REF! | V78: =SUMPRODUCT((#REF!=$O78)*(#REF!=V$3)*#REF!) -> #REF! | W78: =(V78*$R78) -> #REF! | X78: =SUMPRODUCT((#REF!=$O78)*(#REF!=X$3)*#REF!) -> #REF! | Y78: =(X78*$R78) -> #REF! | Z78: =SUMPRODUCT((#REF!=$O78)*(#REF!=Z$3)*#REF!) -> #REF! | AA78: =(Z78*$R78) -> #REF! | AB78: =SUMPRODUCT((#REF!=$O78)*(#REF!=AB$3)*#REF!) -> #REF! | AC78: =(AB78*$R78) -> #REF! | AD78: =SUMPRODUCT((#REF!=$O78)*(#REF!=AD$3)*#REF!) -> #REF! | AE78: =(AD78*$R78) -> #REF! | AF78: =SUMPRODUCT((#REF!=$O78)*(#REF!=AF$3)*#REF!) -> #REF! | AG78: =(AF78*$R78) -> #REF! | AH78: =SUMPRODUCT((#REF!=$O78)*(#REF!=AH$3)*#REF!) -> #REF! | AI78: =(AH78*$R78) -> #REF! | AJ78: =SUMPRODUCT((#REF!=$O78)*(#REF!=AJ$3)*#REF!) -> #REF! | AK78: =(AJ78*$R78) -> #REF! | AL78: =SUMPRODUCT((#REF!=$O78)*(#REF!=AL$3)*#REF!) -> #REF! | AM78: =(AL78*$R78) -> #REF! | AN78: =SUMPRODUCT((#REF!=$O78)*(#REF!=AN$3)*#REF!) -> #REF! | AO78: =(AN78*$R78) -> #REF! | AP78: =SUMPRODUCT((#REF!=$O78)*(#REF!=AP$3)*#REF!) -> #REF! | AQ78: =(AP78*$R78) -> #REF! | AR78: =SUMPRODUCT((#REF!=$O78)*(#REF!=AR$3)*#REF!) -> #REF! | AS78: =(AR78*$R78) -> #REF! | AT78: =SUMPRODUCT((#REF!=$O78)*(#REF!=AT$3)*#REF!) -> #REF! | AU78: =(AT78*$R78) -> #REF!
A79: =#REF! -> #REF! | B79: =#REF! -> #REF! | F79: 3 | G79: =SUM(C79:F79) -> 3 | I79: 1 | J79: =SUM(H79:I79) -> 1 | O79: =#REF! -> #REF! | P79: =SUMPRODUCT(($O79=#REF!)*(#REF!)) -> #REF! | Q79: =#REF! -> #REF! | R79: =G79+J79 -> 4 | S79: =#REF! -> #REF! | T79: =SUMPRODUCT((#REF!=$O79)*(#REF!=T$3)*#REF!) -> #REF! | U79: =(T79*$R79) -> #REF! | V79: =SUMPRODUCT((#REF!=$O79)*(#REF!=V$3)*#REF!) -> #REF! | W79: =(V79*$R79) -> #REF! | X79: =SUMPRODUCT((#REF!=$O79)*(#REF!=X$3)*#REF!) -> #REF! | Y79: =(X79*$R79) -> #REF! | Z79: =SUMPRODUCT((#REF!=$O79)*(#REF!=Z$3)*#REF!) -> #REF! | AA79: =(Z79*$R79) -> #REF! | AB79: =SUMPRODUCT((#REF!=$O79)*(#REF!=AB$3)*#REF!) -> #REF! | AC79: =(AB79*$R79) -> #REF! | AD79: =SUMPRODUCT((#REF!=$O79)*(#REF!=AD$3)*#REF!) -> #REF! | AE79: =(AD79*$R79) -> #REF! | AF79: =SUMPRODUCT((#REF!=$O79)*(#REF!=AF$3)*#REF!) -> #REF! | AG79: =(AF79*$R79) -> #REF! | AH79: =SUMPRODUCT((#REF!=$O79)*(#REF!=AH$3)*#REF!) -> #REF! | AI79: =(AH79*$R79) -> #REF! | AJ79: =SUMPRODUCT((#REF!=$O79)*(#REF!=AJ$3)*#REF!) -> #REF! | AK79: =(AJ79*$R79) -> #REF! | AL79: =SUMPRODUCT((#REF!=$O79)*(#REF!=AL$3)*#REF!) -> #REF! | AM79: =(AL79*$R79) -> #REF! | AN79: =SUMPRODUCT((#REF!=$O79)*(#REF!=AN$3)*#REF!) -> #REF! | AO79: =(AN79*$R79) -> #REF! | AP79: =SUMPRODUCT((#REF!=$O79)*(#REF!=AP$3)*#REF!) -> #REF! | AQ79: =(AP79*$R79) -> #REF! | AR79: =SUMPRODUCT((#REF!=$O79)*(#REF!=AR$3)*#REF!) -> #REF! | AS79: =(AR79*$R79) -> #REF! | AT79: =SUMPRODUCT((#REF!=$O79)*(#REF!=AT$3)*#REF!) -> #REF! | AU79: =(AT79*$R79) -> #REF!
G80: =SUM(C80:F80) -> 0 | J80: =SUM(H80:I80) -> 0
