Workbook

Sheet 표지
A1: #1.내역서
A7: 종합의료복합단지(2단계)
A9: 화물용 엘리베이터 구매
A12: ( 내 역 서 )

Sheet 총괄집계표
A1: 총 괄 집 계 표
A2: ="공사명 : "&표지!$A$7&" "&표지!$A$9 -> 공사명 : 종합의료복합단지(2단계) 화물용 엘리베이터 구매
A3: 항 목 | B3: 구 분 | G3: 금 액 | H3: 구성비 | I3: 요율 (%) | J3: 비 고
A4: 순 공 사 비 | B4: 재료비 | E4: 직접재료비 | G4: =내역서!F5 -> 0
E6: 소계 | G6: =SUM(G4:G5) -> 0
B7: 노무비 | E7: 직접노무비 | G7: =내역서!H5 -> 0
E8: 공구손료
E9: 간접노무비
E10: 소계 | G10: =SUM(G7:G9) -> 0
B11: 계 | G11: =SUM(G6,G10) -> 0
B12: 경 비 | E12: 산재보험료 | G12: =ROUND((G7+G9)*$I$12,) -> 0 | H12: (직접노무비+간접노무비)*보험요율 | I12: 0.0375
E13: 안전관리비
E14: 고용보험료 | G14: 74820 | H14: (직접노무비+간접노무비)*보험요율 | I14: 0.0087
E15: 건강보험료 | G15: 277780 | H15: 직접노무비 * 보험요율 | I15: 0.0323
E16: 노인장기요양보험료 | G16: 23639 | H16: 건강보험료 * 보험요율 | I16: 0.0851
E17: 연금보험료 | G17: 387000 | H17: 직접노무비 * 보험요율 | I17: 0.045
E18: 기 타 경 비
E19: 소계 | G19: =SUM(G12:G18) -> 763239
A20: 순 공 사 비 | G20: =SUM(G11,G19) -> 763239
A21: 일반관리비
A22: 이 윤
A23: 합 계 | G23: =SUM(G20:G22) -> 763239 | H23: 재료비+노무비
A24: 부가가치세 | G24: =INT(G23*10%) -> 76323 | H24: (합계) 의 | I24: 0.1
A25: 총 공 사 비 | G25: =SUM(G22:G24) -> 839562

Sheet 내역서
A1: 내 역 서
A2: ="공사명 : "&표지!$A$7&" "&표지!$A$9 -> 공사명 : 종합의료복합단지(2단계) 화물용 엘리베이터 구매
A3: 품 명 | B3: 규 격 | C3: 단위 | D3: 수량 | E3: 재 료 비 | G3: 노 무 비 | I3: 총 계 | J3: 비고
E4: 단 가 | F4: 금 액 | G4: 단 가 | H4: 금 액 | I4: 금 액
A5: 화물용 엘리베이터 | B5: 3,000㎏, 30m/min, 2개층 | C5: 대 | D5: 1 | F5: =D5*E5 -> 0 | H5: =D5*G5 -> 0 | I5: =H5+F5 -> 0
A27: [ 총 계 ] | F27: =SUM(F5:F26) -> 0 | H27: =SUM(H5:H26) -> 0 | I27: =H27+F27 -> 0

Sheet 품목별 분류
A1: 내 역 서
A2: ="공사명 : "&표지!$A$7&" "&표지!$A$9 -> 공사명 : 종합의료복합단지(2단계) 화물용 엘리베이터 구매
A4: 품 명 | B4: 규 격 | C4: 단위 | D4: 변경 전 | J4: 변경 후 | P4: 증감 비교 | R4: 비고
D5: 수량 | E5: 재 료 비 | G5: 노 무 비 | I5: 총 계 | J5: 수량 | K5: 재 료 비 | M5: 노 무 비 | O5: 총 계 | P5: 수량 | Q5: 증감액
E6: 단 가 | F6: 금 액 | G6: 단 가 | H6: 금 액 | I6: 금 액 | K6: 단 가 | L6: 금 액 | M6: 단 가 | N6: 금 액 | O6: 금 액
A7: 01. 녹화 및 제어부
A8: {=IF(COUNTIF(#REF!,공량산출서!$A64:$B64)<ROW(공량산출서!A$1),"",OFFSET(공량산출서!A$1,SMALL(IF(#REF!=공량산출서!$A64:$B64,ROW(공량산출서!$A64)),ROW(공량산출서!A$1))-1,))} -> #REF! | B8: {=IF(COUNTIF(#REF!,공량산출서!$A64:$B64)<ROW(공량산출서!B$1),"",OFFSET(공량산출서!B$1,SMALL(IF(#REF!=공량산출서!$A64:$B64,ROW(공량산출서!$A64)),ROW(공량산출서!B$1))-1,))} -> #REF! | C8: {=IF(COUNTIF(#REF!,공량산출서!$A64:$B64)<ROW(공량산출서!Q$1),"",OFFSET(공량산출서!Q$1,SMALL(IF(#REF!=공량산출서!$A64:$B64,ROW(공량산출서!$A64)),ROW(공량산출서!Q$1))-1,))} -> #REF! | D8: 18 | E8: 7790000 | F8: =E8*D8 -> 140220000 | G8: 102577.14 | H8: =G8*D8 -> 1846388.5 | I8: =H8+F8 -> 1.4206639e+08 | J8: {=IF(COUNTIF(#REF!,공량산출서!$A64:$B64)<ROW(공량산출서!R$1),"",OFFSET(공량산출서!R$1,SMALL(IF(#REF!=공량산출서!$A64:$B64,ROW(공량산출서!$A64)),ROW(공량산출서!R$1))-1,))} -> #REF! | K8: {=IF(COUNTIF(#REF!,공량산출서!$A64:$B64)<ROW(공량산출서!S$1),"",OFFSET(공량산출서!S$1,SMALL(IF(#REF!=공량산출서!$A64:$B64,ROW(공량산출서!$A64)),ROW(공량산출서!S$1))-1,))} -> #REF! | L8: =K8*J8 -> #REF! | M8: {=IF(COUNTIF(#REF!,공량산출서!$A64:$B64)<ROW(공량산출서!P$1),"",OFFSET(공량산출서!P$1,SMALL(IF(#REF!=공량산출서!$A64:$B64,ROW(공량산출서!$A64)),ROW(공량산출서!P$1))-1,))} -> #REF! | N8: =M8*J8 -> #REF! | O8: =N8+L8 -> #REF! | P8: =J8-D8 -> #REF! | Q8: =O8-I8 -> #REF! | R8: {=IF(COUNTIF(#REF!,공량산출서!$A64:$B64)<ROW(공량산출서!O$1),"",OFFSET(공량산출서!O$1,SMALL(IF(#REF!=공량산출서!$A64:$B64,ROW(공량산출서!$A64)),ROW(공량산출서!O$1))-1,))} -> #REF!
A9: {=IF(COUNTIF(#REF!,공량산출서!$A65:$B65)<ROW(공량산출서!A$1),"",OFFSET(공량산출서!A$1,SMALL(IF(#REF!=공량산출서!$A65:$B65,ROW(공량산출서!$A65)),ROW(공량산출서!A$1))-1,))} -> #REF! | B9: {=IF(COUNTIF(#REF!,공량산출서!$A65:$B65)<ROW(공량산출서!B$1),"",OFFSET(공량산출서!B$1,SMALL(IF(#REF!=공량산출서!$A65:$B65,ROW(공량산출서!$A65)),ROW(공량산출서!B$1))-1,))} -> #REF! | C9: {=IF(COUNTIF(#REF!,공량산출서!$A65:$B65)<ROW(공량산출서!Q$1),"",OFFSET(공량산출서!Q$1,SMALL(IF(#REF!=공량산출서!$A65:$B65,ROW(공량산출서!$A65)),ROW(공량산출서!Q$1))-1,))} -> #REF! | D9: 1 | E9: 3610000 | F9: =E9*D9 -> 3610000 | G9: 168994.26 | H9: =G9*D9 -> 168994.26 | I9: =H9+F9 -> 3778994.3 | J9: {=IF(COUNTIF(#REF!,공량산출서!$A65:$B65)<ROW(공량산출서!R$1),"",OFFSET(공량산출서!R$1,SMALL(IF(#REF!=공량산출서!$A65:$B65,ROW(공량산출서!$A65)),ROW(공량산출서!R$1))-1,))} -> #REF! | K9: {=IF(COUNTIF(#REF!,공량산출서!$A65:$B65)<ROW(공량산출서!S$1),"",OFFSET(공량산출서!S$1,SMALL(IF(#REF!=공량산출서!$A65:$B65,ROW(공량산출서!$A65)),ROW(공량산출서!S$1))-1,))} -> #REF! | L9: =K9*J9 -> #REF! | M9: {=IF(COUNTIF(#REF!,공량산출서!$A65:$B65)<ROW(공량산출서!P$1),"",OFFSET(공량산출서!P$1,SMALL(IF(#REF!=공량산출서!$A65:$B65,ROW(공량산출서!$A65)),ROW(공량산출서!P$1))-1,))} -> #REF! | N9: =M9*J9 -> #REF! | O9: =N9+L9 -> #REF! | P9: =J9-D9 -> #REF! | Q9: =O9-I9 -> #REF! | R9: {=IF(COUNTIF(#REF!,공량산출서!$A65:$B65)<ROW(공량산출서!O$1),"",OFFSET(공량산출서!O$1,SMALL(IF(#REF!=공량산출서!$A65:$B65,ROW(공량산출서!$A65)),ROW(공량산출서!O$1))-1,))} -> #REF!
A10: {=IF(COUNTIF(#REF!,공량산출서!$A66:$B66)<ROW(공량산출서!A$1),"",OFFSET(공량산출서!A$1,SMALL(IF(#REF!=공량산출서!$A66:$B66,ROW(공량산출서!$A66)),ROW(공량산출서!A$1))-1,))} -> #REF! | B10: {=IF(COUNTIF(#REF!,공량산출서!$A66:$B66)<ROW(공량산출서!B$1),"",OFFSET(공량산출서!B$1,SMALL(IF(#REF!=공량산출서!$A66:$B66,ROW(공량산출서!$A66)),ROW(공량산출서!B$1))-1,))} -> #REF! | C10: {=IF(COUNTIF(#REF!,공량산출서!$A66:$B66)<ROW(공량산출서!Q$1),"",OFFSET(공량산출서!Q$1,SMALL(IF(#REF!=공량산출서!$A66:$B66,ROW(공량산출서!$A66)),ROW(공량산출서!Q$1))-1,))} -> #REF! | D10: 8 | E10: 3610000 | F10: =E10*D10 -> 28880000 | G10: 168994.26 | H10: =G10*D10 -> 1351954.1 | I10: =H10+F10 -> 30231954 | J10: {=IF(COUNTIF(#REF!,공량산출서!$A66:$B66)<ROW(공량산출서!R$1),"",OFFSET(공량산출서!R$1,SMALL(IF(#REF!=공량산출서!$A66:$B66,ROW(공량산출서!$A66)),ROW(공량산출서!R$1))-1,))} -> #REF! | K10: {=IF(COUNTIF(#REF!,공량산출서!$A66:$B66)<ROW(공량산출서!S$1),"",OFFSET(공량산출서!S$1,SMALL(IF(#REF!=공량산출서!$A66:$B66,ROW(공량산출서!$A66)),ROW(공량산출서!S$1))-1,))} -> #REF! | L10: =K10*J10 -> #REF! | M10: {=IF(COUNTIF(#REF!,공량산출서!$A66:$B66)<ROW(공량산출서!P$1),"",OFFSET(공량산출서!P$1,SMALL(IF(#REF!=공량산출서!$A66:$B66,ROW(공량산출서!$A66)),ROW(공량산출서!P$1))-1,))} -> #REF! | N10: =M10*J10 -> #REF! | O10: =N10+L10 -> #REF! | P10: =J10-D10 -> #REF! | Q10: =O10-I10 -> #REF! | R10: {=IF(COUNTIF(#REF!,공량산출서!$A66:$B66)<ROW(공량산출서!O$1),"",OFFSET(공량산출서!O$1,SMALL(IF(#REF!=공량산출서!$A66:$B66,ROW(공량산출서!$A66)),ROW(공량산출서!O$1))-1,))} -> #REF!
A11: STORAGE SERVER | B11: 24BAY, 72TB, DAS | C11: SET | D11: 2 | E11: 39900000 | F11: =E11*D11 -> 79800000 | G11: 168994.26 | H11: =G11*D11 -> 337988.52 | I11: =H11+F11 -> 80137989 | J11: 5 | K11: 39900000 | L11: =K11*J11 -> 199500000 | M11: 168994.26 | N11: =M11*J11 -> 844971.3 | O11: =N11+L11 -> 2.0034497e+08 | P11: =J11-D11 -> 3 | Q11: =O11-I11 -> 1.2020698e+08 | R11: =공량산출서!O15 -> #REF!
A12: STORAGE SERVER | B12: 24BAY, 72TB, DAS, 확장형 | C12: SET | D12: 2 | E12: 28500000 | F12: =E12*D12 -> 57000000 | G12: 168994.26 | H12: =G12*D12 -> 337988.52 | I12: =H12+F12 -> 57337989 | J12: 0 | K12: 28500000 | L12: =K12*J12 -> 0 | M12: 168994.26 | N12: =M12*J12 -> 0 | O12: =N12+L12 -> 0 | P12: =J12-D12 -> -2 | Q12: =O12-I12 -> -57337989 | R12: =공량산출서!O15 -> #REF!
A13: =공량산출서!A14 -> #REF! | B13: =공량산출서!B14 -> #REF! | C13: =공량산출서!Q14 -> #REF! | D13: 0 | E13: 120000 | F13: =E13*D13 -> 0 | G13: 0 | H13: =G13*D13 -> 0 | I13: =H13+F13 -> 0 | J13: 104 | K13: =공량산출서!S14 -> #REF! | L13: =K13*J13 -> #REF! | M13: =공량산출서!P14 -> #REF! | N13: =M13*J13 -> #REF! | O13: =N13+L13 -> #REF! | P13: =J13-D13 -> 104 | Q13: =O13-I13 -> #REF! | R13: =공량산출서!O14 -> 노무비없음
A14: HBA CARD | B14: 1PORT | C14: EA | D14: 18 | E14: 1615000 | F14: =E14*D14 -> 29070000 | G14: 0 | H14: =G14*D14 -> 0 | I14: =H14+F14 -> 29070000 | J14: 5 | K14: 1615000 | L14: =K14*J14 -> 8075000 | M14: 0 | N14: =M14*J14 -> 0 | O14: =N14+L14 -> 8075000 | P14: =J14-D14 -> -13 | Q14: =O14-I14 -> -20995000 | R14: =공량산출서!O10 -> #REF!
A15: {=IF(COUNTIF(#REF!,공량산출서!$A60:$B60)<ROW(공량산출서!A$1),"",OFFSET(공량산출서!A$1,SMALL(IF(#REF!=공량산출서!$A60:$B60,ROW(공량산출서!$A60)),ROW(공량산출서!A$1))-1,))} -> #REF! | B15: {=IF(COUNTIF(#REF!,공량산출서!$A60:$B60)<ROW(공량산출서!B$1),"",OFFSET(공량산출서!B$1,SMALL(IF(#REF!=공량산출서!$A60:$B60,ROW(공량산출서!$A60)),ROW(공량산출서!B$1))-1,))} -> #REF! | C15: {=IF(COUNTIF(#REF!,공량산출서!$A60:$B60)<ROW(공량산출서!Q$1),"",OFFSET(공량산출서!Q$1,SMALL(IF(#REF!=공량산출서!$A60:$B60,ROW(공량산출서!$A60)),ROW(공량산출서!Q$1))-1,))} -> #REF! | D15: 0 | E15: 12000000 | F15: =E15*D15 -> 0 | G15: 168994.26 | H15: =G15*D15 -> 0 | I15: =H15+F15 -> 0 | J15: {=IF(COUNTIF(#REF!,공량산출서!$A60:$B60)<ROW(공량산출서!R$1),"",OFFSET(공량산출서!R$1,SMALL(IF(#REF!=공량산출서!$A60:$B60,ROW(공량산출서!$A60)),ROW(공량산출서!R$1))-1,))} -> #REF! | K15: {=IF(COUNTIF(#REF!,공량산출서!$A60:$B60)<ROW(공량산출서!S$1),"",OFFSET(공량산출서!S$1,SMALL(IF(#REF!=공량산출서!$A60:$B60,ROW(공량산출서!$A60)),ROW(공량산출서!S$1))-1,))} -> #REF! | L15: =K15*J15 -> #REF! | M15: {=IF(COUNTIF(#REF!,공량산출서!$A60:$B60)<ROW(공량산출서!P$1),"",OFFSET(공량산출서!P$1,SMALL(IF(#REF!=공량산출서!$A60:$B60,ROW(공량산출서!$A60)),ROW(공량산출서!P$1))-1,))} -> #REF! | N15: =M15*J15 -> #REF! | O15: =N15+L15 -> #REF! | P15: =J15-D15 -> #REF! | Q15: =O15-I15 -> #REF! | R15: {=IF(COUNTIF(#REF!,공량산출서!$A60:$B60)<ROW(공량산출서!O$1),"",OFFSET(공량산출서!O$1,SMALL(IF(#REF!=공량산출서!$A60:$B60,ROW(공량산출서!$A60)),ROW(공량산출서!O$1))-1,))} -> #REF!
A16: {=IF(COUNTIF(#REF!,공량산출서!$A61:$B61)<ROW(공량산출서!A$1),"",OFFSET(공량산출서!A$1,SMALL(IF(#REF!=공량산출서!$A61:$B61,ROW(공량산출서!$A61)),ROW(공량산출서!A$1))-1,))} -> #REF! | B16: {=IF(COUNTIF(#REF!,공량산출서!$A61:$B61)<ROW(공량산출서!B$1),"",OFFSET(공량산출서!B$1,SMALL(IF(#REF!=공량산출서!$A61:$B61,ROW(공량산출서!$A61)),ROW(공량산출서!B$1))-1,))} -> #REF! | C16: {=IF(COUNTIF(#REF!,공량산출서!$A61:$B61)<ROW(공량산출서!Q$1),"",OFFSET(공량산출서!Q$1,SMALL(IF(#REF!=공량산출서!$A61:$B61,ROW(공량산출서!$A61)),ROW(공량산출서!Q$1))-1,))} -> #REF! | D16: 2 | E16: 12350000 | F16: =E16*D16 -> 24700000 | G16: 135410.28 | H16: =G16*D16 -> 270820.56 | I16: =H16+F16 -> 24970821 | J16: {=IF(COUNTIF(#REF!,공량산출서!$A61:$B61)<ROW(공량산출서!R$1),"",OFFSET(공량산출서!R$1,SMALL(IF(#REF!=공량산출서!$A61:$B61,ROW(공량산출서!$A61)),ROW(공량산출서!R$1))-1,))} -> #REF! | K16: {=IF(COUNTIF(#REF!,공량산출서!$A61:$B61)<ROW(공량산출서!S$1),"",OFFSET(공량산출서!S$1,SMALL(IF(#REF!=공량산출서!$A61:$B61,ROW(공량산출서!$A61)),ROW(공량산출서!S$1))-1,))} -> #REF! | L16: =K16*J16 -> #REF! | M16: {=IF(COUNTIF(#REF!,공량산출서!$A61:$B61)<ROW(공량산출서!P$1),"",OFFSET(공량산출서!P$1,SMALL(IF(#REF!=공량산출서!$A61:$B61,ROW(공량산출서!$A61)),ROW(공량산출서!P$1))-1,))} -> #REF! | N16: =M16*J16 -> #REF! | O16: =N16+L16 -> #REF! | P16: =J16-D16 -> #REF! | Q16: =O16-I16 -> #REF! | R16: {=IF(COUNTIF(#REF!,공량산출서!$A61:$B61)<ROW(공량산출서!O$1),"",OFFSET(공량산출서!O$1,SMALL(IF(#REF!=공량산출서!$A61:$B61,ROW(공량산출서!$A61)),ROW(공량산출서!O$1))-1,))} -> #REF!
A17: {=IF(COUNTIF(#REF!,공량산출서!$A67:$B67)<ROW(공량산출서!A$1),"",OFFSET(공량산출서!A$1,SMALL(IF(#REF!=공량산출서!$A67:$B67,ROW(공량산출서!$A67)),ROW(공량산출서!A$1))-1,))} -> #REF! | B17: {=IF(COUNTIF(#REF!,공량산출서!$A67:$B67)<ROW(공량산출서!B$1),"",OFFSET(공량산출서!B$1,SMALL(IF(#REF!=공량산출서!$A67:$B67,ROW(공량산출서!$A67)),ROW(공량산출서!B$1))-1,))} -> #REF! | C17: {=IF(COUNTIF(#REF!,공량산출서!$A67:$B67)<ROW(공량산출서!Q$1),"",OFFSET(공량산출서!Q$1,SMALL(IF(#REF!=공량산출서!$A67:$B67,ROW(공량산출서!$A67)),ROW(공량산출서!Q$1))-1,))} -> #REF! | D17: 0 | E17: 8000000 | F17: =E17*D17 -> 0 | G17: 168994.26 | H17: =G17*D17 -> 0 | I17: =H17+F17 -> 0 | J17: {=IF(COUNTIF(#REF!,공량산출서!$A67:$B67)<ROW(공량산출서!R$1),"",OFFSET(공량산출서!R$1,SMALL(IF(#REF!=공량산출서!$A67:$B67,ROW(공량산출서!$A67)),ROW(공량산출서!R$1))-1,))} -> #REF! | K17: {=IF(COUNTIF(#REF!,공량산출서!$A67:$B67)<ROW(공량산출서!S$1),"",OFFSET(공량산출서!S$1,SMALL(IF(#REF!=공량산출서!$A67:$B67,ROW(공량산출서!$A67)),ROW(공량산출서!S$1))-1,))} -> #REF! | L17: =K17*J17 -> #REF! | M17: {=IF(COUNTIF(#REF!,공량산출서!$A67:$B67)<ROW(공량산출서!P$1),"",OFFSET(공량산출서!P$1,SMALL(IF(#REF!=공량산출서!$A67:$B67,ROW(공량산출서!$A67)),ROW(공량산출서!P$1))-1,))} -> #REF! | N17: =M17*J17 -> #REF! | O17: =N17+L17 -> #REF! | P17: =J17-D17 -> #REF! | Q17: =O17-I17 -> #REF! | R17: {=IF(COUNTIF(#REF!,공량산출서!$A67:$B67)<ROW(공량산출서!O$1),"",OFFSET(공량산출서!O$1,SMALL(IF(#REF!=공량산출서!$A67:$B67,ROW(공량산출서!$A67)),ROW(공량산출서!O$1))-1,))} -> #REF!
A18: =공량산출서!A16 -> #REF! | B18: =공량산출서!B16 -> #REF! | C18: =공량산출서!Q16 -> #REF! | D18: 0 | E18: 1615000 | F18: =E18*D18 -> 0 | G18: 168994.26 | H18: =G18*D18 -> 0 | I18: =H18+F18 -> 0 | J18: 5 | K18: =공량산출서!S16 -> #REF! | L18: =K18*J18 -> #REF! | M18: =공량산출서!P16 -> #REF! | N18: =M18*J18 -> #REF! | O18: =N18+L18 -> #REF! | P18: =J18-D18 -> 5 | Q18: =O18-I18 -> #REF! | R18: =공량산출서!O68 -> #REF!
A19: {=IF(COUNTIF(#REF!,공량산출서!$A62:$B62)<ROW(공량산출서!A$1),"",OFFSET(공량산출서!A$1,SMALL(IF(#REF!=공량산출서!$A62:$B62,ROW(공량산출서!$A62)),ROW(공량산출서!A$1))-1,))} -> #REF! | B19: {=IF(COUNTIF(#REF!,공량산출서!$A62:$B62)<ROW(공량산출서!B$1),"",OFFSET(공량산출서!B$1,SMALL(IF(#REF!=공량산출서!$A62:$B62,ROW(공량산출서!$A62)),ROW(공량산출서!B$1))-1,))} -> #REF! | C19: {=IF(COUNTIF(#REF!,공량산출서!$A62:$B62)<ROW(공량산출서!Q$1),"",OFFSET(공량산출서!Q$1,SMALL(IF(#REF!=공량산출서!$A62:$B62,ROW(공량산출서!$A62)),ROW(공량산출서!Q$1))-1,))} -> #REF! | D19: 4 | E19: 6650000 | F19: =E19*D19 -> 26600000 | G19: 168994.26 | H19: =G19*D19 -> 675977.04 | I19: =H19+F19 -> 27275977 | J19: {=IF(COUNTIF(#REF!,공량산출서!$A62:$B62)<ROW(공량산출서!R$1),"",OFFSET(공량산출서!R$1,SMALL(IF(#REF!=공량산출서!$A62:$B62,ROW(공량산출서!$A62)),ROW(공량산출서!R$1))-1,))} -> #REF! | K19: {=IF(COUNTIF(#REF!,공량산출서!$A62:$B62)<ROW(공량산출서!S$1),"",OFFSET(공량산출서!S$1,SMALL(IF(#REF!=공량산출서!$A62:$B62,ROW(공량산출서!$A62)),ROW(공량산출서!S$1))-1,))} -> #REF! | L19: =K19*J19 -> #REF! | M19: {=IF(COUNTIF(#REF!,공량산출서!$A62:$B62)<ROW(공량산출서!P$1),"",OFFSET(공량산출서!P$1,SMALL(IF(#REF!=공량산출서!$A62:$B62,ROW(공량산출서!$A62)),ROW(공량산출서!P$1))-1,))} -> #REF! | N19: =M19*J19 -> #REF! | O19: =N19+L19 -> #REF! | P19: =J19-D19 -> #REF! | Q19: =O19-I19 -> #REF! | R19: {=IF(COUNTIF(#REF!,공량산출서!$A62:$B62)<ROW(공량산출서!O$1),"",OFFSET(공량산출서!O$1,SMALL(IF(#REF!=공량산출서!$A62:$B62,ROW(공량산출서!$A62)),ROW(공량산출서!O$1))-1,))} -> #REF!
A20: {=IF(COUNTIF(#REF!,공량산출서!$A69:$B69)<ROW(공량산출서!A$1),"",OFFSET(공량산출서!A$1,SMALL(IF(#REF!=공량산출서!$A69:$B69,ROW(공량산출서!$A69)),ROW(공량산출서!A$1))-1,))} -> #REF! | B20: {=IF(COUNTIF(#REF!,공량산출서!$A69:$B69)<ROW(공량산출서!B$1),"",OFFSET(공량산출서!B$1,SMALL(IF(#REF!=공량산출서!$A69:$B69,ROW(공량산출서!$A69)),ROW(공량산출서!B$1))-1,))} -> #REF! | C20: {=IF(COUNTIF(#REF!,공량산출서!$A69:$B69)<ROW(공량산출서!Q$1),"",OFFSET(공량산출서!Q$1,SMALL(IF(#REF!=공량산출서!$A69:$B69,ROW(공량산출서!$A69)),ROW(공량산출서!Q$1))-1,))} -> #REF! | D20: 4 | E20: 5700000 | F20: =E20*D20 -> 22800000 | G20: 0 | H20: =G20*D20 -> 0 | I20: =H20+F20 -> 22800000 | J20: {=IF(COUNTIF(#REF!,공량산출서!$A69:$B69)<ROW(공량산출서!R$1),"",OFFSET(공량산출서!R$1,SMALL(IF(#REF!=공량산출서!$A69:$B69,ROW(공량산출서!$A69)),ROW(공량산출서!R$1))-1,))} -> #REF! | K20: {=IF(COUNTIF(#REF!,공량산출서!$A69:$B69)<ROW(공량산출서!S$1),"",OFFSET(공량산출서!S$1,SMALL(IF(#REF!=공량산출서!$A69:$B69,ROW(공량산출서!$A69)),ROW(공량산출서!S$1))-1,))} -> #REF! | L20: =K20*J20 -> #REF! | M20: {=IF(COUNTIF(#REF!,공량산출서!$A69:$B69)<ROW(공량산출서!P$1),"",OFFSET(공량산출서!P$1,SMALL(IF(#REF!=공량산출서!$A69:$B69,ROW(공량산출서!$A69)),ROW(공량산출서!P$1))-1,))} -> #REF! | N20: =M20*J20 -> #REF! | O20: =N20+L20 -> #REF! | P20: =J20-D20 -> #REF! | Q20: =O20-I20 -> #REF! | R20: {=IF(COUNTIF(#REF!,공량산출서!$A69:$B69)<ROW(공량산출서!O$1),"",OFFSET(공량산출서!O$1,SMALL(IF(#REF!=공량산출서!$A69:$B69,ROW(공량산출서!$A69)),ROW(공량산출서!O$1))-1,))} -> #REF!
A22: [ 소 계 ] | F22: =SUM(F8:F21) -> 412680000 | H22: =SUM(H8:H21) -> 4990111.5 | I22: =H22+F22 -> 4.1767011e+08 | L22: =SUM(L8:L21) -> #REF! | N22: =SUM(N8:N21) -> #REF! | O22: =N22+L22 -> #REF! | Q22: =SUM(Q8:Q21) -> #REF!
A23: 02. 전송부
A24: {=IF(COUNTIF(#REF!,공량산출서!$A45:$B45)<ROW(공량산출서!A$1),"",OFFSET(공량산출서!A$1,SMALL(IF(#REF!=공량산출서!$A45:$B45,ROW(공량산출서!$A45)),ROW(공량산출서!A$1))-1,))} -> #REF! | B24: {=IF(COUNTIF(#REF!,공량산출서!$A45:$B45)<ROW(공량산출서!B$1),"",OFFSET(공량산출서!B$1,SMALL(IF(#REF!=공량산출서!$A45:$B45,ROW(공량산출서!$A45)),ROW(공량산출서!B$1))-1,))} -> #REF! | C24: {=IF(COUNTIF(#REF!,공량산출서!$A45:$B45)<ROW(공량산출서!Q$1),"",OFFSET(공량산출서!Q$1,SMALL(IF(#REF!=공량산출서!$A45:$B45,ROW(공량산출서!$A45)),ROW(공량산출서!Q$1))-1,))} -> #REF! | D24: 18 | E24: 106400 | F24: =E24*D24 -> 1915200 | G24: 67540 | H24: =G24*D24 -> 1215720 | I24: =H24+F24 -> 3130920 | J24: 22 | K24: {=IF(COUNTIF(#REF!,공량산출서!$A45:$B45)<ROW(공량산출서!S$1),"",OFFSET(공량산출서!S$1,SMALL(IF(#REF!=공량산출서!$A45:$B45,ROW(공량산출서!$A45)),ROW(공량산출서!S$1))-1,))} -> #REF! | L24: =K24*J24 -> #REF! | M24: {=IF(COUNTIF(#REF!,공량산출서!$A45:$B45)<ROW(공량산출서!P$1),"",OFFSET(공량산출서!P$1,SMALL(IF(#REF!=공량산출서!$A45:$B45,ROW(공량산출서!$A45)),ROW(공량산출서!P$1))-1,))} -> #REF! | N24: =M24*J24 -> #REF! | O24: =N24+L24 -> #REF! | P24: =J24-D24 -> 4 | Q24: =O24-I24 -> #REF! | R24: {=IF(COUNTIF(#REF!,공량산출서!$A45:$B45)<ROW(공량산출서!O$1),"",OFFSET(공량산출서!O$1,SMALL(IF(#REF!=공량산출서!$A45:$B45,ROW(공량산출서!$A45)),ROW(공량산출서!O$1))-1,))} -> #REF!
A25: {=IF(COUNTIF(#REF!,공량산출서!$A50:$B50)<ROW(공량산출서!A$1),"",OFFSET(공량산출서!A$1,SMALL(IF(#REF!=공량산출서!$A50:$B50,ROW(공량산출서!$A50)),ROW(공량산출서!A$1))-1,))} -> #REF! | B25: {=IF(COUNTIF(#REF!,공량산출서!$A50:$B50)<ROW(공량산출서!B$1),"",OFFSET(공량산출서!B$1,SMALL(IF(#REF!=공량산출서!$A50:$B50,ROW(공량산출서!$A50)),ROW(공량산출서!B$1))-1,))} -> #REF! | C25: {=IF(COUNTIF(#REF!,공량산출서!$A50:$B50)<ROW(공량산출서!Q$1),"",OFFSET(공량산출서!Q$1,SMALL(IF(#REF!=공량산출서!$A50:$B50,ROW(공량산출서!$A50)),ROW(공량산출서!Q$1))-1,))} -> #REF! | D25: 0 | E25: 500000 | F25: =E25*D25 -> 0 | G25: 135410.28 | H25: =G25*D25 -> 0 | I25: =H25+F25 -> 0 | J25: {=IF(COUNTIF(#REF!,공량산출서!$A50:$B50)<ROW(공량산출서!R$1),"",OFFSET(공량산출서!R$1,SMALL(IF(#REF!=공량산출서!$A50:$B50,ROW(공량산출서!$A50)),ROW(공량산출서!R$1))-1,))} -> #REF! | K25: {=IF(COUNTIF(#REF!,공량산출서!$A50:$B50)<ROW(공량산출서!S$1),"",OFFSET(공량산출서!S$1,SMALL(IF(#REF!=공량산출서!$A50:$B50,ROW(공량산출서!$A50)),ROW(공량산출서!S$1))-1,))} -> #REF! | L25: =K25*J25 -> #REF! | M25: {=IF(COUNTIF(#REF!,공량산출서!$A50:$B50)<ROW(공량산출서!P$1),"",OFFSET(공량산출서!P$1,SMALL(IF(#REF!=공량산출서!$A50:$B50,ROW(공량산출서!$A50)),ROW(공량산출서!P$1))-1,))} -> #REF! | N25: =M25*J25 -> #REF! | O25: =N25+L25 -> #REF! | P25: =J25-D25 -> #REF! | Q25: =O25-I25 -> #REF! | R25: {=IF(COUNTIF(#REF!,공량산출서!$A50:$B50)<ROW(공량산출서!O$1),"",OFFSET(공량산출서!O$1,SMALL(IF(#REF!=공량산출서!$A50:$B50,ROW(공량산출서!$A50)),ROW(공량산출서!O$1))-1,))} -> #REF!
A26: {=IF(COUNTIF(#REF!,공량산출서!$A49:$B49)<ROW(공량산출서!A$1),"",OFFSET(공량산출서!A$1,SMALL(IF(#REF!=공량산출서!$A49:$B49,ROW(공량산출서!$A49)),ROW(공량산출서!A$1))-1,))} -> #REF! | B26: {=IF(COUNTIF(#REF!,공량산출서!$A49:$B49)<ROW(공량산출서!B$1),"",OFFSET(공량산출서!B$1,SMALL(IF(#REF!=공량산출서!$A49:$B49,ROW(공량산출서!$A49)),ROW(공량산출서!B$1))-1,))} -> #REF! | C26: {=IF(COUNTIF(#REF!,공량산출서!$A49:$B49)<ROW(공량산출서!Q$1),"",OFFSET(공량산출서!Q$1,SMALL(IF(#REF!=공량산출서!$A49:$B49,ROW(공량산출서!$A49)),ROW(공량산출서!Q$1))-1,))} -> #REF! | D26: 29 | E26: 950000 | F26: =E26*D26 -> 27550000 | G26: 135410.28 | H26: =G26*D26 -> 3926898.1 | I26: =H26+F26 -> 31476898 | J26: {=IF(COUNTIF(#REF!,공량산출서!$A49:$B49)<ROW(공량산출서!R$1),"",OFFSET(공량산출서!R$1,SMALL(IF(#REF!=공량산출서!$A49:$B49,ROW(공량산출서!$A49)),ROW(공량산출서!R$1))-1,))} -> #REF! | K26: {=IF(COUNTIF(#REF!,공량산출서!$A49:$B49)<ROW(공량산출서!S$1),"",OFFSET(공량산출서!S$1,SMALL(IF(#REF!=공량산출서!$A49:$B49,ROW(공량산출서!$A49)),ROW(공량산출서!S$1))-1,))} -> #REF! | L26: =K26*J26 -> #REF! | M26: {=IF(COUNTIF(#REF!,공량산출서!$A49:$B49)<ROW(공량산출서!P$1),"",OFFSET(공량산출서!P$1,SMALL(IF(#REF!=공량산출서!$A49:$B49,ROW(공량산출서!$A49)),ROW(공량산출서!P$1))-1,))} -> #REF! | N26: =M26*J26 -> #REF! | O26: =N26+L26 -> #REF! | P26: =J26-D26 -> #REF! | Q26: =O26-I26 -> #REF! | R26: {=IF(COUNTIF(#REF!,공량산출서!$A49:$B49)<ROW(공량산출서!O$1),"",OFFSET(공량산출서!O$1,SMALL(IF(#REF!=공량산출서!$A49:$B49,ROW(공량산출서!$A49)),ROW(공량산출서!O$1))-1,))} -> #REF!
A27: {=IF(COUNTIF(#REF!,공량산출서!$A51:$B51)<ROW(공량산출서!A$1),"",OFFSET(공량산출서!A$1,SMALL(IF(#REF!=공량산출서!$A51:$B51,ROW(공량산출서!$A51)),ROW(공량산출서!A$1))-1,))} -> #REF! | B27: {=IF(COUNTIF(#REF!,공량산출서!$A51:$B51)<ROW(공량산출서!B$1),"",OFFSET(공량산출서!B$1,SMALL(IF(#REF!=공량산출서!$A51:$B51,ROW(공량산출서!$A51)),ROW(공량산출서!B$1))-1,))} -> #REF! | C27: {=IF(COUNTIF(#REF!,공량산출서!$A51:$B51)<ROW(공량산출서!Q$1),"",OFFSET(공량산출서!Q$1,SMALL(IF(#REF!=공량산출서!$A51:$B51,ROW(공량산출서!$A51)),ROW(공량산출서!Q$1))-1,))} -> #REF! | D27: 0 | E27: 950000 | F27: =E27*D27 -> 0 | G27: 135410.28 | H27: =G27*D27 -> 0 | I27: =H27+F27 -> 0 | J27: {=IF(COUNTIF(#REF!,공량산출서!$A51:$B51)<ROW(공량산출서!R$1),"",OFFSET(공량산출서!R$1,SMALL(IF(#REF!=공량산출서!$A51:$B51,ROW(공량산출서!$A51)),ROW(공량산출서!R$1))-1,))} -> #REF! | K27: {=IF(COUNTIF(#REF!,공량산출서!$A51:$B51)<ROW(공량산출서!S$1),"",OFFSET(공량산출서!S$1,SMALL(IF(#REF!=공량산출서!$A51:$B51,ROW(공량산출서!$A51)),ROW(공량산출서!S$1))-1,))} -> #REF! | L27: =K27*J27 -> #REF! | M27: {=IF(COUNTIF(#REF!,공량산출서!$A51:$B51)<ROW(공량산출서!P$1),"",OFFSET(공량산출서!P$1,SMALL(IF(#REF!=공량산출서!$A51:$B51,ROW(공량산출서!$A51)),ROW(공량산출서!P$1))-1,))} -> #REF! | N27: =M27*J27 -> #REF! | O27: =N27+L27 -> #REF! | P27: =J27-D27 -> #REF! | Q27: =O27-I27 -> #REF! | R27: {=IF(COUNTIF(#REF!,공량산출서!$A51:$B51)<ROW(공량산출서!O$1),"",OFFSET(공량산출서!O$1,SMALL(IF(#REF!=공량산출서!$A51:$B51,ROW(공량산출서!$A51)),ROW(공량산출서!O$1))-1,))} -> #REF!
A28: {=IF(COUNTIF(#REF!,공량산출서!$A52:$B52)<ROW(공량산출서!A$1),"",OFFSET(공량산출서!A$1,SMALL(IF(#REF!=공량산출서!$A52:$B52,ROW(공량산출서!$A52)),ROW(공량산출서!A$1))-1,))} -> #REF! | B28: {=IF(COUNTIF(#REF!,공량산출서!$A52:$B52)<ROW(공량산출서!B$1),"",OFFSET(공량산출서!B$1,SMALL(IF(#REF!=공량산출서!$A52:$B52,ROW(공량산출서!$A52)),ROW(공량산출서!B$1))-1,))} -> #REF! | C28: {=IF(COUNTIF(#REF!,공량산출서!$A52:$B52)<ROW(공량산출서!Q$1),"",OFFSET(공량산출서!Q$1,SMALL(IF(#REF!=공량산출서!$A52:$B52,ROW(공량산출서!$A52)),ROW(공량산출서!Q$1))-1,))} -> #REF! | D28: 0 | E28: 3500000 | F28: =E28*D28 -> 0 | G28: 135410.28 | H28: =G28*D28 -> 0 | I28: =H28+F28 -> 0 | J28: {=IF(COUNTIF(#REF!,공량산출서!$A52:$B52)<ROW(공량산출서!R$1),"",OFFSET(공량산출서!R$1,SMALL(IF(#REF!=공량산출서!$A52:$B52,ROW(공량산출서!$A52)),ROW(공량산출서!R$1))-1,))} -> #REF! | K28: {=IF(COUNTIF(#REF!,공량산출서!$A52:$B52)<ROW(공량산출서!S$1),"",OFFSET(공량산출서!S$1,SMALL(IF(#REF!=공량산출서!$A52:$B52,ROW(공량산출서!$A52)),ROW(공량산출서!S$1))-1,))} -> #REF! | L28: =K28*J28 -> #REF! | M28: {=IF(COUNTIF(#REF!,공량산출서!$A52:$B52)<ROW(공량산출서!P$1),"",OFFSET(공량산출서!P$1,SMALL(IF(#REF!=공량산출서!$A52:$B52,ROW(공량산출서!$A52)),ROW(공량산출서!P$1))-1,))} -> #REF! | N28: =M28*J28 -> #REF! | O28: =N28+L28 -> #REF! | P28: =J28-D28 -> #REF! | Q28: =O28-I28 -> #REF! | R28: {=IF(COUNTIF(#REF!,공량산출서!$A52:$B52)<ROW(공량산출서!O$1),"",OFFSET(공량산출서!O$1,SMALL(IF(#REF!=공량산출서!$A52:$B52,ROW(공량산출서!$A52)),ROW(공량산출서!O$1))-1,))} -> #REF!
A29: {=IF(COUNTIF(#REF!,공량산출서!$A53:$B53)<ROW(공량산출서!A$1),"",OFFSET(공량산출서!A$1,SMALL(IF(#REF!=공량산출서!$A53:$B53,ROW(공량산출서!$A53)),ROW(공량산출서!A$1))-1,))} -> #REF! | B29: {=IF(COUNTIF(#REF!,공량산출서!$A53:$B53)<ROW(공량산출서!B$1),"",OFFSET(공량산출서!B$1,SMALL(IF(#REF!=공량산출서!$A53:$B53,ROW(공량산출서!$A53)),ROW(공량산출서!B$1))-1,))} -> #REF! | C29: {=IF(COUNTIF(#REF!,공량산출서!$A53:$B53)<ROW(공량산출서!Q$1),"",OFFSET(공량산출서!Q$1,SMALL(IF(#REF!=공량산출서!$A53:$B53,ROW(공량산출서!$A53)),ROW(공량산출서!Q$1))-1,))} -> #REF! | D29: 0 | E29: 19000000 | F29: =E29*D29 -> 0 | G29: 135410.28 | H29: =G29*D29 -> 0 | I29: =H29+F29 -> 0 | J29: {=IF(COUNTIF(#REF!,공량산출서!$A53:$B53)<ROW(공량산출서!R$1),"",OFFSET(공량산출서!R$1,SMALL(IF(#REF!=공량산출서!$A53:$B53,ROW(공량산출서!$A53)),ROW(공량산출서!R$1))-1,))} -> #REF! | K29: {=IF(COUNTIF(#REF!,공량산출서!$A53:$B53)<ROW(공량산출서!S$1),"",OFFSET(공량산출서!S$1,SMALL(IF(#REF!=공량산출서!$A53:$B53,ROW(공량산출서!$A53)),ROW(공량산출서!S$1))-1,))} -> #REF! | L29: =K29*J29 -> #REF! | M29: {=IF(COUNTIF(#REF!,공량산출서!$A53:$B53)<ROW(공량산출서!P$1),"",OFFSET(공량산출서!P$1,SMALL(IF(#REF!=공량산출서!$A53:$B53,ROW(공량산출서!$A53)),ROW(공량산출서!P$1))-1,))} -> #REF! | N29: =M29*J29 -> #REF! | O29: =N29+L29 -> #REF! | P29: =J29-D29 -> #REF! | Q29: =O29-I29 -> #REF! | R29: {=IF(COUNTIF(#REF!,공량산출서!$A53:$B53)<ROW(공량산출서!O$1),"",OFFSET(공량산출서!O$1,SMALL(IF(#REF!=공량산출서!$A53:$B53,ROW(공량산출서!$A53)),ROW(공량산출서!O$1))-1,))} -> #REF!
A30: {=IF(COUNTIF(#REF!,공량산출서!$A54:$B54)<ROW(공량산출서!A$1),"",OFFSET(공량산출서!A$1,SMALL(IF(#REF!=공량산출서!$A54:$B54,ROW(공량산출서!$A54)),ROW(공량산출서!A$1))-1,))} -> #REF! | B30: {=IF(COUNTIF(#REF!,공량산출서!$A54:$B54)<ROW(공량산출서!B$1),"",OFFSET(공량산출서!B$1,SMALL(IF(#REF!=공량산출서!$A54:$B54,ROW(공량산출서!$A54)),ROW(공량산출서!B$1))-1,))} -> #REF! | C30: {=IF(COUNTIF(#REF!,공량산출서!$A54:$B54)<ROW(공량산출서!Q$1),"",OFFSET(공량산출서!Q$1,SMALL(IF(#REF!=공량산출서!$A54:$B54,ROW(공량산출서!$A54)),ROW(공량산출서!Q$1))-1,))} -> #REF! | D30: 1 | E30: 19000000 | F30: =E30*D30 -> 19000000 | G30: 135410.28 | H30: =G30*D30 -> 135410.28 | I30: =H30+F30 -> 19135410 | J30: {=IF(COUNTIF(#REF!,공량산출서!$A54:$B54)<ROW(공량산출서!R$1),"",OFFSET(공량산출서!R$1,SMALL(IF(#REF!=공량산출서!$A54:$B54,ROW(공량산출서!$A54)),ROW(공량산출서!R$1))-1,))} -> #REF! | K30: {=IF(COUNTIF(#REF!,공량산출서!$A54:$B54)<ROW(공량산출서!S$1),"",OFFSET(공량산출서!S$1,SMALL(IF(#REF!=공량산출서!$A54:$B54,ROW(공량산출서!$A54)),ROW(공량산출서!S$1))-1,))} -> #REF! | L30: =K30*J30 -> #REF! | M30: {=IF(COUNTIF(#REF!,공량산출서!$A54:$B54)<ROW(공량산출서!P$1),"",OFFSET(공량산출서!P$1,SMALL(IF(#REF!=공량산출서!$A54:$B54,ROW(공량산출서!$A54)),ROW(공량산출서!P$1))-1,))} -> #REF! | N30: =M30*J30 -> #REF! | O30: =N30+L30 -> #REF! | P30: =J30-D30 -> #REF! | Q30: =O30-I30 -> #REF! | R30: {=IF(COUNTIF(#REF!,공량산출서!$A54:$B54)<ROW(공량산출서!O$1),"",OFFSET(공량산출서!O$1,SMALL(IF(#REF!=공량산출서!$A54:$B54,ROW(공량산출서!$A54)),ROW(공량산출서!O$1))-1,))} -> #REF!
A31: {=IF(COUNTIF(#REF!,공량산출서!$A56:$B56)<ROW(공량산출서!A$1),"",OFFSET(공량산출서!A$1,SMALL(IF(#REF!=공량산출서!$A56:$B56,ROW(공량산출서!$A56)),ROW(공량산출서!A$1))-1,))} -> #REF! | B31: {=IF(COUNTIF(#REF!,공량산출서!$A56:$B56)<ROW(공량산출서!B$1),"",OFFSET(공량산출서!B$1,SMALL(IF(#REF!=공량산출서!$A56:$B56,ROW(공량산출서!$A56)),ROW(공량산출서!B$1))-1,))} -> #REF! | C31: {=IF(COUNTIF(#REF!,공량산출서!$A56:$B56)<ROW(공량산출서!Q$1),"",OFFSET(공량산출서!Q$1,SMALL(IF(#REF!=공량산출서!$A56:$B56,ROW(공량산출서!$A56)),ROW(공량산출서!Q$1))-1,))} -> #REF! | D31: 6 | E31: 760000 | F31: =E31*D31 -> 4560000 | G31: 135410.28 | H31: =G31*D31 -> 812461.68 | I31: =H31+F31 -> 5372461.7 | J31: {=IF(COUNTIF(#REF!,공량산출서!$A56:$B56)<ROW(공량산출서!R$1),"",OFFSET(공량산출서!R$1,SMALL(IF(#REF!=공량산출서!$A56:$B56,ROW(공량산출서!$A56)),ROW(공량산출서!R$1))-1,))} -> #REF! | K31: {=IF(COUNTIF(#REF!,공량산출서!$A56:$B56)<ROW(공량산출서!S$1),"",OFFSET(공량산출서!S$1,SMALL(IF(#REF!=공량산출서!$A56:$B56,ROW(공량산출서!$A56)),ROW(공량산출서!S$1))-1,))} -> #REF! | L31: =K31*J31 -> #REF! | M31: {=IF(COUNTIF(#REF!,공량산출서!$A56:$B56)<ROW(공량산출서!P$1),"",OFFSET(공량산출서!P$1,SMALL(IF(#REF!=공량산출서!$A56:$B56,ROW(공량산출서!$A56)),ROW(공량산출서!P$1))-1,))} -> #REF! | N31: =M31*J31 -> #REF! | O31: =N31+L31 -> #REF! | P31: =J31-D31 -> #REF! | Q31: =O31-I31 -> #REF! | R31: {=IF(COUNTIF(#REF!,공량산출서!$A56:$B56)<ROW(공량산출서!O$1),"",OFFSET(공량산출서!O$1,SMALL(IF(#REF!=공량산출서!$A56:$B56,ROW(공량산출서!$A56)),ROW(공량산출서!O$1))-1,))} -> #REF!
A32: {=IF(COUNTIF(#REF!,공량산출서!$A57:$B57)<ROW(공량산출서!A$1),"",OFFSET(공량산출서!A$1,SMALL(IF(#REF!=공량산출서!$A57:$B57,ROW(공량산출서!$A57)),ROW(공량산출서!A$1))-1,))} -> #REF! | B32: {=IF(COUNTIF(#REF!,공량산출서!$A57:$B57)<ROW(공량산출서!B$1),"",OFFSET(공량산출서!B$1,SMALL(IF(#REF!=공량산출서!$A57:$B57,ROW(공량산출서!$A57)),ROW(공량산출서!B$1))-1,))} -> #REF! | C32: {=IF(COUNTIF(#REF!,공량산출서!$A57:$B57)<ROW(공량산출서!Q$1),"",OFFSET(공량산출서!Q$1,SMALL(IF(#REF!=공량산출서!$A57:$B57,ROW(공량산출서!$A57)),ROW(공량산출서!Q$1))-1,))} -> #REF! | D32: 6 | E32: 66500 | F32: =E32*D32 -> 399000 | G32: 0 | H32: =G32*D32 -> 0 | I32: =H32+F32 -> 399000 | J32: {=IF(COUNTIF(#REF!,공량산출서!$A57:$B57)<ROW(공량산출서!R$1),"",OFFSET(공량산출서!R$1,SMALL(IF(#REF!=공량산출서!$A57:$B57,ROW(공량산출서!$A57)),ROW(공량산출서!R$1))-1,))} -> #REF! | K32: {=IF(COUNTIF(#REF!,공량산출서!$A57:$B57)<ROW(공량산출서!S$1),"",OFFSET(공량산출서!S$1,SMALL(IF(#REF!=공량산출서!$A57:$B57,ROW(공량산출서!$A57)),ROW(공량산출서!S$1))-1,))} -> #REF! | L32: =K32*J32 -> #REF! | M32: {=IF(COUNTIF(#REF!,공량산출서!$A57:$B57)<ROW(공량산출서!P$1),"",OFFSET(공량산출서!P$1,SMALL(IF(#REF!=공량산출서!$A57:$B57,ROW(공량산출서!$A57)),ROW(공량산출서!P$1))-1,))} -> #REF! | N32: =M32*J32 -> #REF! | O32: =N32+L32 -> #REF! | P32: =J32-D32 -> #REF! | Q32: =O32-I32 -> #REF! | R32: {=IF(COUNTIF(#REF!,공량산출서!$A57:$B57)<ROW(공량산출서!O$1),"",OFFSET(공량산출서!O$1,SMALL(IF(#REF!=공량산출서!$A57:$B57,ROW(공량산출서!$A57)),ROW(공량산출서!O$1))-1,))} -> #REF!
A33: {=IF(COUNTIF(#REF!,공량산출서!$A44:$B44)<ROW(공량산출서!A$1),"",OFFSET(공량산출서!A$1,SMALL(IF(#REF!=공량산출서!$A44:$B44,ROW(공량산출서!$A44)),ROW(공량산출서!A$1))-1,))} -> #REF! | B33: {=IF(COUNTIF(#REF!,공량산출서!$A44:$B44)<ROW(공량산출서!B$1),"",OFFSET(공량산출서!B$1,SMALL(IF(#REF!=공량산출서!$A44:$B44,ROW(공량산출서!$A44)),ROW(공량산출서!B$1))-1,))} -> #REF! | C33: {=IF(COUNTIF(#REF!,공량산출서!$A44:$B44)<ROW(공량산출서!Q$1),"",OFFSET(공량산출서!Q$1,SMALL(IF(#REF!=공량산출서!$A44:$B44,ROW(공량산출서!$A44)),ROW(공량산출서!Q$1))-1,))} -> #REF! | D33: 28 | E33: 212800 | F33: =E33*D33 -> 5958400 | G33: 54032 | H33: =G33*D33 -> 1512896 | I33: =H33+F33 -> 7471296 | J33: {=IF(COUNTIF(#REF!,공량산출서!$A44:$B44)<ROW(공량산출서!R$1),"",OFFSET(공량산출서!R$1,SMALL(IF(#REF!=공량산출서!$A44:$B44,ROW(공량산출서!$A44)),ROW(공량산출서!R$1))-1,))} -> #REF! | K33: {=IF(COUNTIF(#REF!,공량산출서!$A44:$B44)<ROW(공량산출서!S$1),"",OFFSET(공량산출서!S$1,SMALL(IF(#REF!=공량산출서!$A44:$B44,ROW(공량산출서!$A44)),ROW(공량산출서!S$1))-1,))} -> #REF! | L33: =K33*J33 -> #REF! | M33: {=IF(COUNTIF(#REF!,공량산출서!$A44:$B44)<ROW(공량산출서!P$1),"",OFFSET(공량산출서!P$1,SMALL(IF(#REF!=공량산출서!$A44:$B44,ROW(공량산출서!$A44)),ROW(공량산출서!P$1))-1,))} -> #REF! | N33: =M33*J33 -> #REF! | O33: =N33+L33 -> #REF! | P33: =J33-D33 -> #REF! | Q33: =O33-I33 -> #REF! | R33: {=IF(COUNTIF(#REF!,공량산출서!$A44:$B44)<ROW(공량산출서!O$1),"",OFFSET(공량산출서!O$1,SMALL(IF(#REF!=공량산출서!$A44:$B44,ROW(공량산출서!$A44)),ROW(공량산출서!O$1))-1,))} -> #REF!
A34: {=IF(COUNTIF(#REF!,공량산출서!$A46:$B46)<ROW(공량산출서!A$1),"",OFFSET(공량산출서!A$1,SMALL(IF(#REF!=공량산출서!$A46:$B46,ROW(공량산출서!$A46)),ROW(공량산출서!A$1))-1,))} -> #REF! | B34: {=IF(COUNTIF(#REF!,공량산출서!$A46:$B46)<ROW(공량산출서!B$1),"",OFFSET(공량산출서!B$1,SMALL(IF(#REF!=공량산출서!$A46:$B46,ROW(공량산출서!$A46)),ROW(공량산출서!B$1))-1,))} -> #REF! | C34: {=IF(COUNTIF(#REF!,공량산출서!$A46:$B46)<ROW(공량산출서!Q$1),"",OFFSET(공량산출서!Q$1,SMALL(IF(#REF!=공량산출서!$A46:$B46,ROW(공량산출서!$A46)),ROW(공량산출서!Q$1))-1,))} -> #REF! | D34: 9 | E34: 47500 | F34: =E34*D34 -> 427500 | G34: 62136.8 | H34: =G34*D34 -> 559231.2 | I34: =H34+F34 -> 986731.2 | J34: {=IF(COUNTIF(#REF!,공량산출서!$A46:$B46)<ROW(공량산출서!R$1),"",OFFSET(공량산출서!R$1,SMALL(IF(#REF!=공량산출서!$A46:$B46,ROW(공량산출서!$A46)),ROW(공량산출서!R$1))-1,))} -> #REF! | K34: {=IF(COUNTIF(#REF!,공량산출서!$A46:$B46)<ROW(공량산출서!S$1),"",OFFSET(공량산출서!S$1,SMALL(IF(#REF!=공량산출서!$A46:$B46,ROW(공량산출서!$A46)),ROW(공량산출서!S$1))-1,))} -> #REF! | L34: =K34*J34 -> #REF! | M34: {=IF(COUNTIF(#REF!,공량산출서!$A46:$B46)<ROW(공량산출서!P$1),"",OFFSET(공량산출서!P$1,SMALL(IF(#REF!=공량산출서!$A46:$B46,ROW(공량산출서!$A46)),ROW(공량산출서!P$1))-1,))} -> #REF! | N34: =M34*J34 -> #REF! | O34: =N34+L34 -> #REF! | P34: =J34-D34 -> #REF! | Q34: =O34-I34 -> #REF! | R34: {=IF(COUNTIF(#REF!,공량산출서!$A46:$B46)<ROW(공량산출서!O$1),"",OFFSET(공량산출서!O$1,SMALL(IF(#REF!=공량산출서!$A46:$B46,ROW(공량산출서!$A46)),ROW(공량산출서!O$1))-1,))} -> #REF!
A35: {=IF(COUNTIF(#REF!,공량산출서!$A47:$B47)<ROW(공량산출서!A$1),"",OFFSET(공량산출서!A$1,SMALL(IF(#REF!=공량산출서!$A47:$B47,ROW(공량산출서!$A47)),ROW(공량산출서!A$1))-1,))} -> #REF! | B35: {=IF(COUNTIF(#REF!,공량산출서!$A47:$B47)<ROW(공량산출서!B$1),"",OFFSET(공량산출서!B$1,SMALL(IF(#REF!=공량산출서!$A47:$B47,ROW(공량산출서!$A47)),ROW(공량산출서!B$1))-1,))} -> #REF! | C35: {=IF(COUNTIF(#REF!,공량산출서!$A47:$B47)<ROW(공량산출서!Q$1),"",OFFSET(공량산출서!Q$1,SMALL(IF(#REF!=공량산출서!$A47:$B47,ROW(공량산출서!$A47)),ROW(공량산출서!Q$1))-1,))} -> #REF! | D35: 2 | E35: 147250 | F35: =E35*D35 -> 294500 | G35: 62136.8 | H35: =G35*D35 -> 124273.6 | I35: =H35+F35 -> 418773.6 | J35: {=IF(COUNTIF(#REF!,공량산출서!$A47:$B47)<ROW(공량산출서!R$1),"",OFFSET(공량산출서!R$1,SMALL(IF(#REF!=공량산출서!$A47:$B47,ROW(공량산출서!$A47)),ROW(공량산출서!R$1))-1,))} -> #REF! | K35: {=IF(COUNTIF(#REF!,공량산출서!$A47:$B47)<ROW(공량산출서!S$1),"",OFFSET(공량산출서!S$1,SMALL(IF(#REF!=공량산출서!$A47:$B47,ROW(공량산출서!$A47)),ROW(공량산출서!S$1))-1,))} -> #REF! | L35: =K35*J35 -> #REF! | M35: {=IF(COUNTIF(#REF!,공량산출서!$A47:$B47)<ROW(공량산출서!P$1),"",OFFSET(공량산출서!P$1,SMALL(IF(#REF!=공량산출서!$A47:$B47,ROW(공량산출서!$A47)),ROW(공량산출서!P$1))-1,))} -> #REF! | N35: =M35*J35 -> #REF! | O35: =N35+L35 -> #REF! | P35: =J35-D35 -> #REF! | Q35: =O35-I35 -> #REF! | R35: {=IF(COUNTIF(#REF!,공량산출서!$A47:$B47)<ROW(공량산출서!O$1),"",OFFSET(공량산출서!O$1,SMALL(IF(#REF!=공량산출서!$A47:$B47,ROW(공량산출서!$A47)),ROW(공량산출서!O$1))-1,))} -> #REF!
A36: {=IF(COUNTIF(#REF!,공량산출서!$A48:$B48)<ROW(공량산출서!A$1),"",OFFSET(공량산출서!A$1,SMALL(IF(#REF!=공량산출서!$A48:$B48,ROW(공량산출서!$A48)),ROW(공량산출서!A$1))-1,))} -> #REF! | B36: {=IF(COUNTIF(#REF!,공량산출서!$A48:$B48)<ROW(공량산출서!B$1),"",OFFSET(공량산출서!B$1,SMALL(IF(#REF!=공량산출서!$A48:$B48,ROW(공량산출서!$A48)),ROW(공량산출서!B$1))-1,))} -> #REF! | C36: {=IF(COUNTIF(#REF!,공량산출서!$A48:$B48)<ROW(공량산출서!Q$1),"",OFFSET(공량산출서!Q$1,SMALL(IF(#REF!=공량산출서!$A48:$B48,ROW(공량산출서!$A48)),ROW(공량산출서!Q$1))-1,))} -> #REF! | D36: 18 | E36: 9500 | F36: =E36*D36 -> 171000 | G36: 41210.29 | H36: =G36*D36 -> 741785.22 | I36: =H36+F36 -> 912785.22 | J36: {=IF(COUNTIF(#REF!,공량산출서!$A48:$B48)<ROW(공량산출서!R$1),"",OFFSET(공량산출서!R$1,SMALL(IF(#REF!=공량산출서!$A48:$B48,ROW(공량산출서!$A48)),ROW(공량산출서!R$1))-1,))} -> #REF! | K36: {=IF(COUNTIF(#REF!,공량산출서!$A48:$B48)<ROW(공량산출서!S$1),"",OFFSET(공량산출서!S$1,SMALL(IF(#REF!=공량산출서!$A48:$B48,ROW(공량산출서!$A48)),ROW(공량산출서!S$1))-1,))} -> #REF! | L36: =K36*J36 -> #REF! | M36: {=IF(COUNTIF(#REF!,공량산출서!$A48:$B48)<ROW(공량산출서!P$1),"",OFFSET(공량산출서!P$1,SMALL(IF(#REF!=공량산출서!$A48:$B48,ROW(공량산출서!$A48)),ROW(공량산출서!P$1))-1,))} -> #REF! | N36: =M36*J36 -> #REF! | O36: =N36+L36 -> #REF! | P36: =J36-D36 -> #REF! | Q36: =O36-I36 -> #REF! | R36: {=IF(COUNTIF(#REF!,공량산출서!$A48:$B48)<ROW(공량산출서!O$1),"",OFFSET(공량산출서!O$1,SMALL(IF(#REF!=공량산출서!$A48:$B48,ROW(공량산출서!$A48)),ROW(공량산출서!O$1))-1,))} -> #REF!
A38: [ 소 계 ] | F38: =SUM(F24:F37) -> 60275600 | H38: =SUM(H24:H37) -> 9028676.1 | I38: =H38+F38 -> 69304276 | L38: =SUM(L24:L37) -> #REF! | N38: =SUM(N24:N37) -> #REF! | O38: =N38+L38 -> #REF! | Q38: =SUM(Q24:Q37) -> #REF!
A39: 03. 촬상부
A40: {=IF(COUNTIF(#REF!,공량산출서!$A26:$B26)<ROW(공량산출서!A$1),"",OFFSET(공량산출서!A$1,SMALL(IF(#REF!=공량산출서!$A26:$B26,ROW(공량산출서!$A26)),ROW(공량산출서!A$1))-1,))} -> #REF! | B40: {=IF(COUNTIF(#REF!,공량산출서!$A26:$B26)<ROW(공량산출서!B$1),"",OFFSET(공량산출서!B$1,SMALL(IF(#REF!=공량산출서!$A26:$B26,ROW(공량산출서!$A26)),ROW(공량산출서!B$1))-1,))} -> #REF! | C40: {=IF(COUNTIF(#REF!,공량산출서!$A26:$B26)<ROW(공량산출서!Q$1),"",OFFSET(공량산출서!Q$1,SMALL(IF(#REF!=공량산출서!$A26:$B26,ROW(공량산출서!$A26)),ROW(공량산출서!Q$1))-1,))} -> #REF! | D40: 209 | E40: 448000 | F40: =E40*D40 -> 93632000 | G40: 55913.36 | H40: =G40*D40 -> 11685892 | I40: =H40+F40 -> 1.0531789e+08 | J40: {=IF(COUNTIF(#REF!,공량산출서!$A26:$B26)<ROW(공량산출서!R$1),"",OFFSET(공량산출서!R$1,SMALL(IF(#REF!=공량산출서!$A26:$B26,ROW(공량산출서!$A26)),ROW(공량산출서!R$1))-1,))} -> #REF! | K40: {=IF(COUNTIF(#REF!,공량산출서!$A26:$B26)<ROW(공량산출서!S$1),"",OFFSET(공량산출서!S$1,SMALL(IF(#REF!=공량산출서!$A26:$B26,ROW(공량산출서!$A26)),ROW(공량산출서!S$1))-1,))} -> #REF! | L40: =K40*J40 -> #REF! | M40: {=IF(COUNTIF(#REF!,공량산출서!$A26:$B26)<ROW(공량산출서!P$1),"",OFFSET(공량산출서!P$1,SMALL(IF(#REF!=공량산출서!$A26:$B26,ROW(공량산출서!$A26)),ROW(공량산출서!P$1))-1,))} -> #REF! | N40: =M40*J40 -> #REF! | O40: =N40+L40 -> #REF! | P40: =J40-D40 -> #REF! | Q40: =O40-I40 -> #REF! | R40: {=IF(COUNTIF(#REF!,공량산출서!$A26:$B26)<ROW(공량산출서!O$1),"",OFFSET(공량산출서!O$1,SMALL(IF(#REF!=공량산출서!$A26:$B26,ROW(공량산출서!$A26)),ROW(공량산출서!O$1))-1,))} -> #REF!
A41: {=IF(COUNTIF(#REF!,공량산출서!$A27:$B27)<ROW(공량산출서!A$1),"",OFFSET(공량산출서!A$1,SMALL(IF(#REF!=공량산출서!$A27:$B27,ROW(공량산출서!$A27)),ROW(공량산출서!A$1))-1,))} -> #REF! | B41: {=IF(COUNTIF(#REF!,공량산출서!$A27:$B27)<ROW(공량산출서!B$1),"",OFFSET(공량산출서!B$1,SMALL(IF(#REF!=공량산출서!$A27:$B27,ROW(공량산출서!$A27)),ROW(공량산출서!B$1))-1,))} -> #REF! | C41: {=IF(COUNTIF(#REF!,공량산출서!$A27:$B27)<ROW(공량산출서!Q$1),"",OFFSET(공량산출서!Q$1,SMALL(IF(#REF!=공량산출서!$A27:$B27,ROW(공량산출서!$A27)),ROW(공량산출서!Q$1))-1,))} -> #REF! | D41: 44 | E41: 500000 | F41: =E41*D41 -> 22000000 | G41: 55913.36 | H41: =G41*D41 -> 2460187.8 | I41: =H41+F41 -> 24460188 | J41: {=IF(COUNTIF(#REF!,공량산출서!$A27:$B27)<ROW(공량산출서!R$1),"",OFFSET(공량산출서!R$1,SMALL(IF(#REF!=공량산출서!$A27:$B27,ROW(공량산출서!$A27)),ROW(공량산출서!R$1))-1,))} -> #REF! | K41: {=IF(COUNTIF(#REF!,공량산출서!$A27:$B27)<ROW(공량산출서!S$1),"",OFFSET(공량산출서!S$1,SMALL(IF(#REF!=공량산출서!$A27:$B27,ROW(공량산출서!$A27)),ROW(공량산출서!S$1))-1,))} -> #REF! | L41: =K41*J41 -> #REF! | M41: {=IF(COUNTIF(#REF!,공량산출서!$A27:$B27)<ROW(공량산출서!P$1),"",OFFSET(공량산출서!P$1,SMALL(IF(#REF!=공량산출서!$A27:$B27,ROW(공량산출서!$A27)),ROW(공량산출서!P$1))-1,))} -> #REF! | N41: =M41*J41 -> #REF! | O41: =N41+L41 -> #REF! | P41: =J41-D41 -> #REF! | Q41: =O41-I41 -> #REF! | R41: {=IF(COUNTIF(#REF!,공량산출서!$A27:$B27)<ROW(공량산출서!O$1),"",OFFSET(공량산출서!O$1,SMALL(IF(#REF!=공량산출서!$A27:$B27,ROW(공량산출서!$A27)),ROW(공량산출서!O$1))-1,))} -> #REF!
A42: {=IF(COUNTIF(#REF!,공량산출서!$A28:$B28)<ROW(공량산출서!A$1),"",OFFSET(공량산출서!A$1,SMALL(IF(#REF!=공량산출서!$A28:$B28,ROW(공량산출서!$A28)),ROW(공량산출서!A$1))-1,))} -> #REF! | B42: {=IF(COUNTIF(#REF!,공량산출서!$A28:$B28)<ROW(공량산출서!B$1),"",OFFSET(공량산출서!B$1,SMALL(IF(#REF!=공량산출서!$A28:$B28,ROW(공량산출서!$A28)),ROW(공량산출서!B$1))-1,))} -> #REF! | C42: {=IF(COUNTIF(#REF!,공량산출서!$A28:$B28)<ROW(공량산출서!Q$1),"",OFFSET(공량산출서!Q$1,SMALL(IF(#REF!=공량산출서!$A28:$B28,ROW(공량산출서!$A28)),ROW(공량산출서!Q$1))-1,))} -> #REF! | D42: 38 | E42: 378000 | F42: =E42*D42 -> 14364000 | G42: 79317.44 | H42: =G42*D42 -> 3014062.7 | I42: =H42+F42 -> 17378063 | J42: {=IF(COUNTIF(#REF!,공량산출서!$A28:$B28)<ROW(공량산출서!R$1),"",OFFSET(공량산출서!R$1,SMALL(IF(#REF!=공량산출서!$A28:$B28,ROW(공량산출서!$A28)),ROW(공량산출서!R$1))-1,))} -> #REF! | K42: {=IF(COUNTIF(#REF!,공량산출서!$A28:$B28)<ROW(공량산출서!S$1),"",OFFSET(공량산출서!S$1,SMALL(IF(#REF!=공량산출서!$A28:$B28,ROW(공량산출서!$A28)),ROW(공량산출서!S$1))-1,))} -> #REF! | L42: =K42*J42 -> #REF! | M42: {=IF(COUNTIF(#REF!,공량산출서!$A28:$B28)<ROW(공량산출서!P$1),"",OFFSET(공량산출서!P$1,SMALL(IF(#REF!=공량산출서!$A28:$B28,ROW(공량산출서!$A28)),ROW(공량산출서!P$1))-1,))} -> #REF! | N42: =M42*J42 -> #REF! | O42: =N42+L42 -> #REF! | P42: =J42-D42 -> #REF! | Q42: =O42-I42 -> #REF! | R42: {=IF(COUNTIF(#REF!,공량산출서!$A28:$B28)<ROW(공량산출서!O$1),"",OFFSET(공량산출서!O$1,SMALL(IF(#REF!=공량산출서!$A28:$B28,ROW(공량산출서!$A28)),ROW(공량산출서!O$1))-1,))} -> #REF!
A43: {=IF(COUNTIF(#REF!,공량산출서!$A29:$B29)<ROW(공량산출서!A$1),"",OFFSET(공량산출서!A$1,SMALL(IF(#REF!=공량산출서!$A29:$B29,ROW(공량산출서!$A29)),ROW(공량산출서!A$1))-1,))} -> #REF! | B43: {=IF(COUNTIF(#REF!,공량산출서!$A29:$B29)<ROW(공량산출서!B$1),"",OFFSET(공량산출서!B$1,SMALL(IF(#REF!=공량산출서!$A29:$B29,ROW(공량산출서!$A29)),ROW(공량산출서!B$1))-1,))} -> #REF! | C43: {=IF(COUNTIF(#REF!,공량산출서!$A29:$B29)<ROW(공량산출서!Q$1),"",OFFSET(공량산출서!Q$1,SMALL(IF(#REF!=공량산출서!$A29:$B29,ROW(공량산출서!$A29)),ROW(공량산출서!Q$1))-1,))} -> #REF! | D43: 25 | E43: 1100000 | F43: =E43*D43 -> 27500000 | G43: 79317.44 | H43: =G43*D43 -> 1982936 | I43: =H43+F43 -> 29482936 | J43: {=IF(COUNTIF(#REF!,공량산출서!$A29:$B29)<ROW(공량산출서!R$1),"",OFFSET(공량산출서!R$1,SMALL(IF(#REF!=공량산출서!$A29:$B29,ROW(공량산출서!$A29)),ROW(공량산출서!R$1))-1,))} -> #REF! | K43: {=IF(COUNTIF(#REF!,공량산출서!$A29:$B29)<ROW(공량산출서!S$1),"",OFFSET(공량산출서!S$1,SMALL(IF(#REF!=공량산출서!$A29:$B29,ROW(공량산출서!$A29)),ROW(공량산출서!S$1))-1,))} -> #REF! | L43: =K43*J43 -> #REF! | M43: {=IF(COUNTIF(#REF!,공량산출서!$A29:$B29)<ROW(공량산출서!P$1),"",OFFSET(공량산출서!P$1,SMALL(IF(#REF!=공량산출서!$A29:$B29,ROW(공량산출서!$A29)),ROW(공량산출서!P$1))-1,))} -> #REF! | N43: =M43*J43 -> #REF! | O43: =N43+L43 -> #REF! | P43: =J43-D43 -> #REF! | Q43: =O43-I43 -> #REF! | R43: {=IF(COUNTIF(#REF!,공량산출서!$A29:$B29)<ROW(공량산출서!O$1),"",OFFSET(공량산출서!O$1,SMALL(IF(#REF!=공량산출서!$A29:$B29,ROW(공량산출서!$A29)),ROW(공량산출서!O$1))-1,))} -> #REF!
...

Sheet 공량산출서
A1: 노 무 비 산 출 내 역
A2: =내역서!$A$2 -> 공사명 : 종합의료복합단지(2단계) 화물용 엘리베이터 구매 | C2: 장소가 많이 있어서 장소를 추가 할 경우 11번과 예비 사이에 열을 추가해 주세요
A3: 품 명 | B3: 규 격 | C3: 자재 산출 기초 자료 | O3: 참 고 (노무비 산출) | P3: 노무비단가 | Q3: 단위 | R3: 합계 수량 | S3: 적용 단가 | T3: =#REF! -> #REF! | V3: =#REF! -> #REF! | X3: =#REF! -> #REF! | Z3: =#REF! -> #REF! | AB3: =#REF! -> #REF! | AD3: =#REF! -> #REF! | AF3: =#REF! -> #REF! | AH3: =#REF! -> #REF! | AJ3: =#REF! -> #REF! | AL3: =#REF! -> #REF! | AN3: =#REF! -> #REF! | AP3: =#REF! -> #REF! | AR3: =#REF! -> #REF! | AT3: =#REF! -> #REF! | AV3: 비 고
C4: 청사동 | D4: 옥외 | E4: 기숙사동 | F4: main | G4: 설치 장소 (5) | H4: 설치 장소 (6) | I4: 설치 장소 (7) | J4: 설치 장소 (8) | K4: 설치 장소 (9) | L4: 설치 장소 (10) | M4: 설치 장소 (11) | N4: 예비 | T4: 단위 | U4: 공량 | V4: 단위 | W4: 공량 | X4: 단위 | Y4: 공량 | Z4: 단위 | AA4: 공량 | AB4: 단위 | AC4: 공량 | AD4: 단위 | AE4: 공량 | AF4: 단위 | AG4: 공량 | AH4: 단위 | AI4: 공량 | AJ4: 단위 | AK4: 공량 | AL4: 단위 | AM4: 공량 | AN4: 단위 | AO4: 공량 | AP4: 단위 | AQ4: 공량 | AR4: 단위 | AS4: 공량 | AT4: 단위 | AU4: 공량
T5: 공량합계 | U5: =SUM(U$6:U$82) -> #REF! | V5: 공량합계 | W5: =SUM(W$6:W$82) -> #REF! | X5: 공량합계 | Y5: =SUM(Y$6:Y$82) -> #REF! | Z5: 공량합계 | AA5: =SUM(AA$6:AA$82) -> #REF! | AB5: 공량합계 | AC5: =SUM(AC$6:AC$82) -> #REF! | AD5: 공량합계 | AE5: =SUM(AE$6:AE$82) -> #REF! | AF5: 공량합계 | AG5: =SUM(AG$6:AG$82) -> #REF! | AH5: 공량합계 | AI5: =SUM(AI$6:AI$82) -> #REF! | AJ5: 공량합계 | AK5: =SUM(AK$6:AK$82) -> #REF! | AL5: 공량합계 | AM5: =SUM(AM$6:AM$82) -> #REF! | AN5: 공량합계 | AO5: =SUM(AO$6:AO$82) -> #REF! | AP5: 공량합계 | AQ5: =SUM(AQ$6:AQ$82) -> #REF! | AR5: 공량합계 | AS5: =SUM(AS$6:AS$82) -> #REF! | AT5: 공량합계 | AU5: =SUM(AU$6:AU$82) -> #REF!
A6: 01.대표품목
A7: GIT-MSVR-STR
A8: =#REF! -> #REF! | B8: =#REF! -> #REF! | F8: 4 | G8: =SUM(C8:F8) -> 4 | J8: =SUM(H8:I8) -> 0 | O8: 노무비없음 | P8: =SUMPRODUCT(($O8=#REF!)*(#REF!)) -> #REF! | Q8: =#REF! -> #REF! | R8: =G8+J8 -> 4 | S8: =#REF! -> #REF! | T8: =SUMPRODUCT((#REF!=$O8)*(#REF!=T$3)*#REF!) -> #REF! | U8: =(T8*$R8) -> #REF! | V8: =SUMPRODUCT((#REF!=$O8)*(#REF!=V$3)*#REF!) -> #REF! | W8: =(V8*$R8) -> #REF! | X8: =SUMPRODUCT((#REF!=$O8)*(#REF!=X$3)*#REF!) -> #REF! | Y8: =(X8*$R8) -> #REF! | Z8: =SUMPRODUCT((#REF!=$O8)*(#REF!=Z$3)*#REF!) -> #REF! | AA8: =(Z8*$R8) -> #REF! | AB8: =SUMPRODUCT((#REF!=$O8)*(#REF!=AB$3)*#REF!) -> #REF! | AC8: =(AB8*$R8) -> #REF! | AD8: =SUMPRODUCT((#REF!=$O8)*(#REF!=AD$3)*#REF!) -> #REF! | AE8: =(AD8*$R8) -> #REF! | AF8: =SUMPRODUCT((#REF!=$O8)*(#REF!=AF$3)*#REF!) -> #REF! | AG8: =(AF8*$R8) -> #REF! | AH8: =SUMPRODUCT((#REF!=$O8)*(#REF!=AH$3)*#REF!) -> #REF! | AI8: =(AH8*$R8) -> #REF! | AJ8: =SUMPRODUCT((#REF!=$O8)*(#REF!=AJ$3)*#REF!) -> #REF! | AK8: =(AJ8*$R8) -> #REF! | AL8: =SUMPRODUCT((#REF!=$O8)*(#REF!=AL$3)*#REF!) -> #REF! | AM8: =(AL8*$R8) -> #REF! | AN8: =SUMPRODUCT((#REF!=$O8)*(#REF!=AN$3)*#REF!) -> #REF! | AO8: =(AN8*$R8) -> #REF! | AP8: =SUMPRODUCT((#REF!=$O8)*(#REF!=AP$3)*#REF!) -> #REF! | AQ8: =(AP8*$R8) -> #REF! | AR8: =SUMPRODUCT((#REF!=$O8)*(#REF!=AR$3)*#REF!) -> #REF! | AS8: =(AR8*$R8) -> #REF! | AT8: =SUMPRODUCT((#REF!=$O8)*(#REF!=AT$3)*#REF!) -> #REF! | AU8: =(AT8*$R8) -> #REF!
A9: =#REF! -> #REF! | B9: =#REF! -> #REF! | F9: 4 | G9: =SUM(C9:F9) -> 4 | J9: =SUM(H9:I9) -> 0 | O9: =#REF! -> #REF! | P9: =SUMPRODUCT(($O9=#REF!)*(#REF!)) -> #REF! | Q9: =#REF! -> #REF! | R9: =G9+J9 -> 4 | S9: =#REF! -> #REF! | T9: =SUMPRODUCT((#REF!=$O9)*(#REF!=T$3)*#REF!) -> #REF! | U9: =(T9*$R9) -> #REF! | V9: =SUMPRODUCT((#REF!=$O9)*(#REF!=V$3)*#REF!) -> #REF! | W9: =(V9*$R9) -> #REF! | X9: =SUMPRODUCT((#REF!=$O9)*(#REF!=X$3)*#REF!) -> #REF! | Y9: =(X9*$R9) -> #REF! | Z9: =SUMPRODUCT((#REF!=$O9)*(#REF!=Z$3)*#REF!) -> #REF! | AA9: =(Z9*$R9) -> #REF! | AB9: =SUMPRODUCT((#REF!=$O9)*(#REF!=AB$3)*#REF!) -> #REF! | AC9: =(AB9*$R9) -> #REF! | AD9: =SUMPRODUCT((#REF!=$O9)*(#REF!=AD$3)*#REF!) -> #REF! | AE9: =(AD9*$R9) -> #REF! | AF9: =SUMPRODUCT((#REF!=$O9)*(#REF!=AF$3)*#REF!) -> #REF! | AG9: =(AF9*$R9) -> #REF! | AH9: =SUMPRODUCT((#REF!=$O9)*(#REF!=AH$3)*#REF!) -> #REF! | AI9: =(AH9*$R9) -> #REF! | AJ9: =SUMPRODUCT((#REF!=$O9)*(#REF!=AJ$3)*#REF!) -> #REF! | AK9: =(AJ9*$R9) -> #REF! | AL9: =SUMPRODUCT((#REF!=$O9)*(#REF!=AL$3)*#REF!) -> #REF! | AM9: =(AL9*$R9) -> #REF! | AN9: =SUMPRODUCT((#REF!=$O9)*(#REF!=AN$3)*#REF!) -> #REF! | AO9: =(AN9*$R9) -> #REF! | AP9: =SUMPRODUCT((#REF!=$O9)*(#REF!=AP$3)*#REF!) -> #REF! | AQ9: =(AP9*$R9) -> #REF! | AR9: =SUMPRODUCT((#REF!=$O9)*(#REF!=AR$3)*#REF!) -> #REF! | AS9: =(AR9*$R9) -> #REF! | AT9: =SUMPRODUCT((#REF!=$O9)*(#REF!=AT$3)*#REF!) -> #REF! | AU9: =(AT9*$R9) -> #REF!
A10: =#REF! -> #REF! | B10: =#REF! -> #REF! | F10: 4 | G10: =SUM(C10:F10) -> 4 | J10: =SUM(H10:I10) -> 0 | O10: =#REF! -> #REF! | P10: =SUMPRODUCT(($O10=#REF!)*(#REF!)) -> #REF! | Q10: =#REF! -> #REF! | R10: =G10+J10 -> 4 | S10: =#REF! -> #REF! | T10: =SUMPRODUCT((#REF!=$O10)*(#REF!=T$3)*#REF!) -> #REF! | U10: =(T10*$R10) -> #REF! | V10: =SUMPRODUCT((#REF!=$O10)*(#REF!=V$3)*#REF!) -> #REF! | W10: =(V10*$R10) -> #REF! | X10: =SUMPRODUCT((#REF!=$O10)*(#REF!=X$3)*#REF!) -> #REF! | Y10: =(X10*$R10) -> #REF! | Z10: =SUMPRODUCT((#REF!=$O10)*(#REF!=Z$3)*#REF!) -> #REF! | AA10: =(Z10*$R10) -> #REF! | AB10: =SUMPRODUCT((#REF!=$O10)*(#REF!=AB$3)*#REF!) -> #REF! | AC10: =(AB10*$R10) -> #REF! | AD10: =SUMPRODUCT((#REF!=$O10)*(#REF!=AD$3)*#REF!) -> #REF! | AE10: =(AD10*$R10) -> #REF! | AF10: =SUMPRODUCT((#REF!=$O10)*(#REF!=AF$3)*#REF!) -> #REF! | AG10: =(AF10*$R10) -> #REF! | AH10: =SUMPRODUCT((#REF!=$O10)*(#REF!=AH$3)*#REF!) -> #REF! | AI10: =(AH10*$R10) -> #REF! | AJ10: =SUMPRODUCT((#REF!=$O10)*(#REF!=AJ$3)*#REF!) -> #REF! | AK10: =(AJ10*$R10) -> #REF! | AL10: =SUMPRODUCT((#REF!=$O10)*(#REF!=AL$3)*#REF!) -> #REF! | AM10: =(AL10*$R10) -> #REF! | AN10: =SUMPRODUCT((#REF!=$O10)*(#REF!=AN$3)*#REF!) -> #REF! | AO10: =(AN10*$R10) -> #REF! | AP10: =SUMPRODUCT((#REF!=$O10)*(#REF!=AP$3)*#REF!) -> #REF! | AQ10: =(AP10*$R10) -> #REF! | AR10: =SUMPRODUCT((#REF!=$O10)*(#REF!=AR$3)*#REF!) -> #REF! | AS10: =(AR10*$R10) -> #REF! | AT10: =SUMPRODUCT((#REF!=$O10)*(#REF!=AT$3)*#REF!) -> #REF! | AU10: =(AT10*$R10) -> #REF!
A11: =#REF! -> #REF! | B11: =#REF! -> #REF! | F11: 4 | G11: =SUM(C11:F11) -> 4 | J11: =SUM(H11:I11) -> 0 | O11: =#REF! -> #REF! | P11: =SUMPRODUCT(($O11=#REF!)*(#REF!)) -> #REF! | Q11: =#REF! -> #REF! | R11: =G11+J11 -> 4 | S11: =#REF! -> #REF! | T11: =SUMPRODUCT((#REF!=$O11)*(#REF!=T$3)*#REF!) -> #REF! | U11: =(T11*$R11) -> #REF! | V11: =SUMPRODUCT((#REF!=$O11)*(#REF!=V$3)*#REF!) -> #REF! | W11: =(V11*$R11) -> #REF! | X11: =SUMPRODUCT((#REF!=$O11)*(#REF!=X$3)*#REF!) -> #REF! | Y11: =(X11*$R11) -> #REF! | Z11: =SUMPRODUCT((#REF!=$O11)*(#REF!=Z$3)*#REF!) -> #REF! | AA11: =(Z11*$R11) -> #REF! | AB11: =SUMPRODUCT((#REF!=$O11)*(#REF!=AB$3)*#REF!) -> #REF! | AC11: =(AB11*$R11) -> #REF! | AD11: =SUMPRODUCT((#REF!=$O11)*(#REF!=AD$3)*#REF!) -> #REF! | AE11: =(AD11*$R11) -> #REF! | AF11: =SUMPRODUCT((#REF!=$O11)*(#REF!=AF$3)*#REF!) -> #REF! | AG11: =(AF11*$R11) -> #REF! | AH11: =SUMPRODUCT((#REF!=$O11)*(#REF!=AH$3)*#REF!) -> #REF! | AI11: =(AH11*$R11) -> #REF! | AJ11: =SUMPRODUCT((#REF!=$O11)*(#REF!=AJ$3)*#REF!) -> #REF! | AK11: =(AJ11*$R11) -> #REF! | AL11: =SUMPRODUCT((#REF!=$O11)*(#REF!=AL$3)*#REF!) -> #REF! | AM11: =(AL11*$R11) -> #REF! | AN11: =SUMPRODUCT((#REF!=$O11)*(#REF!=AN$3)*#REF!) -> #REF! | AO11: =(AN11*$R11) -> #REF! | AP11: =SUMPRODUCT((#REF!=$O11)*(#REF!=AP$3)*#REF!) -> #REF! | AQ11: =(AP11*$R11) -> #REF! | AR11: =SUMPRODUCT((#REF!=$O11)*(#REF!=AR$3)*#REF!) -> #REF! | AS11: =(AR11*$R11) -> #REF! | AT11: =SUMPRODUCT((#REF!=$O11)*(#REF!=AT$3)*#REF!) -> #REF! | AU11: =(AT11*$R11) -> #REF!
G12: =SUM(C12:F12) -> 0 | J12: =SUM(H12:I12) -> 0 | R12: =G12+J12 -> 0
A13: GIT-MSVR-VRS1PX | G13: =SUM(C13:F13) -> 0 | J13: =SUM(H13:I13) -> 0 | R13: =G13+J13 -> 0
A14: =#REF! -> #REF! | B14: =#REF! -> #REF! | F14: 100 | G14: =SUM(C14:F14) -> 100 | J14: =SUM(H14:I14) -> 0 | O14: 노무비없음 | P14: =SUMPRODUCT(($O14=#REF!)*(#REF!)) -> #REF! | Q14: =#REF! -> #REF! | R14: =G14+J14 -> 100 | S14: =#REF! -> #REF! | T14: =SUMPRODUCT((#REF!=$O14)*(#REF!=T$3)*#REF!) -> #REF! | U14: =(T14*$R14) -> #REF! | V14: =SUMPRODUCT((#REF!=$O14)*(#REF!=V$3)*#REF!) -> #REF! | W14: =(V14*$R14) -> #REF! | X14: =SUMPRODUCT((#REF!=$O14)*(#REF!=X$3)*#REF!) -> #REF! | Y14: =(X14*$R14) -> #REF! | Z14: =SUMPRODUCT((#REF!=$O14)*(#REF!=Z$3)*#REF!) -> #REF! | AA14: =(Z14*$R14) -> #REF! | AB14: =SUMPRODUCT((#REF!=$O14)*(#REF!=AB$3)*#REF!) -> #REF! | AC14: =(AB14*$R14) -> #REF! | AD14: =SUMPRODUCT((#REF!=$O14)*(#REF!=AD$3)*#REF!) -> #REF! | AE14: =(AD14*$R14) -> #REF! | AF14: =SUMPRODUCT((#REF!=$O14)*(#REF!=AF$3)*#REF!) -> #REF! | AG14: =(AF14*$R14) -> #REF! | AH14: =SUMPRODUCT((#REF!=$O14)*(#REF!=AH$3)*#REF!) -> #REF! | AI14: =(AH14*$R14) -> #REF! | AJ14: =SUMPRODUCT((#REF!=$O14)*(#REF!=AJ$3)*#REF!) -> #REF! | AK14: =(AJ14*$R14) -> #REF! | AL14: =SUMPRODUCT((#REF!=$O14)*(#REF!=AL$3)*#REF!) -> #REF! | AM14: =(AL14*$R14) -> #REF! | AN14: =SUMPRODUCT((#REF!=$O14)*(#REF!=AN$3)*#REF!) -> #REF! | AO14: =(AN14*$R14) -> #REF! | AP14: =SUMPRODUCT((#REF!=$O14)*(#REF!=AP$3)*#REF!) -> #REF! | AQ14: =(AP14*$R14) -> #REF! | AR14: =SUMPRODUCT((#REF!=$O14)*(#REF!=AR$3)*#REF!) -> #REF! | AS14: =(AR14*$R14) -> #REF! | AT14: =SUMPRODUCT((#REF!=$O14)*(#REF!=AT$3)*#REF!) -> #REF! | AU14: =(AT14*$R14) -> #REF!
A15: =#REF! -> #REF! | B15: =#REF! -> #REF! | F15: 1 | G15: =SUM(C15:F15) -> 1 | J15: =SUM(H15:I15) -> 0 | O15: =#REF! -> #REF! | P15: =SUMPRODUCT(($O15=#REF!)*(#REF!)) -> #REF! | Q15: =#REF! -> #REF! | R15: =G15+J15 -> 1 | S15: =#REF! -> #REF! | T15: =SUMPRODUCT((#REF!=$O15)*(#REF!=T$3)*#REF!) -> #REF! | U15: =(T15*$R15) -> #REF! | V15: =SUMPRODUCT((#REF!=$O15)*(#REF!=V$3)*#REF!) -> #REF! | W15: =(V15*$R15) -> #REF! | X15: =SUMPRODUCT((#REF!=$O15)*(#REF!=X$3)*#REF!) -> #REF! | Y15: =(X15*$R15) -> #REF! | Z15: =SUMPRODUCT((#REF!=$O15)*(#REF!=Z$3)*#REF!) -> #REF! | AA15: =(Z15*$R15) -> #REF! | AB15: =SUMPRODUCT((#REF!=$O15)*(#REF!=AB$3)*#REF!) -> #REF! | AC15: =(AB15*$R15) -> #REF! | AD15: =SUMPRODUCT((#REF!=$O15)*(#REF!=AD$3)*#REF!) -> #REF! | AE15: =(AD15*$R15) -> #REF! | AF15: =SUMPRODUCT((#REF!=$O15)*(#REF!=AF$3)*#REF!) -> #REF! | AG15: =(AF15*$R15) -> #REF! | AH15: =SUMPRODUCT((#REF!=$O15)*(#REF!=AH$3)*#REF!) -> #REF! | AI15: =(AH15*$R15) -> #REF! | AJ15: =SUMPRODUCT((#REF!=$O15)*(#REF!=AJ$3)*#REF!) -> #REF! | AK15: =(AJ15*$R15) -> #REF! | AL15: =SUMPRODUCT((#REF!=$O15)*(#REF!=AL$3)*#REF!) -> #REF! | AM15: =(AL15*$R15) -> #REF! | AN15: =SUMPRODUCT((#REF!=$O15)*(#REF!=AN$3)*#REF!) -> #REF! | AO15: =(AN15*$R15) -> #REF! | AP15: =SUMPRODUCT((#REF!=$O15)*(#REF!=AP$3)*#REF!) -> #REF! | AQ15: =(AP15*$R15) -> #REF! | AR15: =SUMPRODUCT((#REF!=$O15)*(#REF!=AR$3)*#REF!) -> #REF! | AS15: =(AR15*$R15) -> #REF! | AT15: =SUMPRODUCT((#REF!=$O15)*(#REF!=AT$3)*#REF!) -> #REF! | AU15: =(AT15*$R15) -> #REF!
A16: =#REF! -> #REF! | B16: =#REF! -> #REF! | F16: 1 | G16: =SUM(C16:F16) -> 1 | J16: =SUM(H16:I16) -> 0 | O16: =#REF! -> #REF! | P16: =SUMPRODUCT(($O16=#REF!)*(#REF!)) -> #REF! | Q16: =#REF! -> #REF! | R16: =G16+J16 -> 1 | S16: =#REF! -> #REF! | T16: =SUMPRODUCT((#REF!=$O16)*(#REF!=T$3)*#REF!) -> #REF! | U16: =(T16*$R16) -> #REF! | V16: =SUMPRODUCT((#REF!=$O16)*(#REF!=V$3)*#REF!) -> #REF! | W16: =(V16*$R16) -> #REF! | X16: =SUMPRODUCT((#REF!=$O16)*(#REF!=X$3)*#REF!) -> #REF! | Y16: =(X16*$R16) -> #REF! | Z16: =SUMPRODUCT((#REF!=$O16)*(#REF!=Z$3)*#REF!) -> #REF! | AA16: =(Z16*$R16) -> #REF! | AB16: =SUMPRODUCT((#REF!=$O16)*(#REF!=AB$3)*#REF!) -> #REF! | AC16: =(AB16*$R16) -> #REF! | AD16: =SUMPRODUCT((#REF!=$O16)*(#REF!=AD$3)*#REF!) -> #REF! | AE16: =(AD16*$R16) -> #REF! | AF16: =SUMPRODUCT((#REF!=$O16)*(#REF!=AF$3)*#REF!) -> #REF! | AG16: =(AF16*$R16) -> #REF! | AH16: =SUMPRODUCT((#REF!=$O16)*(#REF!=AH$3)*#REF!) -> #REF! | AI16: =(AH16*$R16) -> #REF! | AJ16: =SUMPRODUCT((#REF!=$O16)*(#REF!=AJ$3)*#REF!) -> #REF! | AK16: =(AJ16*$R16) -> #REF! | AL16: =SUMPRODUCT((#REF!=$O16)*(#REF!=AL$3)*#REF!) -> #REF! | AM16: =(AL16*$R16) -> #REF! | AN16: =SUMPRODUCT((#REF!=$O16)*(#REF!=AN$3)*#REF!) -> #REF! | AO16: =(AN16*$R16) -> #REF! | AP16: =SUMPRODUCT((#REF!=$O16)*(#REF!=AP$3)*#REF!) -> #REF! | AQ16: =(AP16*$R16) -> #REF! | AR16: =SUMPRODUCT((#REF!=$O16)*(#REF!=AR$3)*#REF!) -> #REF! | AS16: =(AR16*$R16) -> #REF! | AT16: =SUMPRODUCT((#REF!=$O16)*(#REF!=AT$3)*#REF!) -> #REF! | AU16: =(AT16*$R16) -> #REF!
A18: GIT-MSVR-IPD2
A19: =#REF! -> #REF! | B19: =#REF! -> #REF! | G19: =SUM(C19:F19) -> 0 | I19: 1 | J19: =SUM(H19:I19) -> 1 | O19: 노무비없음 | P19: =SUMPRODUCT(($O19=#REF!)*(#REF!)) -> #REF! | Q19: =#REF! -> #REF! | R19: =G19+J19 -> 1 | S19: =#REF! -> #REF! | T19: =SUMPRODUCT((#REF!=$O19)*(#REF!=T$3)*#REF!) -> #REF! | U19: =(T19*$R19) -> #REF! | V19: =SUMPRODUCT((#REF!=$O19)*(#REF!=V$3)*#REF!) -> #REF! | W19: =(V19*$R19) -> #REF! | X19: =SUMPRODUCT((#REF!=$O19)*(#REF!=X$3)*#REF!) -> #REF! | Y19: =(X19*$R19) -> #REF! | Z19: =SUMPRODUCT((#REF!=$O19)*(#REF!=Z$3)*#REF!) -> #REF! | AA19: =(Z19*$R19) -> #REF! | AB19: =SUMPRODUCT((#REF!=$O19)*(#REF!=AB$3)*#REF!) -> #REF! | AC19: =(AB19*$R19) -> #REF! | AD19: =SUMPRODUCT((#REF!=$O19)*(#REF!=AD$3)*#REF!) -> #REF! | AE19: =(AD19*$R19) -> #REF! | AF19: =SUMPRODUCT((#REF!=$O19)*(#REF!=AF$3)*#REF!) -> #REF! | AG19: =(AF19*$R19) -> #REF! | AH19: =SUMPRODUCT((#REF!=$O19)*(#REF!=AH$3)*#REF!) -> #REF! | AI19: =(AH19*$R19) -> #REF! | AJ19: =SUMPRODUCT((#REF!=$O19)*(#REF!=AJ$3)*#REF!) -> #REF! | AK19: =(AJ19*$R19) -> #REF! | AL19: =SUMPRODUCT((#REF!=$O19)*(#REF!=AL$3)*#REF!) -> #REF! | AM19: =(AL19*$R19) -> #REF! | AN19: =SUMPRODUCT((#REF!=$O19)*(#REF!=AN$3)*#REF!) -> #REF! | AO19: =(AN19*$R19) -> #REF! | AP19: =SUMPRODUCT((#REF!=$O19)*(#REF!=AP$3)*#REF!) -> #REF! | AQ19: =(AP19*$R19) -> #REF! | AR19: =SUMPRODUCT((#REF!=$O19)*(#REF!=AR$3)*#REF!) -> #REF! | AS19: =(AR19*$R19) -> #REF! | AT19: =SUMPRODUCT((#REF!=$O19)*(#REF!=AT$3)*#REF!) -> #REF! | AU19: =(AT19*$R19) -> #REF!
A20: =#REF! -> #REF! | B20: =#REF! -> #REF! | G20: =SUM(C20:F20) -> 0 | I20: 1 | J20: =SUM(H20:I20) -> 1 | O20: =#REF! -> #REF! | P20: =SUMPRODUCT(($O20=#REF!)*(#REF!)) -> #REF! | Q20: =#REF! -> #REF! | R20: =G20+J20 -> 1 | S20: =#REF! -> #REF! | T20: =SUMPRODUCT((#REF!=$O20)*(#REF!=T$3)*#REF!) -> #REF! | U20: =(T20*$R20) -> #REF! | V20: =SUMPRODUCT((#REF!=$O20)*(#REF!=V$3)*#REF!) -> #REF! | W20: =(V20*$R20) -> #REF! | X20: =SUMPRODUCT((#REF!=$O20)*(#REF!=X$3)*#REF!) -> #REF! | Y20: =(X20*$R20) -> #REF! | Z20: =SUMPRODUCT((#REF!=$O20)*(#REF!=Z$3)*#REF!) -> #REF! | AA20: =(Z20*$R20) -> #REF! | AB20: =SUMPRODUCT((#REF!=$O20)*(#REF!=AB$3)*#REF!) -> #REF! | AC20: =(AB20*$R20) -> #REF! | AD20: =SUMPRODUCT((#REF!=$O20)*(#REF!=AD$3)*#REF!) -> #REF! | AE20: =(AD20*$R20) -> #REF! | AF20: =SUMPRODUCT((#REF!=$O20)*(#REF!=AF$3)*#REF!) -> #REF! | AG20: =(AF20*$R20) -> #REF! | AH20: =SUMPRODUCT((#REF!=$O20)*(#REF!=AH$3)*#REF!) -> #REF! | AI20: =(AH20*$R20) -> #REF! | AJ20: =SUMPRODUCT((#REF!=$O20)*(#REF!=AJ$3)*#REF!) -> #REF! | AK20: =(AJ20*$R20) -> #REF! | AL20: =SUMPRODUCT((#REF!=$O20)*(#REF!=AL$3)*#REF!) -> #REF! | AM20: =(AL20*$R20) -> #REF! | AN20: =SUMPRODUCT((#REF!=$O20)*(#REF!=AN$3)*#REF!) -> #REF! | AO20: =(AN20*$R20) -> #REF! | AP20: =SUMPRODUCT((#REF!=$O20)*(#REF!=AP$3)*#REF!) -> #REF! | AQ20: =(AP20*$R20) -> #REF! | AR20: =SUMPRODUCT((#REF!=$O20)*(#REF!=AR$3)*#REF!) -> #REF! | AS20: =(AR20*$R20) -> #REF! | AT20: =SUMPRODUCT((#REF!=$O20)*(#REF!=AT$3)*#REF!) -> #REF! | AU20: =(AT20*$R20) -> #REF!
A21: =#REF! -> #REF! | B21: =#REF! -> #REF! | G21: =SUM(C21:F21) -> 0 | I21: 1 | J21: =SUM(H21:I21) -> 1 | O21: 노무비없음 | P21: =SUMPRODUCT(($O21=#REF!)*(#REF!)) -> #REF! | Q21: =#REF! -> #REF! | R21: =G21+J21 -> 1 | S21: =#REF! -> #REF! | T21: =SUMPRODUCT((#REF!=$O21)*(#REF!=T$3)*#REF!) -> #REF! | U21: =(T21*$R21) -> #REF! | V21: =SUMPRODUCT((#REF!=$O21)*(#REF!=V$3)*#REF!) -> #REF! | W21: =(V21*$R21) -> #REF! | X21: =SUMPRODUCT((#REF!=$O21)*(#REF!=X$3)*#REF!) -> #REF! | Y21: =(X21*$R21) -> #REF! | Z21: =SUMPRODUCT((#REF!=$O21)*(#REF!=Z$3)*#REF!) -> #REF! | AA21: =(Z21*$R21) -> #REF! | AB21: =SUMPRODUCT((#REF!=$O21)*(#REF!=AB$3)*#REF!) -> #REF! | AC21: =(AB21*$R21) -> #REF! | AD21: =SUMPRODUCT((#REF!=$O21)*(#REF!=AD$3)*#REF!) -> #REF! | AE21: =(AD21*$R21) -> #REF! | AF21: =SUMPRODUCT((#REF!=$O21)*(#REF!=AF$3)*#REF!) -> #REF! | AG21: =(AF21*$R21) -> #REF! | AH21: =SUMPRODUCT((#REF!=$O21)*(#REF!=AH$3)*#REF!) -> #REF! | AI21: =(AH21*$R21) -> #REF! | AJ21: =SUMPRODUCT((#REF!=$O21)*(#REF!=AJ$3)*#REF!) -> #REF! | AK21: =(AJ21*$R21) -> #REF! | AL21: =SUMPRODUCT((#REF!=$O21)*(#REF!=AL$3)*#REF!) -> #REF! | AM21: =(AL21*$R21) -> #REF! | AN21: =SUMPRODUCT((#REF!=$O21)*(#REF!=AN$3)*#REF!) -> #REF! | AO21: =(AN21*$R21) -> #REF! | AP21: =SUMPRODUCT((#REF!=$O21)*(#REF!=AP$3)*#REF!) -> #REF! | AQ21: =(AP21*$R21) -> #REF! | AR21: =SUMPRODUCT((#REF!=$O21)*(#REF!=AR$3)*#REF!) -> #REF! | AS21: =(AR21*$R21) -> #REF! | AT21: =SUMPRODUCT((#REF!=$O21)*(#REF!=AT$3)*#REF!) -> #REF! | AU21: =(AT21*$R21) -> #REF!
G22: =SUM(C22:F22) -> 0 | J22: =SUM(H22:I22) -> 0 | R22: =G22+J22 -> 0
G23: =SUM(C23:F23) -> 0 | J23: =SUM(H23:I23) -> 0 | R23: =G23+J23 -> 0
G24: =SUM(C24:F24) -> 0 | J24: =SUM(H24:I24) -> 0 | R24: =G24+J24 -> 0
A25: 02.옵션품목
A26: =#REF! -> #REF! | B26: =#REF! -> #REF! | C26: 189 | D26: 1 | E26: 19 | G26: =SUM(C26:F26) -> 209 | I26: 13 | J26: =SUM(H26:I26) -> 13 | O26: =#REF! -> #REF! | P26: =SUMPRODUCT(($O26=#REF!)*(#REF!)) -> #REF! | Q26: =#REF! -> #REF! | R26: =G26+J26 -> 222 | S26: =#REF! -> #REF! | T26: =SUMPRODUCT((#REF!=$O26)*(#REF!=T$3)*#REF!) -> #REF! | U26: =(T26*$R26) -> #REF! | V26: =SUMPRODUCT((#REF!=$O26)*(#REF!=V$3)*#REF!) -> #REF! | W26: =(V26*$R26) -> #REF! | X26: =SUMPRODUCT((#REF!=$O26)*(#REF!=X$3)*#REF!) -> #REF! | Y26: =(X26*$R26) -> #REF! | Z26: =SUMPRODUCT((#REF!=$O26)*(#REF!=Z$3)*#REF!) -> #REF! | AA26: =(Z26*$R26) -> #REF! | AB26: =SUMPRODUCT((#REF!=$O26)*(#REF!=AB$3)*#REF!) -> #REF! | AC26: =(AB26*$R26) -> #REF! | AD26: =SUMPRODUCT((#REF!=$O26)*(#REF!=AD$3)*#REF!) -> #REF! | AE26: =(AD26*$R26) -> #REF! | AF26: =SUMPRODUCT((#REF!=$O26)*(#REF!=AF$3)*#REF!) -> #REF! | AG26: =(AF26*$R26) -> #REF! | AH26: =SUMPRODUCT((#REF!=$O26)*(#REF!=AH$3)*#REF!) -> #REF! | AI26: =(AH26*$R26) -> #REF! | AJ26: =SUMPRODUCT((#REF!=$O26)*(#REF!=AJ$3)*#REF!) -> #REF! | AK26: =(AJ26*$R26) -> #REF! | AL26: =SUMPRODUCT((#REF!=$O26)*(#REF!=AL$3)*#REF!) -> #REF! | AM26: =(AL26*$R26) -> #REF! | AN26: =SUMPRODUCT((#REF!=$O26)*(#REF!=AN$3)*#REF!) -> #REF! | AO26: =(AN26*$R26) -> #REF! | AP26: =SUMPRODUCT((#REF!=$O26)*(#REF!=AP$3)*#REF!) -> #REF! | AQ26: =(AP26*$R26) -> #REF! | AR26: =SUMPRODUCT((#REF!=$O26)*(#REF!=AR$3)*#REF!) -> #REF! | AS26: =(AR26*$R26) -> #REF! | AT26: =SUMPRODUCT((#REF!=$O26)*(#REF!=AT$3)*#REF!) -> #REF! | AU26: =(AT26*$R26) -> #REF!
A27: =#REF! -> #REF! | B27: =#REF! -> #REF! | C27: 44 | D27: 2 | G27: =SUM(C27:F27) -> 46 | J27: =SUM(H27:I27) -> 0 | O27: =#REF! -> #REF! | P27: =SUMPRODUCT(($O27=#REF!)*(#REF!)) -> #REF! | Q27: =#REF! -> #REF! | R27: =G27+J27 -> 46 | S27: =#REF! -> #REF! | T27: =SUMPRODUCT((#REF!=$O27)*(#REF!=T$3)*#REF!) -> #REF! | U27: =(T27*$R27) -> #REF! | V27: =SUMPRODUCT((#REF!=$O27)*(#REF!=V$3)*#REF!) -> #REF! | W27: =(V27*$R27) -> #REF! | X27: =SUMPRODUCT((#REF!=$O27)*(#REF!=X$3)*#REF!) -> #REF! | Y27: =(X27*$R27) -> #REF! | Z27: =SUMPRODUCT((#REF!=$O27)*(#REF!=Z$3)*#REF!) -> #REF! | AA27: =(Z27*$R27) -> #REF! | AB27: =SUMPRODUCT((#REF!=$O27)*(#REF!=AB$3)*#REF!) -> #REF! | AC27: =(AB27*$R27) -> #REF! | AD27: =SUMPRODUCT((#REF!=$O27)*(#REF!=AD$3)*#REF!) -> #REF! | AE27: =(AD27*$R27) -> #REF! | AF27: =SUMPRODUCT((#REF!=$O27)*(#REF!=AF$3)*#REF!) -> #REF! | AG27: =(AF27*$R27) -> #REF! | AH27: =SUMPRODUCT((#REF!=$O27)*(#REF!=AH$3)*#REF!) -> #REF! | AI27: =(AH27*$R27) -> #REF! | AJ27: =SUMPRODUCT((#REF!=$O27)*(#REF!=AJ$3)*#REF!) -> #REF! | AK27: =(AJ27*$R27) -> #REF! | AL27: =SUMPRODUCT((#REF!=$O27)*(#REF!=AL$3)*#REF!) -> #REF! | AM27: =(AL27*$R27) -> #REF! | AN27: =SUMPRODUCT((#REF!=$O27)*(#REF!=AN$3)*#REF!) -> #REF! | AO27: =(AN27*$R27) -> #REF! | AP27: =SUMPRODUCT((#REF!=$O27)*(#REF!=AP$3)*#REF!) -> #REF! | AQ27: =(AP27*$R27) -> #REF! | AR27: =SUMPRODUCT((#REF!=$O27)*(#REF!=AR$3)*#REF!) -> #REF! | AS27: =(AR27*$R27) -> #REF! | AT27: =SUMPRODUCT((#REF!=$O27)*(#REF!=AT$3)*#REF!) -> #REF! | AU27: =(AT27*$R27) -> #REF!
A28: =#REF! -> #REF! | B28: =#REF! -> #REF! | C28: 38 | G28: =SUM(C28:F28) -> 38 | J28: =SUM(H28:I28) -> 0 | O28: =#REF! -> #REF! | P28: =SUMPRODUCT(($O28=#REF!)*(#REF!)) -> #REF! | Q28: =#REF! -> #REF! | R28: =G28+J28 -> 38 | S28: =#REF! -> #REF! | T28: =SUMPRODUCT((#REF!=$O28)*(#REF!=T$3)*#REF!) -> #REF! | U28: =(T28*$R28) -> #REF! | V28: =SUMPRODUCT((#REF!=$O28)*(#REF!=V$3)*#REF!) -> #REF! | W28: =(V28*$R28) -> #REF! | X28: =SUMPRODUCT((#REF!=$O28)*(#REF!=X$3)*#REF!) -> #REF! | Y28: =(X28*$R28) -> #REF! | Z28: =SUMPRODUCT((#REF!=$O28)*(#REF!=Z$3)*#REF!) -> #REF! | AA28: =(Z28*$R28) -> #REF! | AB28: =SUMPRODUCT((#REF!=$O28)*(#REF!=AB$3)*#REF!) -> #REF! | AC28: =(AB28*$R28) -> #REF! | AD28: =SUMPRODUCT((#REF!=$O28)*(#REF!=AD$3)*#REF!) -> #REF! | AE28: =(AD28*$R28) -> #REF! | AF28: =SUMPRODUCT((#REF!=$O28)*(#REF!=AF$3)*#REF!) -> #REF! | AG28: =(AF28*$R28) -> #REF! | AH28: =SUMPRODUCT((#REF!=$O28)*(#REF!=AH$3)*#REF!) -> #REF! | AI28: =(AH28*$R28) -> #REF! | AJ28: =SUMPRODUCT((#REF!=$O28)*(#REF!=AJ$3)*#REF!) -> #REF! | AK28: =(AJ28*$R28) -> #REF! | AL28: =SUMPRODUCT((#REF!=$O28)*(#REF!=AL$3)*#REF!) -> #REF! | AM28: =(AL28*$R28) -> #REF! | AN28: =SUMPRODUCT((#REF!=$O28)*(#REF!=AN$3)*#REF!) -> #REF! | AO28: =(AN28*$R28) -> #REF! | AP28: =SUMPRODUCT((#REF!=$O28)*(#REF!=AP$3)*#REF!) -> #REF! | AQ28: =(AP28*$R28) -> #REF! | AR28: =SUMPRODUCT((#REF!=$O28)*(#REF!=AR$3)*#REF!) -> #REF! | AS28: =(AR28*$R28) -> #REF! | AT28: =SUMPRODUCT((#REF!=$O28)*(#REF!=AT$3)*#REF!) -> #REF! | AU28: =(AT28*$R28) -> #REF!
