Workbook
Name _: #REF!
Name __: #REF!
Name ___: #REF!
Name ____: #REF!
Name _____: #REF!
Name ______: #REF!
Name _______: #REF!
Name __________: #REF!
Name _____________0: #REF!
Name _____________11: #REF!
Name _____________12: #REF!
Name __________0: #REF!
Name __________11: #REF!
Name __________12: #REF!
Name _________0: #REF!
Name _________10: #REF!
Name _________11: #REF!
Name _________12: #REF!
Name ________0: #REF!
Name ________10: #REF!
Name ________11: #REF!
Name ________12: #REF!
Name _______0: #REF!
Name ______0: #REF!
Name ______11: #REF!
Name ______12: #REF!
Name _____0: #REF!
Name _____10: #REF!
Name _____11: #REF!
Name _____12: #REF!
Name ____0: #REF!
Name ____1: #REF!
Name ____10: #REF!
Name ____11: #REF!
Name ____12: #REF!
Name ____2: #REF!
Name ____3: #REF!
Name ____4: #REF!
Name ____5: #REF!
Name ____7: #REF!
Name ____8: #REF!
Name ____9: #REF!
Name __A1: #REF!
Name __A2: #REF!
Name __A3: #REF!
Name __A4: #REF!
Name __A5: #REF!
Name __A6: [1]증감대비!$A$1:$F$83
Name __A7: [1]증감대비!$A$1:$F$83
Name __A8: #REF!
Name __gap1: #REF!
Name __gap2: #REF!
Name __ksg1: #REF!
Name __NMB96: #REF!
Name __pa1: #REF!
Name __pa2: #REF!
Name __PE1: #REF!
Name __PE10: #REF!
Name __PE11: #REF!
Name __PE12: #REF!

Sheet 설계갑지
B2: 설계년월일 2019년 2월 일 | C2: 설 계 | D2: 양정열 | E2: 심 사 | F2: 한기종 | G2: 부 장 | H2: 임성철 | I2: 처장 | J2: 신병태 | K2: 운 영 본부장 | L2: 박규탁
C5: 에스컬레이터 스텝체인 교체 공사 설계내역서 | N5: 설 계 서 ∧ 갑 ∨
B6: 2019년도
C8: ◎ 개요
C9: -오티스, 동양, 현대 에스컬레이터 스텝체인 1,682 unit 교체 등
N16: 부 산 교 통 공 사
B18: 일 금 오억사천이백오십오만원(\542,550,000원) 총 공사비 부가세포함
B20: 일 금 원정 도 급 액
B22: 일 금 원정 관 급 자 재 대
B24: 일 금 원정 강 재 대 여 료
B26: 일 금 원정 부 대 경 비

Sheet 물량내역서
A1: 물 량 내 역 서
A2: ◈공사명 : 2019년 에스컬레이터 스텝체인교체 공사
A3: 품 명 | B3: 규 격 | C3: 수량 | D3: 단위 | E3: 재료비 | G3: 노무비 | I3: 경비 | K3: 경비 | M3: 비고
E4: 단가 | F4: 금액 | G4: 단가 | H4: 금액 | I4: 단가 | J4: 금액 | K4: 단가 | L4: 금액
A5: =#REF! -> #REF! | C5: 0 | D5: 대 | G5: =#REF! -> #REF! | H5: =INT(C5*G5) -> #REF! | K5: =#REF! -> #REF! | L5: =INT(G5*K5) -> #REF! | M5: 호표1
A6: =[350]기초산출서!A5 -> 역회전 방지기 분해 철거 및 설치 | B6: =[350]기초산출서!B5 -> 역회전 방지기 ASSY | C6: 17 | D6: 대
A7: =[350]기초산출서!A6 -> 안전솔 철거, 설치 | C7: 68 | D7: 개
A8: =[350]기초산출서!A7 -> 스커드 판넬 분해 철거 및 설치 | C8: 68 | D8: 장
A9: =[350]기초산출서!A10 -> 스텝 분해 철거 및 설치 | B9: =[350]기초산출서!B10 -> 800형 스텝 | C9: 359 | D9: 장
A10: =[350]기초산출서!A11 -> 스텝청소 | B10: =[350]기초산출서!B11 -> 800형 스텝 | C10: 359 | D10: 장
A11: =[350]기초산출서!A12 -> 스텝 분해 철거 및 설치 | B11: =[350]기초산출서!B12 -> 1200형 스텝 | C11: 1323 | D11: 장
A12: =[350]기초산출서!A13 -> 스텝청소 | B12: =[350]기초산출서!B13 -> 1200형 스텝 | C12: 1323 | D12: 장
A13: =[350]기초산출서!A8 -> 하부 원형레일 분해 철거 및 설치(동양) | B13: 원형레일(동양용) | C13: 3 | D13: 대
A14: 스텝체인 ASSY 철거 및 설치 | B14: 후지텍 800형, 22T | C14: 0 | D14: UNIT
B15: 후지텍 1200형, 22T | C15: 0 | D15: UNIT
B16: 오티스 800형, C13T | C16: 0 | D16: UNIT
B17: 오티스 1200형, C13T | C17: 58 | D17: UNIT
B18: 오티스 800형, C16T | C18: 0 | D18: UNIT
B19: 오티스 1200형, C16T | C19: 319 | D19: UNIT
B20: 오티스 800형, C19T | C20: 0 | D20: UNIT
B21: 오티스 1200형, C19T | C21: 0 | D21: UNIT
B22: 동양 800형, 15T | C22: 0 | D22: UNIT
B23: 동양 1200형, 15T | C23: 117 | D23: UNIT
B24: 동양 800형, 22T | C24: 124 | D24: UNIT
B25: 동양 1200형, 22T | C25: 186 | D25: UNIT
B26: 동양 800형, 28T | C26: 235 | D26: UNIT
... B31: 현대 1200형, 19T | C31: 0 | D31: UNIT
A32: =[350]기초산출서!A32 -> 주행로 및 트러스 청소 | B32: =[350]기초산출서!B32 -> 층고 4M기준 | C32: 23 | D32: 식
A33: =[350]기초산출서!A9 -> 시운전 | C33: 17 | D33: 대
A34: 운반비 | B34: 외부↔승강장 | C34: 0 | D34: kg
B35: 외부↔대합실 | C35: 0 | D35: kg
A36: [합 계]
A38: 견적가 | F38: =F13+F14+F15+#REF!+F19+F25+#REF!+F30+F24 -> #REF!

Sheet 공사대상호기
A1: 공사대상호기
A2: ◈공사명 : 2019년 에스컬레이터 스텝체인교체 공사
A3: 역명 | B3: 호기 | C3: 층고(M) | D3: 스텝종류 | E3: 스텝개수 | F3: 스텝체인 톤수 | G3: 스텝체인 UNIT 수 | H3: 1UNIT 무게(KG) | I3: 스텝체인 총무게(KG) | J3: 이동 동선 | K3: 층고4M기준할증식 (1M당 10% 할증) | L3: 제작사 | M3: 비고
A4: 남포 | B4: 4 | C4: 4.3 | D4: 1200 | E4: 58 | F4: C13T | G4: 58 | J4: 승↔대 | K4: 1 | L4: OTIS | M4: 1호선
A5: 서대신 | B5: 4 | C5: 9.2 | D5: 1200 | E5: 108 | F5: C16T | G5: 108 | J5: 승↔대 | K5: 1.5 | L5: OTIS | M5: 1호선
A6: 서대신 | B6: 5 | C6: 9.2 | D6: 1200 | E6: 108 | F6: C16T | G6: 108 | J6: 승↔대 | K6: 1.5 | L6: OTIS | M6: 1호선
A7: 1서면 | B7: 2 | C7: 9.1 | D7: 1200 | E7: 103 | F7: C16T | G7: 103 | J7: 외↔대 | K7: 1.5 | L7: OTIS | M7: 1호선
A8: 종합운동장 | B8: 9 | C8: 4.8 | D8: 1200 | E8: 59 | F8: 15T | G8: 59 | J8: 승↔대 | K8: 1 | L8: 동양 | M8: 3호선
A9: 구포 | B9: 1 | C9: 4.3 | D9: 1200 | E9: 58 | F9: 15T | G9: 58 | J9: 외↔외 | K9: 1 | L9: 동양 | M9: 3호선
A10: 종합운동장 | B10: 1 | C10: 6.8 | D10: 1200 | E10: 90 | F10: 22T | G10: 90 | J10: 외↔대 | K10: 1.2 | L10: 동양 | M10: 3호선
A11: 종합운동장 | B11: 5 | C11: 7.3 | D11: 1200 | E11: 96 | F11: 22T | G11: 96 | J11: 외↔대 | K11: 1.3 | L11: 동양 | M11: 3호선
A12: 거제 | B12: 4 | C12: 10 | D12: 800 | E12: 124 | F12: 22T | G12: 124 | J12: 외↔대 | K12: 1.6 | L12: 동양 | M12: 3호선
A13: 지게골 | B13: 5 | C13: 9.4 | D13: 1200 | E13: 119 | F13: 28T | G13: 119 | J13: 승↔대 | K13: 1.5 | L13: 동양 | M13: 2호선
A14: 지게골 | B14: 6 | C14: 9.4 | D14: 800 | E14: 119 | F14: 28T | G14: 119 | J14: 승↔대 | K14: 1.5 | L14: 동양 | M14: 2호선
A15: 문현 | B15: 2 | C15: 9.2 | D15: 800 | E15: 116 | F15: 28T | G15: 116 | J15: 승↔대 | K15: 1.5 | L15: 동양 | M15: 2호선
... A20: 양산 | B20: 1 | C20: 6.4 | D20: 1200 | E20: 84 | F20: 15T | G20: 84 | J20: 대↔대 | K20: 1.2 | L20: 현대 | M20: 2호선
A21: 합계 | D21: 800 | E21: =E12+E14+E15 -> 359 | K21: =SUM(K4:K20) -> 23
D22: 1200 | E22: =E4+E5+E6+E7+E8+E9+E10+E11+E13+E16+E17+E18+E19+E20 -> 1323

Sheet 스텝체인 도면
