Workbook
Name MIN.XLS: [1]!복사

Sheet 원가계산
A1: 원 가 계 산 서
A2: 건 명 : 상주중앙초등학교 체육관 계단겸용 휠체어리프트 제작/설치
A3: ="설치금액 : 일금"&NUMBERSTRING(D3,1)&"원정" -> 설치금액 : 일금영원정 | D3: =D34 -> 0
A5: 구 분 | B5: 구 성 비 | D5: 금 액
A6: 1. 총 원 가 | B6: 가 + 나 + 다 | D6: =D7+D10+D13 -> 0
A7: 가. 재 료 비 | D7: =D8+D9 -> 0
A8: 1) 직접재료비 | D8: =공종별집계표!F7 -> 0
A9: 2) 부산물공제
A10: 나. 노 무 비 | D10: =D11+D12 -> 0
A11: 1) 직접노무비 | D11: =공종별집계표!H7 -> 0
A12: 2) 간접노무비 | B12: 나 1) 의 | C12: 0.079 | D12: =INT(D11*C12) -> 0
A13: 다. 경 비 | D13: =SUM(D14:D25) -> 0
A14: 1) 산출경비 | D14: =공종별집계표!J7 -> 0
A15: 2) 산재보험료 | B15: 나 의 | C15: 0.0375 | D15: =INT((D10*C15)) -> 0
A16: 3) 안전관리비 | B16: 가 + 나 1) 의 | C16: 0.0293 | D16: =INT((D7+D11)*C16) -> 0
A17: 4) 고용보험료 | B17: 나 의 | C17: 0.0087 | D17: =INT((D10)*C17) -> 0
A18: 5) 건강보험료 | B18: 나 1)의 | C18: 0.0323 | D18: =INT((D11)*C18) -> 0
A19: 6) 연금보험료 | B19: 나 1)의 | C19: 0.045 | D19: =INT((D11)*C19) -> 0
A20: 7) 노인장기요양보험 | B20: 다 5)의 | C20: 0.0851 | D20: =INT(D18*C20) -> 0
A21: 8) 퇴직공제부금비 | B21: 나 1)의 | C21: 0 | D21: =INT(D11*C21) -> 0
A22: 9) 환경보전비 | B22: 가 + 나 1) + 다 1)의 | C22: 0 | D22: =INT((D7+D11+D14)*C22) -> 0
A23: 10) 기타경비 | B23: 가 + 나 의 | C23: 0.055 | D23: =INT((D7+D10)*C23) -> 0
C24: 0 | D24: =INT((D7+D11+D14)*C24) -> 0
C25: 0 | D25: =INT((D7+D11+D14)*C25) -> 0
A26: 2. 일 반 관 리 비 | B26: 1 의 | C26: 0.06 | D26: =INT(D6*C26) -> 0
A27: 3. 이 윤 | B27: 1 의 나 + 1 의 다 + 2 의 | C27: 0.15
A28: 4. 폐 기 물 처 리 비
A29: 5. 소 계 | B29: 1 + 2 + 3 + 4 | D29: =SUM(+D6+D26+D27+D28) -> 0
A30: 6. 주 요 자 재 대 | D30: 0
A31: 7. 부 가 가 치 세 | B31: 5 + 6 의 | C31: 0.1
A32: 8. 합 계 | B32: 5 + 6 + 7 | D32: =D29+D30+D31 -> 0
A33: 9. 관 급 자 재 대
A34: 10. 총 합 계 | B34: 8 + 9(십만단위이하 절사)
D38: =3300*1.1 -> 3630

Sheet 공종별집계표
A1: 공 종 별 집 계 표
A2: =원가계산!A2 -> 건 명 : 상주중앙초등학교 체육관 계단겸용 휠체어리프트 제작/설치
A3: 품 명 | B3: 규 격 | C3: 단위 | D3: 수량 | E3: 재 료 비 | G3: 노 무 비 | I3: 경 비 | K3: 합 계 | M3: 비 고 | N3: 공종코드 | O3: 변수 | P3: 상위공종 | Q3: 공종구분 | R3: 공종레벨 | S3: 공종소계 | T3: 원가계산서 연결금액
E4: 단 가 | F4: 금 액 | G4: 단 가 | H4: 금 액 | I4: 단 가 | J4: 금 액 | K4: 단 가 | L4: 금 액
A5: 01 서귀포시 교육지원청 | N5: 01 | R5: 1
A6: 0101 리프트 설치공사 | D6: 1 | E6: =F7 -> 0 | F6: =E6*D6 -> 0 | G6: =H7 -> 0 | H6: =G6*D6 -> 0 | I6: =J7 -> 0 | J6: =I6*D6 -> 0 | K6: =I6+G6+E6 -> 0 | L6: =F6+H6+J6 -> 0 | M6: 부가세별도 | N6: 0101 | P6: 01 | R6: 2
A7: 010101 계단겸용수직형리프트제작설치 | D7: 1 | N7: 010123 | P7: 0101 | R7: 3

Sheet 공종별내역서
A1: 공 종 별 내 역 서
A2: =공종별집계표!A2 -> 건 명 : 상주중앙초등학교 체육관 계단겸용 휠체어리프트 제작/설치
A3: 품 명 | B3: 규 격 | C3: 단위 | D3: 수량 | E3: 재 료 비 | G3: 노 무 비 | I3: 경 비 | K3: 합 계 | M3: 비 고 | N3: 품목코드 | O3: 변수 | P3: 설정 | Q3: 공종코드 | R3: 일위 | S3: 단산 | T3: 자재 | U3: 손료적용 | V3: 손료저장 | W3: 적용율 | X3: JUK1 | Y3: JUK2 | Z3: JUK3 | AA3: JUK4 | AB3: JUK5 | AC3: JUK6 | AD3: JUK7 | AE3: JUK8 | AF3: JUK9 | AG3: JUK10 | AH3: JUK11 | AI3: JUK12 | AJ3: JUK13 | AK3: JUK14 | AL3: JUK15 | AM3: JUK16 | AN3: JUK17 | AO3: JUK18 | AP3: JUK19 | AQ3: JUK20 | AR3: 자재구분 | AS3: 공종구분 | AT3: 공종레벨 | AU3: 공종+자재 | AV3: 고유번호
E4: 단 가 | F4: 금 액 | G4: 단 가 | H4: 금 액 | I4: 단 가 | J4: 금 액 | K4: 단 가 | L4: 금 액
A5: 계단겸용수직형리프트제작설치 | Q5: 010101
A6: 1.제어반 | H6: =SUM(H7:H9) -> 0 | J6: =SUM(J7:J9) -> 0 | K6: =TRUNC(E6+G6+I6,0) -> 0 | L6: =SUM(L7:L9) -> 0 | N6: 42745116A100B2A59114664AAE9819336F2F7 | Q6: 010101 | R6: F | S6: F | T6: T | AU6: 01010142745116A100B2A59114664AAE9819336F2F7 | AV6: 4
A7: 컨트롤러외 | C7: 식 | D7: 1 | H7: =TRUNC(G7*D7,0) -> 0 | J7: =TRUNC(I7*D7,0) -> 0 | K7: =TRUNC(E7+G7+I7,0) -> 0 | L7: =TRUNC(F7+H7+J7,0) -> 0
A8: 뱃터리 충전기 assy | C8: 식 | D8: 1 | H8: =TRUNC(G8*D8,0) -> 0 | J8: =TRUNC(I8*D8,0) -> 0 | K8: =TRUNC(E8+G8+I8,0) -> 0 | L8: =TRUNC(F8+H8+J8,0) -> 0
A9: 구동박스 assy | C9: 식 | D9: 1 | H9: =TRUNC(G9*D9,0) -> 0 | J9: =TRUNC(I9*D9,0) -> 0 | K9: =TRUNC(E9+G9+I9,0) -> 0 | L9: =TRUNC(F9+H9+J9,0) -> 0
A10: 2. 승강기 | F10: =SUM(F11:F15) -> 0 | H10: =SUM(H11:H15) -> 0 | J10: =SUM(J11:J15) -> 0 | K10: =TRUNC(E10+G10+I10,0) -> 0 | L10: =SUM(L11:L15) -> 0
A11: 플랫폼 assy | C11: 식 | D11: 1 | H11: =TRUNC(G11*D11,0) -> 0 | J11: =TRUNC(I11*D11,0) -> 0 | K11: =TRUNC(E11+G11+I11,0) -> 0 | L11: =TRUNC(F11+H11+J11,0) -> 0
A12: 가이드 assy | C12: 식 | D12: 1 | H12: =TRUNC(G12*D12,0) -> 0 | J12: =TRUNC(I12*D12,0) -> 0 | K12: =TRUNC(E12+G12+I12,0) -> 0 | L12: =TRUNC(F12+H12+J12,0) -> 0
A13: 구동장치(모터 및 감속기 assy) | C13: 식 | D13: 4 | H13: =TRUNC(G13*D13,0) -> 0 | J13: =TRUNC(I13*D13,0) -> 0 | K13: =TRUNC(E13+G13+I13,0) -> 0 | L13: =TRUNC(F13+H13+J13,0) -> 0
A14: 램프 및 보호대 assy | C14: 식 | D14: 1 | H14: =TRUNC(G14*D14,0) -> 0 | K14: =TRUNC(E14+G14+I14,0) -> 0 | L14: =TRUNC(F14+H14+J14,0) -> 0
A15: 핸드레일 및 기타 | C15: 식 | D15: 1 | H15: =TRUNC(G15*D15,0) -> 0 | K15: =TRUNC(E15+G15+I15,0) -> 0 | L15: =TRUNC(F15+H15+J15,0) -> 0
A16: 3.상하운전반 | F16: =SUM(F17:F19) -> 0 | H16: =SUM(H17:H19) -> 0 | J16: =SUM(J17:J19) -> 0 | K16: =TRUNC(E16+G16+I16,0) -> 0 | L16: =SUM(L17:L19) -> 0
A17: 운전반 | C17: set | D17: 2 | K17: =TRUNC(E17+G17+I17,0) -> 0 | L17: =TRUNC(F17+H17+J17,0) -> 0
A18: 인터폰장치 | C18: set | D18: 1 | K18: =TRUNC(E18+G18+I18,0) -> 0 | L18: =TRUNC(F18+H18+J18,0) -> 0
A19: 설치비(배선, 배관, 조립외) | B19: 플랜트기계설치공 | C19: 인 | D19: 7 | K19: =TRUNC(E19+G19+I19,0) -> 0 | L19: =TRUNC(F19+H19+J19,0) -> 0
A20: 4.전기 및 통신 | F20: =SUM(F21:F32) -> 0 | H20: =SUM(H21:H32) -> 0 | J20: =SUM(J21:J32) -> 0 | K20: =TRUNC(E20+G20+I20,0) -> 0 | L20: =SUM(L21:L32) -> 0
A21: 합성수지제 가요전선관 | B21: CD-난연성 22㎜(100m) | C21: M | D21: 100 | K21: =TRUNC(E21+G21+I21,0) -> 0 | L21: =TRUNC(F21+H21+J21,0) -> 0
A22: 통신케이블 | B22: UTP CAT.5E/CM 4P | C22: m | D22: 100 | K22: =TRUNC(E22+G22+I22,0) -> 0 | L22: =TRUNC(F22+H22+J22,0) -> 0
A23: 0.6/1kV 폴리에틸렌 난연케이블 | B23: F-CV 1Cx4㎟ | C23: m | D23: 60 | K23: =TRUNC(E23+G23+I23,0) -> 0 | L23: =TRUNC(F23+H23+J23,0) -> 0
A24: 유리관 FUSE | B24: 15A | C24: EA | D24: 20 | G24: 0 | H24: 0 | K24: =TRUNC(E24+G24+I24,0) -> 0 | L24: =TRUNC(F24+H24+J24,0) -> 0
A25: 압착터미널 | B25: 4SQ | C25: EA | D25: 11 | G25: 0 | H25: 0 | K25: =TRUNC(E25+G25+I25,0) -> 0 | L25: =TRUNC(F25+H25+J25,0) -> 0
A26: 압착터미널 | B26: 35SQ | C26: EA | D26: 2 | G26: 0 | H26: 0 | K26: =TRUNC(E26+G26+I26,0) -> 0 | L26: =TRUNC(F26+H26+J26,0) -> 0
A27: 롱슬리브 | B27: 4SQ | C27: EA | D27: 4 | G27: 0 | H27: 0 | K27: =TRUNC(E27+G27+I27,0) -> 0 | L27: =TRUNC(F27+H27+J27,0) -> 0
A28: 수축튜브 | B28: 9파이 | C28: EA | D28: 3 | G28: 0 | H28: 0 | K28: =TRUNC(E28+G28+I28,0) -> 0 | L28: =TRUNC(F28+H28+J28,0) -> 0
A29: 압착터미널 | B29: 16SQ | C29: EA | D29: 20 | G29: 0 | H29: 0 | K29: =TRUNC(E29+G29+I29,0) -> 0 | L29: =TRUNC(F29+H29+J29,0) -> 0
A30: VCTF | B30: 1.5SQ*3C | C30: m | D30: 10 | G30: 0 | H30: 0 | K30: =TRUNC(E30+G30+I30,0) -> 0 | L30: =TRUNC(F30+H30+J30,0) -> 0
A31: 인건비 | B31: 내선전공 | C31: 인 | D31: 4 | K31: =TRUNC(E31+G31+I31,0) -> 0 | L31: =TRUNC(F31+H31+J31,0) -> 0
A32: 인건비 | B32: 통신케이블공 | C32: 인 | D32: 4 | K32: =TRUNC(E32+G32+I32,0) -> 0 | L32: =TRUNC(F32+H32+J32,0) -> 0
A33: 5.건축 파췌 및 마감 | F33: =SUM(F34:F42) -> 0 | H33: =SUM(H34:H42) -> 0 | J33: =SUM(J34:J42) -> 0 | K33: =TRUNC(E33+G33+I33,0) -> 0 | L33: =SUM(L34:L42) -> 0
A34: 무대 벽체틀설치 | B34: 외송각재외 | C34: 식 | D34: 1 | K34: =TRUNC(E34+G34+I34,0) -> 0 | L34: =TRUNC(F34+H34+J34,0) -> 0
A35: 무대 벽체합판붙이기 | B35: 내수합판 외 | C35: 식 | D35: 1 | K35: =TRUNC(E35+G35+I35,0) -> 0 | L35: =TRUNC(F35+H35+J35,0) -> 0
A36: 무대 벽체인테리어 마감 | B36: 플로어링제 | C36: 식 | D36: 1 | K36: =TRUNC(E36+G36+I36,0) -> 0 | L36: =TRUNC(F36+H36+J36,0) -> 0
A37: 바닥틀 설치 | B37: 잡철물 제작설치 | C37: 식 | D37: 1 | K37: =TRUNC(E37+G37+I37,0) -> 0 | L37: =TRUNC(F37+H37+J37,0) -> 0
A38: 바닥 마루 널깔기 | B38: 내수합판 외 | C38: 식 | D38: 1 | K38: =TRUNC(E38+G38+I38,0) -> 0 | L38: =TRUNC(F38+H38+J38,0) -> 0
A39: 인테리어 마감 | B39: 플로어링제 | C39: 식 | D39: 1 | K39: =TRUNC(E39+G39+I39,0) -> 0 | L39: =TRUNC(F39+H39+J39,0) -> 0
A40: 인건비 | B40: 건축목공 | C40: 인 | D40: 2 | K40: =TRUNC(E40+G40+I40,0) -> 0 | L40: =TRUNC(F40+H40+J40,0) -> 0
...
