Workbook
Name _HSH1: #REF!
Name _HSH2: #REF!
Name _NP1: #REF!
Name _NP2: #REF!
Name _NSH1: #REF!
Name _NSH2: #REF!
Name _PNO10: #REF!
Name _PNO10: #REF!
Name _PNO3: #REF!
Name _PNO3: #REF!
Name _PNO4: #REF!
Name _PNO4: #REF!
Name _PNO5: #REF!
Name _PNO5: #REF!
Name _PNO6: #REF!
Name _PNO6: #REF!
Name _PNO7: #REF!
Name _PNO7: #REF!
Name _PNO8: #REF!
Name _PNO8: #REF!
Name _PNO9: #REF!
Name _PNO9: #REF!
Name A10BQR: #REF!
Name A10BQR: #REF!
Name A10L1L: #REF!
Name A10L1L: #REF!
Name A10L1R: #REF!
Name A10L1R: #REF!
Name A10L2L: #REF!
Name A10L2L: #REF!
Name A10L2R: #REF!
Name A10L2R: #REF!
Name A10L3L: #REF!
Name A10L3L: #REF!
Name A10L3R: #REF!
Name A10L3R: #REF!
Name A10L4L: #REF!
Name A10L4L: #REF!
Name A10L4R: #REF!
Name A10L4R: #REF!
Name A10LFL: #REF!
Name A10LFL: #REF!
Name A10LFR: #REF!
Name A10LFR: #REF!
Name A10LQL: #REF!
Name A10LQL: #REF!
Name A10LQR: #REF!
Name A10LQR: #REF!
Name A3B1L: #REF!
Name A3B1L: #REF!
Name A3B1R: #REF!
Name A3B1R: #REF!
Name A3B2L: #REF!
Name A3B2L: #REF!
Name A3B2R: #REF!
Name A3B2R: #REF!
Name A3B3L: #REF!
Name A3B3L: #REF!
Name A3B3R: #REF!
Name A3B3R: #REF!

Sheet 설계서갑지 
B1: 설 계 서 용 지 (갑지)
A2: 2019년 3월 | B2: 설계자 | D2: 심사자 | F2: 팀장 | G2: 전결 | H2: 시설환경처장
A4: 공 사 명 : 에스컬레이터 인버터(8대) 설치공사
A5: □ 개 요
A6: ㅇ 공사대상 : 월드컵역 등 2개역 8대(월드컵 #1·#2·#3·#4·#5, 지족#1·#2·#4)
A7: ㅇ 공사내용 : 에스컬레이터 인버터 설치 / 제어방식 변경( 직입기동->인버터 기동), 18.5 KW 인버터 8대
A8: ㅇ 공사기간 : 착공일로부터 29일
A11: □ 공사금액
A12: ㅇ 총 공 사 비 : 일금 삼천칠백사십육만육천 원정 | G12: =원가계산서!G23 -> 0 | I12: (영세율 적용)
A13: ㅇ 도급공사비 : 일금 삼천칠백사십육만육천 원정 | G13: =G12 -> 0 | I13: (영세율 적용)

Sheet 공정표 
A2: 예 정 공 정 표
A3: ='설계서갑지 '!A4 -> 공 사 명 : 에스컬레이터 인버터(8대) 설치공사
A4: 기 간(일) 공 정 | B4: 5 | C4: 10 | D4: 15 | E4: 20 | F4: 25 | G4: 29 | H4: 비 고
A6: 현장 실사
A9: 물품제작(자재포함)
A12: 현장 설치 및 시운전

Sheet 원가계산서
A1: 원 가 계 산 서
A2: ='설계서갑지 '!A4 -> 공 사 명 : 에스컬레이터 인버터(8대) 설치공사
A3: 항 목 | G3: 금 액 | H3: 산 출 근 거 | I3: 비 고
A4: 순 공 사 원 가 | C4: 재 료 비 | E4: 직접재료비
E5: 간접재료비
E6: [소계]
C7: 노 무 비 | E7: 직접노무비
E8: 간접노무비 | H8: 직접노무비의 3%
E9: [소계]
C10: 경 비 | E10: 고용보험료 | H10: 노무비의 0.87% | I10: 국토교통부 고시
E11: 산재보험료 | H11: 노무비의 3.75% | I11: 고용노동부 고시
E12: 건강보험료 | H12: 직접노무비의 3.23% | I12: 1개월 미만 제외
E13: 노 인 장 기 요 양 보 험 료 | H13: 건강보험료의 8.51% | I13: 1개월 미만 제외
E14: 연금보험료 | H14: 직접노무비의 4.50% | I14: 1개월 미만 제외
E15: 산업안전보건관리비 | H15: (재료비+직접노무비)*3.09% | I15: 4천만원 미만 제외
E16: [소계]
B17: 계 | F17: 1 | H17: 재료비+노무비+경비
B18: 일반관리비 | F18: 2 | H18: (재료비+노무비+경비)의 6%이내 | I18: 우리공사 자체 기준 6%
B19: 이윤 | F19: 3 | H19: (노무비+경비+일반관리비)의 15% | I19: 우리공사 자체 기준 15% 이하(1억 미만)
B20: 공급가액 | H20: (1+2+3)
B21: 부가세 | I21: 영세율 적용
B22: 수시검사 수수료 | H22: 한국승강기안전공단 검사수수료
B23: 합 계 | H23: 공급가액 + 수시검사 수수료 | I23: 천원단위 미만 버림

Sheet 내역서
A1: 내 역 서
A2: =원가계산서!A2 -> 공 사 명 : 에스컬레이터 인버터(8대) 설치공사
A3: 품 명 | B3: 규 격 | C3: 단 위 | D3: 수 량 | E3: 재 료 비 | G3: 노 무 비 | I3: 경 비 | K3: 합 계 | M3: 비 고
E4: 단가 | F4: 금액 | G4: 단가 | H4: 금액 | I4: 단가 | J4: 금액 | K4: 단가 | L4: 금액
A5: 1. 자재비
A6: 인버터(로더기 포함) | B6: =수량산출서!C4 -> 18.5KW | C6: EA | D6: =#REF! -> #REF! | L6: =F6+H6+J6 -> 0
A7: 제동저항 | B7: =수량산출서!C5 -> 20Ω, 3600W | C7: EA | D7: =#REF! -> #REF! | L7: =F7+H7+J7 -> 0
A8: 외함(스틸 도장) | B8: =수량산출서!C6 -> 400*850*350mm(1.2t) | C8: EA | D8: =#REF! -> #REF! | L8: =F8+H8+J8 -> 0
A9: 전자접촉기 | B9: =수량산출서!C7 -> GMC-40 | C9: EA | D9: =#REF! -> #REF! | L9: =F9+H9+J9 -> 0
A10: 쿨링팬(외함내 설치) | B10: 120*120*25mm | C10: EA | D10: =#REF! -> #REF! | L10: =F10+H10+J10 -> 0
A11: 잡재료 | B11: (전선,플랙시블,터미널등) | C11: 식 | D11: =#REF! -> #REF! | L11: =F11+H11+J11 -> 0
A12: 소계 | C12: =SUM(L6:L11) -> 0
A13: 2. 노무비
A14: 설치 및 시운전 | B14: 중급 기술자 | C14: 인 | D14: =#REF! -> #REF! | L14: =F14+H14+J14 -> 0
A15: 소계 | C15: =SUM(L14) -> 0
A16: 총계 | L16: =SUM(C12+C15) -> 0

Sheet 수량산출서
B1: 수 량 산 출 서
B2: ='설계서갑지 '!A4 -> 공 사 명 : 에스컬레이터 인버터(8대) 설치공사
B3: 품 명 | C3: 규 격 | D3: 단 위 | E3: 수 량 | F3: 비 고
B4: 인버터(로더기 포함) | C4: 18.5KW | D4: EA | E4: 8
B5: 제동저항 | C5: 20Ω, 3600W | D5: EA | E5: 8
B6: 외함(스틸 도장) | C6: 400*850*350mm(1.2t) | D6: EA | E6: 8
B7: 전자접촉기 | C7: GMC-40 | D7: EA | E7: 8
B8: 쿨링팬(외함내 설치) | C8: 120*120*25mm | D8: EA | E8: 8
B9: 잡재료 | C9: 전선,플랙시블,터미널등 | D9: 식 | E9: 8
B10: 인건비 | C10: 중급기술자 | D10: 인 | E10: 16 | F10: 1대당 2인

Sheet ES인버터 설치현황
B1: 인 버 터 설 치 현 황
P2: =TODAY() -> 43539
B3: 고유번호 | C3: 역 사 명 | D3: 기기명 | F3: 형식 | G3: 속 도 (m/min) | H3: 등판 각도 | I3: 전동기 | M3: 인버터 | P3: 설치년도
D4: 대수 | E4: 호기 | I4: 전동기 | J4: 동력 | K4: 정격전압(A) | L4: 정격전류(A) | M4: 설치 | N4: 규격(kw) | O4: 제조사
C5: 합 계 | D5: =SUM(D6:D173) -> 168 | M5: =COUNTA(O6:O173)&"대 설치" -> 115대 설치
B6: 5800-401 | C6: 판암역 | D6: =COUNTA(E6:E7) -> 2 | E6: 1 | F6: 1200 | G6: 25 | H6: 30 | I6: 11×2 | J6: 22 | K6: 380 | L6: 24.4
B7: 5800-402 | C7: 판암역 | E7: 2 | F7: 1200 | G7: 25 | H7: 30 | I7: 7.5×2 | J7: 15 | K7: 380 | L7: 17
B8: 5800-403 | C8: 신흥역 | D8: =COUNTA(E8:E13) -> 6 | E8: 1 | F8: 1200 | G8: 25 | H8: 30 | I8: 11 | J8: 11 | K8: 380 | L8: 24.1
B9: 5800-404 | C9: 신흥역 | E9: 2 | F9: 1200 | G9: 25 | H9: 30 | I9: 7.5×2 | J9: 15 | K9: 380 | L9: 17
B10: 5800-405 | C10: 신흥역 | E10: 3 | F10: 1200 | G10: 25 | H10: 30 | I10: 11 | J10: 11 | K10: 380 | L10: 24.1 | M10: 0 | N10: 11 | O10: ZENER | P10: 2006
B11: 5800-406 | C11: 신흥역 | E11: 4 | F11: 1200 | G11: 25 | H11: 30 | I11: 11 | J11: 11 | K11: 380 | L11: 24.1 | M11: 0 | N11: 11 | O11: LS | P11: 2006
B12: 5800-407 | C12: 신흥역 | E12: 5 | F12: 1200 | G12: 25 | H12: 30 | I12: 11 | J12: 11 | K12: 380 | L12: 24.1 | M12: 0 | N12: 11 | O12: ZENER | P12: 2006
B13: 5800-408 | C13: 신흥역 | E13: 6 | F13: 1200 | G13: 25 | H13: 30 | I13: 11 | J13: 11 | K13: 380 | L13: 24.1 | M13: 0 | N13: 15 | O13: LS | P13: 2006
B14: 5800-409 | C14: 대동역 | D14: =COUNTA(E14:E27) -> 14 | E14: 1 | F14: 1200 | G14: 25 | H14: 30 | I14: 5.5 | J14: 5.5 | K14: 380 | L14: 12.6 | M14: 0 | N14: 5.5 | O14: ZENER | P14: 2006
B15: 5800-410 | C15: 대동역 | E15: 2 | F15: 1200 | G15: 25 | H15: 30 | I15: 5.5 | J15: 5.5 | K15: 380 | L15: 12.6 | M15: 0 | N15: 5.5 | O15: ZENER | P15: 2006
B16: 5800-411 | C16: 대동역 | E16: 3 | F16: 1200 | G16: 25 | H16: 30 | I16: 11 | J16: 11 | K16: 380 | L16: 24.1 | M16: 0 | N16: 11 | O16: ZENER | P16: 2006
B17: 5800-412 | C17: 대동역 | E17: 4 | F17: 1200 | G17: 25 | H17: 30 | I17: 11 | J17: 11 | K17: 380 | L17: 24.1 | M17: 0 | N17: 11 | O17: ZENER | P17: 2006
B18: 5800-413 | C18: 대동역 | E18: 5 | F18: 1200 | G18: 26 | H18: 30 | I18: 11 | J18: 11 | K18: 380 | L18: 24.1
B19: 5800-414 | C19: 대동역 | E19: 6 | F19: 1200 | G19: 26 | H19: 30 | I19: 11 | J19: 11 | K19: 380 | L19: 24.1
B20: 5800-415 | C20: 대동역 | E20: 7 | F20: 1200 | G20: 25 | H20: 30 | I20: 11 | J20: 11 | K20: 380 | L20: 24.1 | M20: 0 | N20: 15 | O20: LS | P20: 2006
B21: 5800-416 | C21: 대동역 | E21: 8 | F21: 1200 | G21: 25 | H21: 30 | I21: 11 | J21: 11 | K21: 380 | L21: 24.1 | M21: 0 | N21: 11 | O21: ZENER | P21: 2006
B22: 5800-417 | C22: 대동역 | E22: 9 | F22: 1200 | G22: 25 | H22: 30 | I22: 11 | J22: 11 | K22: 380 | L22: 24.1 | M22: 0 | N22: 11 | O22: ZENER | P22: 2006
B23: 5800-418 | C23: 대동역 | E23: 10 | F23: 1200 | G23: 25 | H23: 30 | I23: 11 | J23: 11 | K23: 380 | L23: 24.1 | M23: 0 | N23: 11 | O23: ZENER | P23: 2006
B24: 5800-419 | C24: 대동역 | E24: 11 | F24: 1200 | G24: 25 | H24: 30 | I24: 11 | J24: 11 | K24: 380 | L24: 24.1 | M24: 0 | N24: 11 | O24: ZENER | P24: 2006
B25: 5800-420 | C25: 대동역 | E25: 12 | F25: 1200 | G25: 25 | H25: 30 | I25: 11 | J25: 11 | K25: 380 | L25: 24.1 | M25: 0 | N25: 11 | O25: ZENER | P25: 2006
B26: 5800-421 | C26: 대동역 | E26: 13 | F26: 1200 | G26: 25 | H26: 30 | I26: 11 | J26: 11 | K26: 380 | L26: 24.1 | M26: 0 | N26: 11 | O26: ZENER | P26: 2006
B27: 5800-422 | C27: 대동역 | E27: 14 | F27: 1200 | G27: 25 | H27: 30 | I27: 11 | J27: 11 | K27: 380 | L27: 24.1 | M27: 0 | N27: 11 | O27: ZENER | P27: 2006
B28: 5800-423 | C28: 대전역 | D28: =COUNTA(E28:E43) -> 16 | E28: 1 | F28: 1200 | G28: 26 | H28: 30 | I28: 11 | J28: 11 | K28: 380 | L28: 24.1
B29: 5800-424 | C29: 대전역 | E29: 2 | F29: 1200 | G29: 26 | H29: 30 | I29: 11 | J29: 11 | K29: 380 | L29: 24.1
B30: 5800-425 | C30: 대전역 | E30: 3 | F30: 1200 | G30: 26 | H30: 30 | I30: 11 | J30: 11 | K30: 380 | L30: 24.1
B31: 5800-426 | C31: 대전역 | E31: 4 | F31: 1200 | G31: 26 | H31: 30 | I31: 11 | J31: 11 | K31: 380 | L31: 24.4
B32: 5800-427 | C32: 대전역 | E32: 5 | F32: 1200 | G32: 25 | H32: 30 | I32: 7.5×2 | J32: 15 | K32: 380 | L32: 17.1
B33: 5800-428 | C33: 대전역 | E33: 6 | F33: 1200 | G33: 25 | H33: 30 | I33: 7.5×2 | J33: 15 | K33: 380 | L33: 17.1 | M33: 0 | N33: 18.5 | O33: LS | P33: 2014
B34: 5800-429 | C34: 대전역 | E34: 7 | F34: 1200 | G34: 25 | H34: 30 | I34: 7.5×2 | J34: 15 | K34: 380 | L34: 17 | M34: 0 | N34: 18.5 | O34: LS | P34: 2016
B35: 5800-430 | C35: 대전역 | E35: 8 | F35: 1200 | G35: 25 | H35: 30 | I35: 7.5×2 | J35: 15 | K35: 380 | L35: 17
B36: 5800-431 | C36: 대전역 | E36: 9 | F36: 1200 | G36: 25 | H36: 30 | I36: 7.5×2 | J36: 15 | K36: 380 | L36: 17 | M36: 0 | N36: 18.5 | O36: LS | P36: 2014
B37: 5800-432 | C37: 대전역 | E37: 10 | F37: 1200 | G37: 25 | H37: 30 | I37: 7.5×2 | J37: 15 | K37: 380 | L37: 17
B38: 5800-433 | C38: 대전역 | E38: 11 | F38: 1200 | G38: 25 | H38: 30 | I38: 7.5×2 | J38: 15 | K38: 380 | L38: 17 | M38: 0 | N38: 18.5 | O38: LS | P38: 2015
B39: 5800-434 | C39: 대전역 | E39: 12 | F39: 1200 | G39: 25 | H39: 30 | I39: 11 | J39: 11 | K39: 380 | L39: 24.1 | M39: 0 | N39: 11 | O39: ZENER | P39: 2006
B40: 5800-435 | C40: 대전역 | E40: 13 | F40: 1200 | G40: 25 | H40: 30 | I40: 11 | J40: 11 | K40: 380 | L40: 24.1 | M40: 0 | N40: 11 | O40: ZENER | P40: 2006
B41: 5800-436 | C41: 대전역 | E41: 14 | F41: 1200 | G41: 25 | H41: 30 | I41: 7.5×2 | J41: 15 | K41: 380 | L41: 17
B42: 5800-437 | C42: 대전역 | E42: 15 | F42: 1200 | G42: 25 | H42: 30 | I42: 11 | J42: 11 | K42: 380 | L42: 24.4 | M42: 0 | N42: 11 | O42: ZENER | P42: 2006
B43: 5800-438 | C43: 대전역 | E43: 16 | F43: 1200 | G43: 25 | H43: 30 | I43: 11 | J43: 11 | K43: 380 | L43: 24.4 | M43: 0 | N43: 11 | O43: ZENER | P43: 2006
B44: 5800-439 | C44: 중앙로역 | D44: =COUNTA(E44:E51) -> 8 | E44: 1 | F44: 1200 | G44: 25 | H44: 30 | I44: 5.5 | J44: 5.5 | K44: 380 | L44: 11.8 | M44: 0 | N44: 5.5 | O44: ZENER | P44: 2006
B45: 5800-440 | C45: 중앙로역 | E45: 2 | F45: 1200 | G45: 30 | H45: 35 | I45: 5.5 | J45: 5.5 | K45: 380 | L45: 11.8 | P45: 2020년 예정
B46: 5800-441 | C46: 중앙로역 | E46: 3 | F46: 1200 | G46: 25 | H46: 30 | I46: 15 | J46: 15 | K46: 380 | L46: 27.9 | M46: 0 | N46: 18.5 | O46: LS | P46: 2013
B47: 5800-442 | C47: 중앙로역 | E47: 4 | F47: 1200 | G47: 25 | H47: 30 | I47: 15 | J47: 15 | K47: 380 | L47: 27.9 | M47: 0 | N47: 18.5 | O47: LS | P47: 2016
B48: 5800-443 | C48: 중앙로역 | E48: 5 | F48: 1200 | G48: 25 | H48: 30 | I48: 15 | J48: 15 | K48: 380 | L48: 27.9 | M48: 0 | N48: 18.5 | O48: LS | P48: 2013
B49: 5800-444 | C49: 중앙로역 | E49: 6 | F49: 1200 | G49: 25 | H49: 30 | I49: 15 | J49: 15 | K49: 380 | L49: 27.9 | M49: 0 | N49: 18.5 | O49: LS | P49: 2016
B50: 5800-445 | C50: 중앙로역 | E50: 7 | F50: 1200 | G50: 25 | H50: 30 | I50: 15 | J50: 15 | K50: 380 | L50: 27.9 | M50: 0 | N50: 18.5 | O50: LS | P50: 2013
B51: 5800-446 | C51: 중앙로역 | E51: 8 | F51: 1200 | G51: 25 | H51: 30 | I51: 15 | J51: 15 | K51: 380 | L51: 27.9 | M51: 0 | N51: 18.5 | O51: LS | P51: 2016
B52: 5800-447 | C52: 중구청역 | D52: =COUNTA(E52:E57) -> 6 | E52: 1 | F52: 1200 | G52: 25 | H52: 30 | I52: 15 | J52: 15 | K52: 380 | L52: 27.9 | M52: 0 | N52: 18.5 | O52: LS | P52: 2016
B53: 5800-448 | C53: 중구청역 | E53: 2 | F53: 1200 | G53: 25 | H53: 30 | I53: 15 | J53: 15 | K53: 380 | L53: 27.9 | M53: 0 | N53: 18.5 | O53: LS | P53: 2015
B54: 5800-449 | C54: 중구청역 | E54: 3 | F54: 1200 | G54: 25 | H54: 30 | I54: 15 | J54: 15 | K54: 380 | L54: 27.9 | M54: 0 | N54: 18.5 | O54: LS | P54: 2016
B55: 5800-450 | C55: 중구청역 | E55: 4 | F55: 1200 | G55: 25 | H55: 30 | I55: 15 | J55: 15 | K55: 380 | L55: 27.9 | M55: 0 | N55: 18.5 | O55: LS | P55: 2015
B56: 5800-451 | C56: 중구청역 | E56: 5 | F56: 1200 | G56: 25 | H56: 30 | I56: 7.5 | J56: 7.5 | K56: 380 | L56: 15.6 | M56: 0 | N56: 7.5 | O56: ZENER | P56: 2006
B57: 5800-452 | C57: 중구청역 | E57: 6 | F57: 1200 | G57: 25 | H57: 30 | I57: 7.5 | J57: 7.5 | K57: 380 | L57: 15.6 | M57: 0 | N57: 7.5 | O57: ZENER | P57: 2006
B58: 5800-453 | C58: 서대전네거리역 | D58: =COUNTA(E58:E70) -> 13 | E58: 1 | F58: 1200 | G58: 25 | H58: 30 | I58: 11 | J58: 11 | K58: 380 | L58: 24.4 | M58: 0 | N58: 15 | O58: LS | P58: 2014
B59: 5800-454 | C59: 서대전네거리역 | E59: 2 | F59: 1200 | G59: 26 | H59: 30 | I59: 11 | J59: 11 | K59: 380 | L59: 24.1
B60: 5800-455 | C60: 서대전네거리역 | E60: 3 | F60: 1200 | G60: 25 | H60: 30 | I60: 11 | J60: 11 | K60: 380 | L60: 24.1 | M60: 0 | N60: 11 | O60: ZENER | P60: 2006
B61: 5800-456 | C61: 서대전네거리역 | E61: 4 | F61: 1200 | G61: 26 | H61: 30 | I61: 11 | J61: 11 | K61: 380 | L61: 24.1
B62: 5800-457 | C62: 서대전네거리역 | E62: 5 | F62: 1200 | G62: 25 | H62: 30 | I62: 5.5 | J62: 5.5 | K62: 380 | L62: 12.6 | M62: 0 | N62: 5.5 | O62: ZENER | P62: 2006
B63: 5800-458 | C63: 서대전네거리역 | E63: 6 | F63: 1200 | G63: 26 | H63: 30 | I63: 11 | J63: 11 | K63: 380 | L63: 24.1
B64: 5800-459 | C64: 서대전네거리역 | E64: 7 | F64: 1200 | G64: 26 | H64: 30 | I64: 11 | J64: 11 | K64: 380 | L64: 24.1
B65: 5800-460 | C65: 서대전네거리역 | E65: 8 | F65: 1200 | G65: 26 | H65: 30 | I65: 11 | J65: 11 | K65: 380 | L65: 24.1
B66: 5800-461 | C66: 서대전네거리역 | E66: 9 | F66: 1200 | G66: 26 | H66: 30 | I66: 11 | J66: 11 | K66: 380 | L66: 24.1
B67: 5800-462 | C67: 서대전네거리역 | E67: 10 | F67: 1200 | G67: 26 | H67: 30 | I67: 7.5×2 | J67: 15 | K67: 380 | L67: 17 | M67: 0 | N67: 18.5 | O67: LS | P67: 2015
B68: 5800-463 | C68: 서대전네거리역 | E68: 11 | F68: 1200 | G68: 26 | H68: 30 | I68: 7.5×2 | J68: 15 | K68: 380 | L68: 17 | M68: 0 | N68: 18.5 | O68: LS | P68: 2016
B69: 5800-464 | C69: 서대전네거리역 | E69: 12 | F69: 1200 | G69: 25 | H69: 30 | I69: 11 | J69: 11 | K69: 380 | L69: 24.1 | M69: 0 | N69: 11 | O69: ZENER | P69: 2006
B70: 5800-465 | C70: 서대전네거리역 | E70: 13 | F70: 1200 | G70: 25 | H70: 30 | I70: 11 | J70: 11 | K70: 380 | L70: 24.1 | M70: 0 | N70: 11 | O70: ZENER | P70: 2006
B71: 5800-466 | C71: 오룡역 | D71: =COUNTA(E71:E80) -> 10 | E71: 1 | F71: 1200 | G71: 26 | H71: 35 | I71: 11 | J71: 11 | K71: 380 | L71: 24.4
B72: 5800-467 | C72: 오룡역 | E72: 2 | F72: 1200 | G72: 26 | H72: 35 | I72: 11 | J72: 11 | K72: 380 | L72: 24.4
B73: 5800-468 | C73: 오룡역 | E73: 3 | F73: 1200 | G73: 26 | H73: 35 | I73: 11 | J73: 11 | K73: 380 | L73: 24.4
B74: 5800-469 | C74: 오룡역 | E74: 4 | F74: 1200 | G74: 26 | H74: 35 | I74: 11 | J74: 11 | K74: 380 | L74: 24.4
B75: 5800-470 | C75: 오룡역 | E75: 5 | F75: 1200 | G75: 26 | H75: 35 | I75: 11 | J75: 11 | K75: 380 | L75: 24.4
B76: 5800-471 | C76: 오룡역 | E76: 6 | F76: 1200 | G76: 26 | H76: 35 | I76: 11 | J76: 11 | K76: 38 | L76: 24.4
B77: 5800-472 | C77: 오룡역 | E77: 7 | F77: 1200 | G77: 26 | H77: 35 | I77: 11 | J77: 11 | K77: 380 | L77: 24.4
B78: 5800-473 | C78: 오룡역 | E78: 8 | F78: 1200 | G78: 26 | H78: 35 | I78: 11 | J78: 11 | K78: 380 | L78: 24.4
B79: 5800-474 | C79: 오룡역 | E79: 9 | F79: 1200 | G79: 25 | H79: 30 | I79: 11 | J79: 11 | K79: 380 | L79: 24.4 | M79: 0 | N79: 11 | O79: ZENER | P79: 2006
B80: 5800-475 | C80: 오룡역 | E80: 10 | F80: 1200 | G80: 25 | H80: 30 | I80: 11 | J80: 11 | K80: 380 | L80: 24.1 | M80: 0 | N80: 11 | O80: ZENER | P80: 2006
B81: 5800-476 | C81: 용문역 | D81: =COUNTA(E81:E86) -> 6 | E81: 1 | F81: 1200 | G81: 26 | H81: 30 | I81: 11 | J81: 11 | K81: 380 | L81: 24.1
B82: 5800-477 | C82: 용문역 | E82: 2 | F82: 1200 | G82: 26 | H82: 30 | I82: 11 | J82: 11 | K82: 380 | L82: 24.1
B83: 5800-478 | C83: 용문역 | E83: 3 | F83: 1200 | G83: 26 | H83: 30 | I83: 11 | J83: 11 | K83: 380 | L83: 24.1
B84: 5800-479 | C84: 용문역 | E84: 4 | F84: 1200 | G84: 26 | H84: 30 | I84: 11 | J84: 11 | K84: 380 | L84: 24.1
B85: 5800-480 | C85: 용문역 | E85: 5 | F85: 1200 | G85: 25 | H85: 30 | I85: 11 | J85: 11 | K85: 380 | L85: 24.1 | M85: 0 | N85: 11 | O85: ZENER | P85: 2006
B86: 5800-481 | C86: 용문역 | E86: 6 | F86: 1200 | G86: 25 | H86: 30 | I86: 11 | J86: 11 | K86: 380 | L86: 24.1 | M86: 0 | N86: 11 | O86: ZENER | P86: 2006
B87: 5800-482 | C87: 탄방역 | D87: =COUNTA(E87:E89) -> 3 | E87: 1 | F87: 800 | G87: 26 | H87: 30 | I87: 11 | J87: 11 | K87: 380 | L87: 24.4 | M87: 0 | N87: 15 | O87: LS | P87: 2014
B88: 5800-483 | C88: 탄방역 | E88: 2 | F88: 1200 | G88: 25 | H88: 30 | I88: 11 | J88: 11 | K88: 380 | L88: 24.1 | M88: 0 | N88: 11 | O88: ZENER | P88: 2006
B89: 5800-484 | C89: 탄방역 | E89: 3 | F89: 1200 | G89: 25 | H89: 30 | I89: 11 | J89: 11 | K89: 38 | L89: 24.1 | M89: 0 | N89: 11 | O89: ZENER | P89: 2006
B90: 5800-485 | C90: 시청역 | D90: =COUNTA(E90:E96) -> 7 | E90: 1 | F90: 1200 | G90: 26 | H90: 30 | I90: 7.5×2 | J90: 15 | K90: 380 | L90: 17
B91: 5800-486 | C91: 시청역 | E91: 2 | F91: 1200 | G91: 26 | H91: 30 | I91: 7.5×2 | J91: 15 | K91: 380 | L91: 17 | M91: 0 | N91: 18.5 | O91: LS | P91: 2015
B92: 5800-487 | C92: 시청역 | E92: 3 | F92: 800 | G92: 26 | H92: 30 | I92: 11 | J92: 11 | K92: 380 | L92: 24.4
B93: 5800-488 | C93: 시청역 | E93: 4 | F93: 800 | G93: 26 | H93: 30 | I93: 11 | J93: 11 | K93: 380 | L93: 24.4
B94: 5800-489 | C94: 시청역 | E94: 5 | F94: 800 | G94: 26 | H94: 30 | I94: 11 | J94: 11 | K94: 380 | L94: 24.4 | M94: 0 | N94: 15 | O94: LS | P94: 2014
B95: 5800-490 | C95: 시청역 | E95: 6 | F95: 1200 | G95: 25 | H95: 30 | I95: 11 | J95: 11 | K95: 380 | L95: 24.4 | M95: 0 | N95: 11 | O95: ZENER | P95: 2006
B96: 5800-491 | C96: 시청역 | E96: 7 | F96: 1200 | G96: 25 | H96: 30 | I96: 11 | J96: 11 | K96: 380 | L96: 24.4 | M96: 0 | N96: 11 | O96: ZENER | P96: 2006
B97: 5800-492 | C97: 정부청사역 | D97: 5 | E97: 1 | F97: 1200 | G97: 25 | H97: 30 | I97: 7.5×2 | J97: 15 | K97: 380 | L97: 17 | M97: 0 | N97: 18.5 | O97: LS | P97: 2016
B98: 5800-493 | C98: 정부청사역 | E98: 2 | F98: 1200 | G98: 25 | H98: 30 | I98: 11 | J98: 11 | K98: 380 | L98: 24.1
B99: 5800-494 | C99: 정부청사역 | E99: 3 | F99: 1200 | G99: 25 | H99: 30 | I99: 11 | J99: 11 | K99: 380 | L99: 24.1 | M99: 0 | N99: 11 | O99: ZENER | P99: 2006
B100: 5800-495 | C100: 정부청사역 | E100: 4 | F100: 1200 | G100: 25 | H100: 30 | I100: 11 | J100: 11 | K100: 380 | L100: 24.1 | M100: 0 | N100: 11 | O100: ZENER | P100: 2006
...

Sheet Sheet1
