Workbook

Sheet 원가
A1: 공 사 원 가 계 산 서
A2: * 자갈치시장 노후 에스컬레이터 교체공사
A3: 비 목 | C3: 구 분 | F3: 금 액 | G3: 비 고
A4: 순 공 사 비 | B4: 재료비 | D4: 직 접 재 료 비 | F4: =집계표!E11 -> 117574960
D5: 작업설.부산물(△) | F5: -407520 | G5: (1,132kg*360원)
D6: 소 계 | F6: =SUM(F4:F5) -> 117167440
B7: 노무비 | D7: 직 접 노 무 비 | F7: =집계표!G11 -> 14101527
D8: 간 접 노 무 비 | F8: =INT(F7*7.9%) -> 1114020 | G8: 직접노무비 x 7.9%
D9: 소 계 | F9: =SUM(F7:F8) -> 15215547
B10: 경 비 | D10: 기 계 경 비 | F10: =집계표!I11 -> 240744
D11: 산 재 보 험 료 | F11: =INT(F9*3.75%) -> 570583 | G11: 노무비 x 3.75%
D12: 고 용 보 험 료 | F12: =INT(F9*0.87%) -> 132375 | G12: 노무비 x 0.87%
D13: 산업안전보건관리비 | F13: =INT((F6+F7)*3.09%) -> 4056211 | G13: ［(재료비+직접노무비)x3.09%］
D14: 건 강 보 험 료 | F14: =INT((F7)*3.23%) -> 455479 | G14: 직접노무비 x 3.23%
D15: 연 금 보 험 료 | F15: =INT((F7)*4.5%) -> 634568 | G15: 직접노무비 x 4.50%
D16: 노인장기요양보험료 | F16: =INT((F14)*8.51%) -> 38761 | G16: 건강보험료 x 8.51%
D17: 기 타 경 비 | F17: =INT(((F6+F9)*5.5%)) -> 7281064 | G17: (재료비+노무비)x5.5%
D18: 소 계 | F18: =SUM(F10:F17) -> 13409785
A19: 계 | F19: =ROUNDUP(SUM(F6,F9,F18),0) -> 145792772
A20: 일 반 관 리 비 | F20: =INT((F6+F9+F18)*6%) -> 8747566 | G20: (재료비+노무비+경비) x 6%
A21: 이 윤 | F21: =INT((F9+F18+F20)*12%) -> 4484747 | G21: (노무비+경비+일반관리비) x 12%
A22: 도 급 공 사 비 | F22: =SUM(F19:F21) -> 159025085
A23: 부 가 가 치 세 | F23: =TRUNC(F22*10%,0) -> 15902508 | G23: 10%
A24: 도 급 공 사 비 계 | F24: =SUM(F22:F23) -> 174927593 | G24: 천단위미만절사
A25: 총 공 사 비 계 | F25: =ROUNDDOWN(SUM(F24:F24),-3) -> 174927000

Sheet 집계표
A1: 집 계 표
A2: 공 종 | B2: 수 량 | C2: 단위 | D2: 재 료 비 | F2: 노 무 비 | H2: 경 비 | J2: 합 계 | L2: 비 고
D3: 단 가 | E3: 금 액 | F3: 단 가 | G3: 금 액 | H3: 단 가 | I3: 금 액 | J3: 단 가 | K3: 금 액
A4: * 자갈치시장 노후 에스컬레이터 교체공사
A6: 1. 에스컬레이터(ASS'Y) | B6: 1 | C6: SET | D6: =내역서!F20 -> 107628800 | E6: =D6 -> 107628800 | K6: =SUM(E6,G6,I6) -> 107628800
A7: 2. 에스컬레이터 설치 | B7: 1 | C7: 식 | D7: =내역서!F33 -> 9863080 | E7: =D7 -> 9863080 | F7: =내역서!H33 -> 12286867 | G7: =F7 -> 12286867 | H7: =내역서!J33 -> 146300 | I7: =H7 -> 146300 | K7: =SUM(E7,G7,I7) -> 22296247
A8: 3. 에스컬레이터 철거 | B8: 1 | C8: 식 | D8: =내역서!F40 -> 83080 | E8: =D8 -> 83080 | F8: =내역서!H40 -> 1814660 | G8: =F8 -> 1814660 | H8: =내역서!J40 -> 94444 | I8: =H8 -> 94444 | K8: =SUM(E8,G8,I8) -> 1992184
A11: 합 계 | E11: =SUM(E6:E10) -> 117574960 | G11: =SUM(G6:G10) -> 14101527 | I11: =SUM(I6:I10) -> 240744 | K11: =SUM(K6:K10) -> 131917231

Sheet 내역서
A1: 내 역 서
A2: 품 명 | B2: 규 격 | C2: 수 량 | D2: 단위 | E2: 재 료 비 | G2: 노 무 비 | I2: 경 비 | K2: 합 계 | M2: 비 고
E3: 단 가 | F3: 금 액 | G3: 단 가 | H3: 금 액 | I3: 단 가 | J3: 금 액 | K3: 단 가 | L3: 금 액
A4: * 자갈치시장 노후 에스컬레이터 교체공사
A5: 1. 에스컬레이터(ASS'Y), 1200형, 5.4M | C5: 1 | D5: SET
A6: 구동모터 | B6: 고효율, 3상11kW | C6: 1 | D6: 대 | E6: 7440000 | F6: =INT(C6*E6) -> 7440000 | L6: =SUM(F6,H6,J6) -> 7440000
A7: 보조브레이크 | B7: 역주행 방지형 | C7: 1 | D7: SET | E7: 3300000 | F7: =INT(C7*E7) -> 3300000 | L7: =SUM(F7,H7,J7) -> 3300000
A8: 제어반 제작 | B8: IP54이상 (인버터방식) | C8: 1 | D8: SET | E8: 4392000 | F8: =INT(C8*E8) -> 4392000 | L8: =SUM(F8,H8,J8) -> 4392000
A9: 인버터 | B9: 속도가변형 | C9: 1 | D9: SET | E9: 3372000 | F9: =INT(C9*E9) -> 3372000 | L9: =SUM(F9,H9,J9) -> 3372000
A10: 구동스프라켓 제작(상,하부) | B10: 1200형 | C10: 1 | D10: 식 | E10: 4500000 | F10: =INT(C10*E10) -> 4500000 | L10: =SUM(F10,H10,J10) -> 4500000
A11: 트러스 ASSY | B11: 1200형 | C11: 1 | D11: 식 | E11: 11000000 | F11: =INT(C11*E11) -> 11000000 | L11: =SUM(F11,H11,J11) -> 11000000
A12: 핸드레일 | B12: 1200형 | C12: 80 | D12: M | E12: 105600 | F12: =INT(C12*E12) -> 8448000 | L12: =SUM(F12,H12,J12) -> 8448000
A13: 핸드레일 구동부 ASSY | B13: 1200형 | C13: 2 | D13: SET | E13: 933000 | F13: =INT(C13*E13) -> 1866000 | L13: =SUM(F13,H13,J13) -> 1866000
A14: 스텝(미끄럼 방지형) | B14: 1200형 | C14: 64 | D14: EA | E14: 725000 | F14: =INT(C14*E14) -> 46400000 | L14: =SUM(F14,H14,J14) -> 46400000
A15: 스텝체인 | B15: 1200형 | C15: 64 | D15: SET | E15: 112200 | F15: =INT(C15*E15) -> 7180800 | L15: =SUM(F15,H15,J15) -> 7180800
A16: 안전브러쉬 | B16: 1200형 | C16: 34 | D16: M | E16: 45000 | F16: =INT(C16*E16) -> 1530000 | L16: =SUM(F16,H16,J16) -> 1530000
A17: 자동운전장치(포스트빔) | B17: 상,하부 2개소 | C17: 4 | D17: EA | E17: 800000 | F17: =INT(C17*E17) -> 3200000 | L17: =SUM(F17,H17,J17) -> 3200000
A18: 전선 및 기타소모품 | C18: 1 | D18: 식 | E18: 5000000 | F18: =INT(C18*E18) -> 5000000 | L18: =SUM(F18,H18,J18) -> 5000000
A20: 소 계 | F20: =SUM(F6:F19) -> 107628800 | L20: =SUM(L6:L19) -> 107628800
A21: 내 역 서
A22: 품 명 | B22: 규 격 | C22: 수 량 | D22: 단위 | E22: 재 료 비 | G22: 노 무 비 | I22: 경 비 | K22: 합 계 | M22: 비 고
E23: 단 가 | F23: 금 액 | G23: 단 가 | H23: 금 액 | I23: 단 가 | J23: 금 액 | K23: 단 가 | L23: 금 액
A24: 2. 설 치
A25: 양중 | B25: 옥내용 | C25: 1 | D25: 대 | E25: 0 | F25: =INT(C25*E25) -> 0 | G25: 1778357 | H25: =INT(C25*G25) -> 1778357 | I25: 0 | L25: =SUM(F25,H25,J25) -> 1778357
A26: 양중 | B26: 검사 및 조정 | C26: 1 | D26: 대 | E26: 0 | F26: =INT(C26*E26) -> 0 | G26: 166180 | H26: =INT(C26*G26) -> 166180 | I26: 0 | L26: =SUM(F26,H26,J26) -> 166180
A27: 양중 | B27: 사용장비 | C27: 1 | D27: 대 | E27: 113080 | F27: =INT(C27*E27) -> 113080 | G27: 625864 | H27: =INT(C27*G27) -> 625864 | I27: 146300 | J27: =INT(C27*I27) -> 146300 | L27: =SUM(F27,H27,J27) -> 885244
A28: 에스컬레이터 설치 | C28: 1 | D28: 대 | E28: 0 | F28: =INT(C28*E28) -> 0 | G28: 4798881 | H28: =INT(C28*G28) -> 4798881 | I28: 0 | L28: =SUM(F28,H28,J28) -> 4798881
A29: 에스컬레이터 설치 | B29: 검사 및 조정 | C29: 1 | D29: 대 | E29: 0 | F29: =INT(C29*E29) -> 0 | G29: 479885 | H29: =INT(C29*G29) -> 479885 | I29: 0 | L29: =SUM(F29,H29,J29) -> 479885
A30: 공사용 칸막이 설치 | C30: 1 | D30: 식 | E30: 3500000 | F30: =INT(C30*E30) -> 3500000 | L30: =SUM(F30,H30,J30) -> 3500000
A31: 에스컬레이터 | B31: 외장작업 | C31: 25 | D31: ㎡ | E31: 250000 | F31: =INT(C31*E31) -> 6250000 | G31: 177508 | H31: =INT(C31*G31) -> 4437700 | I31: 0 | L31: =SUM(F31,H31,J31) -> 10687700
A33: 소 계 | F33: =SUM(F25:F32) -> 9863080 | H33: =SUM(H25:H32) -> 12286867 | J33: =SUM(J25:J32) -> 146300 | L33: =SUM(L25:L32) -> 22296247
A35: 3. 철 거
A36: 양중 | B36: 옥내용 | C36: 1 | D36: 대 | G36: 533504 | H36: =INT(C36*G36) -> 533504 | L36: =SUM(F36,H36,J36) -> 533504
A37: 양중 | B37: 사용장비 | C37: 1 | D37: 대 | E37: 83080 | F37: =INT(C37*E37) -> 83080 | G37: 420400 | H37: =INT(C37*G37) -> 420400 | I37: 94444 | J37: =INT(C37*I37) -> 94444 | L37: =SUM(F37,H37,J37) -> 597924
A38: 에스컬레이터 철거 | C38: 1 | D38: 대 | G38: 860756 | H38: =INT(C38*G38) -> 860756 | L38: =SUM(F38,H38,J38) -> 860756
A40: 소 계 | F40: =SUM(F36:F39) -> 83080 | H40: =SUM(H36:H39) -> 1814660 | J40: =SUM(J36:J39) -> 94444 | L40: =SUM(L36:L39) -> 1992184
