Workbook
Name _: #N/A
Name _______DOG1: #REF!
Name _______DOG2: #REF!
Name _______DOG3: #REF!
Name _______DOG4: #REF!
Name _______PI48: #REF!
Name _______PI60: #REF!
Name _______RO22: #REF!
Name _______RO60: #REF!
Name _______TON1: #REF!
Name _______TON2: #REF!
Name _______WW2: #REF!
Name _______WW6: #REF!
Name ______DOG1: #REF!
Name ______DOG2: #REF!
Name ______DOG3: #REF!
Name ______DOG4: #REF!
Name ______pa1: #REF!
Name ______pa2: #REF!
Name ______PI48: #REF!
Name ______PI60: #REF!
Name ______RO110: #REF!
Name ______RO22: #REF!
Name ______RO35: #REF!
Name ______RO60: #REF!
Name ______RO80: #REF!
Name ______Ted1: #REF!
Name ______TON1: #REF!
Name ______TON2: #REF!
Name ______Ts1: #REF!
Name ______WW2: #REF!
Name ______WW6: #REF!
Name _____DOG1: #REF!
Name _____DOG2: #REF!
Name _____DOG3: #REF!
Name _____DOG4: #REF!
Name _____pa1: #REF!
Name _____pa2: #REF!
Name _____PI48: #REF!
Name _____PI60: #REF!
Name _____RO110: #REF!
Name _____RO22: #REF!
Name _____RO35: #REF!
Name _____RO60: #REF!
Name _____RO80: #REF!
Name _____Ted1: #REF!
Name _____TON1: #REF!
Name _____TON2: #REF!
Name _____Ts1: #REF!
Name _____WW2: #REF!
Name _____WW6: #REF!
Name ____bar10: #REF!
Name ____bar13: #REF!
Name ____bar16: #REF!
Name ____bar19: #REF!
Name ____bar22: #REF!
Name ____bar25: #REF!
Name ____bar29: #REF!
Name ____bar32: #REF!
Name ____DOG1: #REF!

Sheet 개요
A1: 년 도 | B1: 2019
A2: 공사코드 : | B2: KR-CMD-19-020
A3: 인 가 : | B3: 회통 제 2019 - 호 | C3: 2019년 월 일
A5: 건 명 : | B5: 김천역 에스컬레이터 스텝체인 교체공사
A6: 위 치 : | B6: 김천역
A9: 목 적 | B9: 본 공사는 김천역 에스컬레이터의 노후부품(스텝체인)의 적기보수 함으로 철도이용객의 안전사고예방 및 승강기의 정상기능을 확보하고자 함.
A10: 공사개요-1 | B10: 김천역 에스컬레이터 스텝체인 교체 1식 (E/S 1대)
A11: 공사개요-2
A12: 공사개요-3
A13: 공사개요-4
A14: 공사개요-5
A15: 공사개요-6
A16: 공사기간 | B16: 착공일로부터 29일

Sheet 표지1
B2: =IF(개요!B1="","",개요!B1) -> 2019
B3: =CONCATENATE(개요!A2,개요!B2) -> 공사코드 : KR-CMD-19-020
B4: =CONCATENATE(개요!A5,개요!B5) -> 건 명 : 김천역 에스컬레이터 스텝체인 교체공사
A6: 설 계 서
A7: =IF(개요!B8="","",개요!B8)
G12: 한국철도공사 대구본부 대구건축사업소장

Sheet 표지1 (2)
B2: =IF(개요!B1="","",개요!B1) -> 2019
B3: =CONCATENATE(개요!A2,개요!B2) -> 공사코드 : KR-CMD-19-020
B4: =CONCATENATE(개요!A5,개요!B5) -> 건 명 : 김천역 에스컬레이터 스텝체인 교체공사
A6: 설 계 서
A7: =IF(개요!B8="","",개요!B8)
G12: =표지1!G12 -> 한국철도공사 대구본부 대구건축사업소장

Sheet 표지2
B2: =IF(개요!B1="","",개요!B1) -> 2019
B3: 공사 코드 : | D3: =CONCATENATE(개요!B2) -> KR-CMD-19-020
B4: 인 가 : | D4: =CONCATENATE(개요!B3) -> 회통 제 2019 - 호 | H4: =개요!C3 -> 2019년 월 일
B6: =CONCATENATE(개요!A5,개요!B5) -> 건 명 : 김천역 에스컬레이터 스텝체인 교체공사
A8: 설 계 서
A9: =IF(개요!B8="","",개요!B8)
B12: ( 회 계 )
B13: 예산관리센터) | C13: 5000491 대구-수탁(시설)-일반개량FC
B15: 예산과목) | C15: 51050251 (일반개량)수선유지비-공비
B17: 단위사업) | C17: C41913 | G17: 설 계 자 대구본부 대구건축사업소 박 영 규 (인)

Sheet 목차
A2: 목 차
A4: =IF(B4="","",1) -> 1 | B4: =IF(M4="","",VLOOKUP(M4,A$15:B$28,2)) -> 설 계 설 명 서 | E4: =IF(B4="","",REPT("‥",34)) -> ‥‥‥‥‥‥‥‥‥‥‥‥‥‥‥‥‥‥‥‥‥‥‥‥‥‥‥‥‥‥‥‥‥‥ | M4: 1
A5: =IF(B5="","",2) -> 2 | B5: =IF(M5="","",VLOOKUP(M5,A$15:B$28,2)) -> 공 사 시 방 서 | E5: =IF(B5="","",REPT("‥",34)) -> ‥‥‥‥‥‥‥‥‥‥‥‥‥‥‥‥‥‥‥‥‥‥‥‥‥‥‥‥‥‥‥‥‥‥ | M5: 2
A6: =IF(B6="","",3) -> 3 | B6: =IF(M6="","",VLOOKUP(M6,A$15:B$28,2)) -> 예 정 공 정 표 | E6: =IF(B6="","",REPT("‥",34)) -> ‥‥‥‥‥‥‥‥‥‥‥‥‥‥‥‥‥‥‥‥‥‥‥‥‥‥‥‥‥‥‥‥‥‥ | M6: 3
A7: =IF(B7="","",4) -> 4 | B7: =IF(M7="","",VLOOKUP(M7,A$15:B$28,2)) -> 계 약 의 특 수 조 건 | E7: =IF(B7="","",REPT("‥",34)) -> ‥‥‥‥‥‥‥‥‥‥‥‥‥‥‥‥‥‥‥‥‥‥‥‥‥‥‥‥‥‥‥‥‥‥ | M7: 4
A8: =IF(B8="","",5) -> 5 | B8: =IF(M8="","",VLOOKUP(M8,A$15:B$28,2)) -> 안 전 계 약 특 수 조 건 | E8: =IF(B8="","",REPT("‥",34)) -> ‥‥‥‥‥‥‥‥‥‥‥‥‥‥‥‥‥‥‥‥‥‥‥‥‥‥‥‥‥‥‥‥‥‥ | M8: 5
A9: =IF(B9="","",6) -> 6 | B9: =IF(M9="","",VLOOKUP(M9,A$15:B$28,2)) -> 설 계 예 산 내 역 서 | E9: =IF(B9="","",REPT("‥",34)) -> ‥‥‥‥‥‥‥‥‥‥‥‥‥‥‥‥‥‥‥‥‥‥‥‥‥‥‥‥‥‥‥‥‥‥ | M9: 6
A10: =IF(B10="","",7) -> 7 | B10: =IF(M10="","",VLOOKUP(M10,A$15:B$28,2)) -> 공 종 별 예 산 조 서 | E10: =IF(B10="","",REPT("‥",34)) -> ‥‥‥‥‥‥‥‥‥‥‥‥‥‥‥‥‥‥‥‥‥‥‥‥‥‥‥‥‥‥‥‥‥‥ | M10: 7
A11: =IF(B11="","",7) | B11: =IF(M11="","",VLOOKUP(M11,A$15:B$28,2)) | E11: =IF(B11="","",REPT("‥",34))
A12: =IF(B12="","",13) | E12: =IF(B12="","",REPT("·",34))
A15: 1 | B15: 설 계 설 명 서
A16: 2 | B16: 공 사 시 방 서
A17: 3 | B17: 예 정 공 정 표
A18: 4 | B18: 계 약 의 특 수 조 건
A19: 5 | B19: 안 전 계 약 특 수 조 건
A20: 6 | B20: 설 계 예 산 내 역 서
A21: 7 | B21: 공 종 별 예 산 조 서
A22: 8 | B22: 설계변경 관 급 자 재 조 서
A23: 9 | B23: 설계변경 철 거 발 생 품 조 서
A24: 10 | B24: 설계변경 청제공기계기구조서
A25: 11 | B25: 설계변경 공 무 원 급 내 역 서

Sheet 설계설명서
A1: 1. 설 계 설 명 서
A3: 가. | B3: 건 명 : | C3: =IF(개요!B5="","",개요!B5) -> 김천역 에스컬레이터 스텝체인 교체공사
A4: 나. | B4: 위 치 : | C4: =개요!B6 -> 김천역
A5: 다. | B5: 목 적 : | C5: =IF(개요!B9="","",개요!B9) -> 본 공사는 김천역 에스컬레이터의 노후부품(스텝체인)의 적기보수 함으로 철도이용객의 안전사고예방 및 승강기의 정상기능을 확보하고자 함.
A7: 라. | B7: 공사개요 : | C7: =IF(개요!B10="","",개요!B10) -> 김천역 에스컬레이터 스텝체인 교체 1식 (E/S 1대)
C8: =IF(개요!B11="","",개요!B11)
A9: 마. | B9: 참가자격 : | C9: 승강기설치공사업 등록업체
C10: =IF(개요!B13="","",개요!B13)
A11: 바. | B11: 공사기간 : | C11: =개요!B16 -> 착공일로부터 29일
C12: =IF(개요!B15="","",개요!B15)
A17: 1. 설 계 설 명 서
A18: 사. | B18: 승강기 기본사양
B20: 1) 김천역 에스컬레이터 (2호기)
B21: - 형 식 : 1200형 | H21: - 설치년도 : 2008년
B22: - 제작사 : 현대엘리베이터 | H22: - 전동기용량 : 11kw
B23: - 속 도 : 25m/m(인버터 제어)
A25: 아. | B25: 공사 주요 내역
B26: 구 분 | C26: 품 명 | E26: 호 기 | F26: 규 격 | H26: 단위 | I26: 수량 | J26: 비 고
B27: 김천역 (E/S) | C27: 스텝체인 | E27: 2호기 | F27: WBB 19T, 4-LINK, 샤프트포함 | H27: STEP | I27: 93 | J27: 경사로 및 레일 청소
B30: ※ 주의사항
B31: 1. 필히 현장확인, 실측 및 규격(제원) 확인 후 주문제작에 착수 할 것.
B32: 2. 제작사별 부품이 상이하므로 적정 규격에 맞도록 기종 및 제작사 확인 후 시행 할 것.

Sheet 공사시방서
N1: 2. 공 사 시 방 서
B4: 1 | C4: 일반시방
C5: 본 공사는 공사시방서에 의거 시행하되 본 공사에 개별적인 사항 및 공사시방서에 기재되지 않은 사항은 기술표준원고시 및
C6: 『승강기시설안전관리법』및 동시행령, 시행규칙, 『승강기검사기준』 및 한국철도공사『공사 및 용역관리규정, 계약업무처리
C7: 시행세칙』 에 의거 시공하여야 한다.
C9: 가. | D9: 시공업체 및 현장대리인(지정) 자격
D10: 1) | E10: 시공업체 자격 : 건설산업기본법시행령 제7조에 의한 "승강기설치공사업"에 등록한 업체
D11: 2) | E11: 현장대리인(지정)은 승강기산업기사 이상 자격을 취득한 자로서 당해 기술분야에 3년 이상 실무에 종사한 자 또는 당해 기술
E12: 분야의 중급기술자 이상인 자, 당해 직무분야의 초급기술자로서 당해 공사와 같은 종류의 공사현장에 배치되어 시공관리업무
E13: 3년 이상 종사한 자(건설산업기본법 시행령)를 현장에 상주시켜야 하며, 승강기공사의 제반공정관리 및 안전관리, 품질관리에
E14: 대한 책임을 성실히 수행하여야 한다.
C16: 나. | D16: 공사기록사진
D17: 도급자 부담으로 아래와 같은 사진을 촬영하여 원본과 함께 사진첩을 작성하여 준공과 동시에 제출하여야 한다.
D18: 특히, 육안검사가 불가능한 개소는 필히 사진촬영하여야 한다.
D19: 촬 영 구 분 | I19: 규 격 | N19: 수 량 | Q19: 종 류 | U19: 기 사
D20: 착수전 사진 | I20: 120 × 80 | N20: 각 1 부 | Q20: 칼 라 | U20: 착수전 및 준공사진은 동일장소 및 동일방향에서
D21: 준 공 사 진 | I21: 120 × 80 | N21: 각 1 부 | Q21: 칼 라 | U21: 촬영할 것.
D22: 주요공정 사진 | I22: 120 × 80 | N22: 각 1 부 | Q22: 칼 라 | U22: 특히 육안검사 불가능 개소
C24: 다. | D24: 안전관리
D25: 본 공사시행에 있어 제반 안전관리에 각별히 유의하고 아래와 같은 안전조치를 취해야 하며, 현장내에서 발생한 제반
D26: 사고에 대하여는 민, 형사상 일체의 책임을 도급자가 져야 한다.
N29: 2. 공 사 시 방 서
D32: 1) | E32: 책임자의 선임 : 현장대리인이 겸임할 수 있으며, 안전관리자로서의 의무를 성실히 수행해야 한다.
D33: · | E33: 안전관리규정에 의한 자격을 갖춘 안전관리자를 현장에 배치하여 승객이용에 불편함이 없도록 조치하여야 한다.
D34: · | E34: 현장대리인 및 안전관리자는 공사기간 동안 반드시 현장에 상주하여야하며 부득이 현장 이탈시 공사감독자의 승인을 받아야 한다.
D35: · | E35: 본 공사 시행중 안전조치 불이행과 작업원 부주의로 인한 사고가 발생하여 사상자가 발생하거나 발주처, 도급자 및
E36: 제3자의 재산상손실이 있을 때에는 도급자의 부담으로 이를 변상 또는 원상복구하여야 한다.
D37: · | E37: 본 공사 시행중 여객의 안전을 위해 감독관의 지시에 따라 위험표지판 및 여객의 접근을 막을 수 있는 적절한
E38: 안전설비를 설치 하여야 한다.
D40: 2) | E40: 안전관리자의 임무
D41: · | E41: 산업안전보건법 시행령 제13조(안전관리자의 직무 등) 준수.
D42: · | E42: 법 제33조의 방호장치, 법 제34조의 기계, 기구 및 설비, 법 제35조의 보호구 등의 구입시 적격품 선정.
D43: · | E43: 현장 안전교육 계획수립 및 시행.
E44: - 공사시방서 및 표준안전시방서 준수, 작업 전 작업자 안전수칙 및 작업별 안전수칙 사전교육 철저
D45: · | E45: 현장순회점검 및 지도.
D46: · | E46: 산업재해 발생의 원인조사 및 대책수립
D48: 3) | E48: 안전관리보고
E49: 안전관리자는 아래사항에 대한 실시계획서를 작성하여 감독자에게 제출하고 현장에 비치하여야 하며, 동시에 안전관리비
E50: 사용계획서를 감독자에게 제출하고 사용실적을 사진과 영수증을 첨부하여 보고하여야 한다.
D51: · | E51: 안전, 보건교육
...

Sheet 예정공정표
A1: 3. 예 정 공 정 표
A2: 공 사 종 류 | E2: 단위 | F2: 수 량 | G2: 공 사 기 간 ( 29일간) | Q2: 기사
P3: =개요!B16 -> 착공일로부터 29일
G4: 3 | H4: 6 | I4: 9 | J4: 12 | K4: 15 | L4: 18 | M4: 21 | N4: 24 | O4: 29
A5: =개요!B5 -> 김천역 에스컬레이터 스텝체인 교체공사 | E5: % | F5: 100
A6: 1. 현장조사 | E6: % | F6: 10
A7: 2. 자재주문 및 구매 | E7: % | F7: 30
A8: 3. 승강기 보수 | E8: % | F8: 50
A9: 4. 시운전 및 준공검사 | E9: % | F9: 10

Sheet 안전계약 특수조건
A1: 5. 안 전 계 약 특 수 조 건
B2: ⊙ | C2: 시설공사 계약 일반조건 추가조항
B4: 제1조(목적)
C5: 본, 안전계약 특수조건은 한국철도공사와 계약상대자가 체결하는 공사․용역계약에 있어 일반조건 외에 산업재해예방을
C6: 위한 점검 및 준수의무 등을 특별히 규정함에 그 목적이 있다.
B8: 제2조(적용범위)
C9: 한국철도공사의 사업장내에서 시행하는 모든 발주공사와 용역사업의 계약상대자를 대상으로 한다.
B11: 제3조(안전준수 의무 등)
C12: 계약상대자는 공사․용역계약의 이행과 관련하여 산업안전보건 관계법령 및 안전수칙을 준수하여야 하며
C13: 한국철도공사에서 시행하는 산업재해예방시책에 적극 따라야 한다.
B15: 제4조(사전예방조치 의무 등)
C16: 계약상대자는 공사․용역계약의 이행과 관련하여 유해․위험요인 실태를 수시로 파악하고 평가하여 불안전요소를 개선하는 등
C17: 산업재해예방을 위한 사전조치를 하여야 한다.
B19: 제5조(통지 의무 등)
C20: `계약상대자는 공사․용역계약의 이행과 관련하여 한국철도공사가 운영하는 안전․보건협의체의 당연 구성원이 되며
C21: 협의회에 출석할 의무와 필요시 임시 회의 개최요구를 할 권한이 있다.
A26: 5. 안 전 계 약 특 수 조 건
B28: 제7조(안전보건지도․점검 등)
C29: ① 한국철도공사는 계약상대자가 공사․용역이행 과정에서 취하는 산업재해 예방조치를 확인하기 위하여
C30: 언제든지 안전지도․점검을 시행할 수 있으며 계약상대자는 지도․점검에 동참하는 등 적극 협조하여야 한다.
C31: ② 한국철도공사는 안전지도․점검결과에 따라 필요하다고 인정하는 경우 계약상대자에게 시정요구를 할 수 있으며
C32: 시정요구를 받은 계약상대자는 한국철도공사에 개선계획 및 개선결과를 제출하여야 한다.
B34: 제8조(공사․용역 중지 등)
C35: ① 한국철도공사는 안전지도․점검결과 긴박한 사고발생 우려가 있는 유해․위험요인을 발견하였을 경우
C36: 그 유해․위험요인이 완전히 해소되었다고 인정될 때까지 계약상대자에게 해당 공사 또는 용역의 중지를
C37: 요청할 수 있으며, 계약상대자는 정당한 이유가 없는 한 이에 응하여야 한다.
C38: ② 계약상대자는 제1항의 규정에 따라 공사 또는 용역 중지로 발생되는 지체상금 부과 및 작업원에 대한 휴업급여 등의
C39: 책임을 지며 이를 수용하여 민․형사상 이의를 제기하지 않는다.

Sheet 설계예산내역서
A1: 건 명: | B1: =IF(개요!B5="","",개요!B5) -> 김천역 에스컬레이터 스텝체인 교체공사
A2: 6. 설 계 예 산 내 역 서
B3: 총 공 사 비
B4: 1 | C4: 도 급 공 사 비 | D4: 별 봉
B5: 2 | C5: 지급자재비(당 기 조달품)
B6: 3 | C6: 지급자재비(전년도 조달품)
B7: 4 | C7: 지급자재비 (중 고 품)
B8: 5 | C8: 지급자재비(레미콘,충용품)
B9: 6 | C9: 철도공사제공 기계기구 사용료
B10: 7 | C10: 철도공사 직원급
B11: 8 | C11: 철도공사직원급 일반관리비
B12: 9 | C12: 재 료 일 반 관 리 비
B13: 10 | C13: 운 송 비
B14: 11 | C14: 계 약 수 수 료

Sheet 공사원가계산서
B1: 공 사 원 가 계 산 서
B2: 비 목 | E2: 금 액 | F2: 구 성 비 | G2: 비 고
B3: 순 공 사 원 가 | C3: 재 료 비 | D3: 직 접 재 료 비
D4: 간 접 재 료 비
D5: 작업설, 부산물 (▲)
D6: [ 소 계 ]
C7: 노 무 비 | D7: 직 접 노 무 비
D8: 간 접 노 무 비 | F8: '직접노무비*7.9%
D9: [ 소 계 ]
C10: 경 비
D11: 산 재 보 험 료 | F11: 노무비*3.75%
D12: 고 용 보 험 료 | F12: 노무비*0.87%
D13: 국민 건강 보험료 | F13: 직접노무비 * 1.7%
D14: 국민 연금 보험료 | F14: 직접노무비 * 2.49%
D15: 노인장기요양보험료 | F15: 건강보험료 * 6.55%
D16: 산업안전보건관리비 | F16: (재+직노) *1.85%
D17: 환 경 보 전 비 | F17: (재+직노+기계경비) *0.3%
D18: 기 타 경 비 | F18: (재+노) *5.5%
D19: 소 계
B20: 계
B21: 일 반 관 리 비 | F21: 계 * 6.0%
B22: 이 윤 | F22: (노무비+경비+일반관리비) * 15%
B23: 사 급 자 재 비
B24: 공 사 원 가
B25: 부 가 가 치 세 | F25: 공가원가*10%
B26: 총 공 사 비

Sheet 설계도표지
B2: =IF(개요!B1="","",개요!B1) -> 2019
B3: =CONCATENATE(개요!A2,개요!B2) -> 공사코드 : KR-CMD-19-020
B4: =CONCATENATE(개요!A5,개요!B5) -> 건 명 : 김천역 에스컬레이터 스텝체인 교체공사
A6: 설 계 도
A7: (도면 2 매)
G11: =표지1!G12 -> 한국철도공사 대구본부 대구건축사업소장

Sheet 도면목록
A1: 도 면 목 록
A2: 번호 | B2: 도 면 종 별 | C2: 쪽 | D2: 장 수 | E2: 기 사
A3: 1 | B3: 배치도 | C3: 1
A4: 2 | B4: 김천역 승강기 위치평면도 | C4: 1
B5: 이하 여백

Sheet 내역서표지 (2)
B2: =IF(개요!B1="","",개요!B1) -> 2019
B3: =CONCATENATE(개요!A2,개요!B2) -> 공사코드 : KR-CMD-19-020
B4: =CONCATENATE(개요!A5,개요!B5) -> 건 명 : 김천역 에스컬레이터 스텝체인 교체공사
A6: 단 가 산 출 서
A7: =IF(개요!B8="","",개요!B8)
F12: =표지1!G12 -> 한국철도공사 대구본부 대구건축사업소장

Sheet 공종별집계표
A1: 공 종 별 집 계 표
A2: [ 김천역 에스컬레터 스텝체인 교체공사 ]
A3: 품 명 | B3: 규 격 | C3: 단위 | D3: 수량 | E3: 재 료 비 | G3: 노 무 비 | I3: 경 비 | K3: 합 계 | M3: 비 고
E4: 단 가 | F4: 금 액 | G4: 단 가 | H4: 금 액 | I4: 단 가 | J4: 금 액 | K4: 단 가 | L4: 금 액
A5: 01 김천역 에스컬레이터 스텝체인 교체공사 | C5: 식 | D5: 1
A6: 0101 E/S 2호기 스텝체인 교체공사 | C6: 식 | D6: 1
A7: 0102 작업부산물 | C7: 식 | D7: 1
A27: [ 합 계 ] | F27: =F5 -> 0 | H27: =H5 -> 0 | J27: =J5 -> 0 | L27: =L5 -> 0

Sheet 공내역서
A1: [ 김천역 에스컬레터 스텝체인 교체공사 ]
A2: 품 명 | B2: 규 격 | C2: 단위 | D2: 수량 | E2: 재 료 비 | G2: 노 무 비 | I2: 경 비 | K2: 합 계 | M2: 비 고
E3: 단 가 | F3: 금 액 | G3: 단 가 | H3: 금 액 | I3: 단 가 | J3: 금 액 | K3: 단 가 | L3: 금 액
A4: 0101 E/S 2호기 스텝체인 교체공사
A5: 스텝체인 | B5: WBB 1200형 ASSY(샤프트포함), 19TON, 4-LINK | C5: step | D5: 93
A6: 스텝체인 교체 | B6: 운반포함 | C6: 인 | D6: 6
A7: 경사로 및 레일청소 | B7: 이물질, 기름먼지 제거 | C7: 인 | D7: 2
A27: [ 합 계 ] | F27: =SUM(F5:F26) -> 0 | H27: =SUM(H5:H26) -> 0 | J27: =SUM(J5:J26) -> 0 | L27: =SUM(L5:L26) -> 0
A28: 0102 작업부산물
A29: 철강설 | B29: 철강설, 고철, 작업설부산물 | C29: kg | D29: 669 | M29: 수집상차도
A51: [ 합 계 ] | F51: =SUM(F29:F50) -> 0 | H51: =SUM(H29:H50) -> 0 | J51: =SUM(J29:J50) -> 0 | L51: =SUM(L29:L50) -> 0

Sheet Sheet1
