Workbook

Sheet 작성요령
B2: 각 시트별 붉은색 표시된 부분 수정 하면 됨
B4: 순서
A5: 1 | B5: "유통물가 가격"시트의 단가조사내역서 작성
A6: 2 | B6: "재료비 노무비 분리" 시트의 노무비적용내역서 확인
A7: 3 | B7: "원가계산서(계산용)" 시트의 비율 조정
A8: 4 | B8: "내역서" 시트 금액 확인
A9: 5 | B9: "원가계산서" 시트 금액 조정
A10: 6 | B10: 내역서 완료 후 "내역서", "원가계산서" 시트 제외한 나머지 시트는 숨기기 할 것

Sheet 유통물가(승강기1) 가격
A1: 단 가 조 사 내 역 서
A2: 품 명 | B2: 규 격 | C2: 단위 | D2: 수량 | E2: 재 료 비 | G2: 노 무 비 | I2: 경 비 | K2: 합 계 | M2: 비 고 | N2: 품목코드 | O2: 변수 | P2: 설정 | Q2: 공종코드 | R2: 일위 | S2: 단산 | T2: 자재 | U2: 손료적용 | V2: 손료저장 | W2: 적용율 | X2: JUK1 | Y2: JUK2 | Z2: JUK3 | AA2: JUK4 | AB2: JUK5 | AC2: JUK6 | AD2: JUK7 | AE2: JUK8 | AF2: JUK9 | AG2: JUK10 | AH2: JUK11 | AI2: JUK12 | AJ2: JUK13 | AK2: JUK14 | AL2: JUK15 | AM2: JUK16 | AN2: JUK17 | AO2: JUK18 | AP2: JUK19 | AQ2: JUK20 | AR2: 자재구분 | AS2: 공종구분 | AT2: 공종레벨 | AU2: 공종+자재 | AV2: 고유번호
E3: 단 가 | F3: 금 액 | G3: 단 가 | H3: 금 액 | I3: 단 가 | J3: 금 액 | K3: 단 가 | L3: 금 액
A4: 010306 승강기설치공사 | Q4: 010306 | AW4: 단가
A5: 승객용 승강기(M.R.L.) | B5: 20인승 x 2층 x 60m/min | C5: 대 | E5: =AW5*1.1 -> 57200000 | F5: =TRUNC(E5*D5, 0) -> 0 | H5: =TRUNC(G5*D5, 0) -> 0 | J5: =TRUNC(I5*D5, 0) -> 0 | K5: =TRUNC(E5+G5+I5, 0) -> 57200000 | L5: =TRUNC(F5+H5+J5, 0) -> 0 | M5: 부가세 포함 | N5: 5BE96529D382852959590EF83652 | Q5: 010306 | R5: F | S5: F | T5: T | AU5: 0103065BE96529D382852959590EF83652 | AV5: 1151 | AW5: 52000000
A6: 1개층 추가시 | B6: 20인승 1개층 추가 | C6: 층 | E6: =AW6*1.1 -> 1760000 | F6: =TRUNC(E6*D6, 0) -> 0 | H6: =TRUNC(G6*D6, 0) -> 0 | J6: =TRUNC(I6*D6, 0) -> 0 | K6: =TRUNC(E6+G6+I6, 0) -> 1760000 | L6: =TRUNC(F6+H6+J6, 0) -> 0 | M6: 부가세 포함 | N6: 5BE96529D382852959590EF83662 | Q6: 010306 | R6: F | S6: F | T6: T | AU6: 0103065BE96529D382852959590EF83662 | AV6: 1152 | AW6: 1600000
A7: 방화도어 | B7: 20인승 방화도어 1개층 추가 시 | C7: 조 | E7: =AW7*1.1 -> 550000 | F7: =TRUNC(E7*D7, 0) -> 0 | H7: =TRUNC(G7*D7, 0) -> 0 | J7: =TRUNC(I7*D7, 0) -> 0 | K7: =TRUNC(E7+G7+I7, 0) -> 550000 | L7: =TRUNC(F7+H7+J7, 0) -> 0 | M7: 부가세 포함 | N7: 5BE96529D382852959590EF83672 | Q7: 010306 | R7: F | S7: F | T7: T | AU7: 0103065BE96529D382852959590EF83672 | AV7: 1153 | AW7: 500000
A8: 승객용 승강기(M.R.L.) | B8: 17인승 x 2층 x 60m/min | C8: 대 | D8: 1 | E8: =AW8*1.1 -> 49500000 | F8: =TRUNC(E8*D8, 0) -> 49500000 | K8: =TRUNC(E8+G8+I8, 0) -> 49500000 | L8: =TRUNC(F8+H8+J8, 0) -> 49500000 | M8: 부가세 포함 | AW8: 45000000
A9: 1개층 추가시 | B9: 17인승 1개층 추가 | C9: 층 | D9: 2 | E9: =AW9*1.1 -> 1650000 | F9: =TRUNC(E9*D9, 0) -> 3300000 | K9: =TRUNC(E9+G9+I9, 0) -> 1650000 | L9: =TRUNC(F9+H9+J9, 0) -> 3300000 | M9: 부가세 포함 | AW9: 1500000
A10: 방화도어 | B10: 17인승 방화도어 1개층 추가 시 | C10: 조 | D10: 4 | E10: =AW10*1.1 -> 550000 | F10: =TRUNC(E10*D10, 0) -> 2200000 | K10: =TRUNC(E10+G10+I10, 0) -> 550000 | L10: =TRUNC(F10+H10+J10, 0) -> 2200000 | M10: 부가세 포함 | AW10: 500000
A11: 승객용 승강기(M.R.L.) | B11: 15인승 x 2층 x 60m/min | C11: 대 | E11: =AW11*1.1 -> 49500000 | F11: =TRUNC(E11*D11, 0) -> 0 | H11: =TRUNC(G11*D11, 0) -> 0 | J11: =TRUNC(I11*D11, 0) -> 0 | K11: =TRUNC(E11+G11+I11, 0) -> 49500000 | L11: =TRUNC(F11+H11+J11, 0) -> 0 | M11: 부가세 포함 | N11: 5BE96529D382852959590EF82582 | Q11: 010306 | R11: F | S11: F | T11: T | AU11: 0103065BE96529D382852959590EF82582 | AV11: 1157 | AW11: 45000000
A12: 1개층 추가시 | B12: 15인승 1개층 추가 | C12: 층 | E12: =AW12*1.1 -> 1650000 | F12: =TRUNC(E12*D12, 0) -> 0 | H12: =TRUNC(G12*D12, 0) -> 0 | J12: =TRUNC(I12*D12, 0) -> 0 | K12: =TRUNC(E12+G12+I12, 0) -> 1650000 | L12: =TRUNC(F12+H12+J12, 0) -> 0 | M12: 부가세 포함 | N12: 5BE96529D382852959590EF825B2 | Q12: 010306 | R12: F | S12: F | T12: T | AU12: 0103065BE96529D382852959590EF825B2 | AV12: 1158 | AW12: 1500000
A13: 방화도어 | B13: 15인승 방화도어 1개층 추가 시 | C13: 조 | E13: =AW13*1.1 -> 550000 | F13: =TRUNC(E13*D13, 0) -> 0 | H13: =TRUNC(G13*D13, 0) -> 0 | J13: =TRUNC(I13*D13, 0) -> 0 | K13: =TRUNC(E13+G13+I13, 0) -> 550000 | L13: =TRUNC(F13+H13+J13, 0) -> 0 | M13: 부가세 포함 | N13: 5BE96529D382852959590EF825A2 | Q13: 010306 | R13: F | S13: F | T13: T | AU13: 0103065BE96529D382852959590EF825A2 | AV13: 1159 | AW13: 500000
A14: 승객용 승강기(M.R.L.) | B14: 13인승 x 2층 x 60m/min | C14: 대 | E14: =AW14*1.1 -> 48400000 | F14: =TRUNC(E14*D14, 0) -> 0 | H14: =TRUNC(G14*D14, 0) -> 0 | J14: =TRUNC(I14*D14, 0) -> 0 | K14: =TRUNC(E14+G14+I14, 0) -> 48400000 | L14: =TRUNC(F14+H14+J14, 0) -> 0 | M14: 부가세 포함 | N14: 5BE96529D382852959590EF83682 | Q14: 010306 | R14: F | S14: F | T14: T | AU14: 0103065BE96529D382852959590EF83682 | AV14: 1154 | AW14: 44000000
A15: 1개층 추가시 | B15: 13인승 1개층 추가 | C15: 층 | E15: =AW15*1.1 -> 1650000 | F15: =TRUNC(E15*D15, 0) -> 0 | H15: =TRUNC(G15*D15, 0) -> 0 | J15: =TRUNC(I15*D15, 0) -> 0 | K15: =TRUNC(E15+G15+I15, 0) -> 1650000 | L15: =TRUNC(F15+H15+J15, 0) -> 0 | M15: 부가세 포함 | N15: 5BE96529D382852959590EF83692 | Q15: 010306 | R15: F | S15: F | T15: T | AU15: 0103065BE96529D382852959590EF83692 | AV15: 1155 | AW15: 1500000
A16: 방화도어 | B16: 13인승 방화도어 1개층 추가 시 | C16: 조 | E16: =AW16*1.1 -> 550000 | F16: =TRUNC(E16*D16, 0) -> 0 | H16: =TRUNC(G16*D16, 0) -> 0 | J16: =TRUNC(I16*D16, 0) -> 0 | K16: =TRUNC(E16+G16+I16, 0) -> 550000 | L16: =TRUNC(F16+H16+J16, 0) -> 0 | M16: 부가세 포함 | N16: 5BE96529D382852959590EF82592 | Q16: 010306 | R16: F | S16: F | T16: T | AU16: 0103065BE96529D382852959590EF82592 | AV16: 1156 | AW16: 500000
A17: 휠체어리프트(계단겸용) | B17: 320kg | C17: 대 | D17: 1 | E17: =AW17*1.1 -> 31900000 | F17: =TRUNC(E17*D17, 0) -> 31900000 | K17: =TRUNC(E17+G17+I17, 0) -> 31900000 | L17: =TRUNC(F17+H17+J17, 0) -> 31900000 | M17: 부가세 포함 | AW17: 29000000
A23: [ 합 계 ] | F23: =SUM(F5:F22) -> 86900000 | H23: =SUM(H5:H22) -> 0 | J23: =SUM(J5:J22) -> 0 | L23: =SUM(L5:L22) -> 86900000 | N23: TOTAL
A24: 유통물가 18년 2월 승강기1(페이지 1152) 적용 가격

Sheet 재료비 노무비 분리
A1: 내 역 서(재료비, 노무비 분리)
A2: 품 명 | B2: 규 격 | C2: 단위 | D2: 수량 | E2: 재 료 비 | G2: 노 무 비 | I2: 경 비 | K2: 합 계 | M2: 비 고 | N2: 품목코드 | O2: 변수 | P2: 설정 | Q2: 공종코드 | R2: 일위 | S2: 단산 | T2: 자재 | U2: 손료적용 | V2: 손료저장 | W2: 적용율 | X2: JUK1 | Y2: JUK2 | Z2: JUK3 | AA2: JUK4 | AB2: JUK5 | AC2: JUK6 | AD2: JUK7 | AE2: JUK8 | AF2: JUK9 | AG2: JUK10 | AH2: JUK11 | AI2: JUK12 | AJ2: JUK13 | AK2: JUK14 | AL2: JUK15 | AM2: JUK16 | AN2: JUK17 | AO2: JUK18 | AP2: JUK19 | AQ2: JUK20 | AR2: 자재구분 | AS2: 공종구분 | AT2: 공종레벨 | AU2: 공종+자재 | AV2: 고유번호
E3: 단 가 | F3: 금 액 | G3: 단 가 | H3: 금 액 | I3: 단 가 | J3: 금 액 | K3: 단 가 | L3: 금 액
A4: ='유통물가(승강기1) 가격'!A4 -> 010306 승강기설치공사 | Q4: 010306
A5: ='유통물가(승강기1) 가격'!A5 -> 승객용 승강기(M.R.L.) | B5: ='유통물가(승강기1) 가격'!B5 -> 20인승 x 2층 x 60m/min | C5: ='유통물가(승강기1) 가격'!C5 -> 대 | D5: ='유통물가(승강기1) 가격'!D5 -> 0 | E5: ='유통물가(승강기1) 가격'!E5*73% -> 41756000 | F5: =TRUNC(E5*D5, 0) -> 0 | G5: ='유통물가(승강기1) 가격'!E5*27% -> 15444000 | H5: =TRUNC(G5*D5, 0) -> 0 | J5: =TRUNC(I5*D5, 0) -> 0 | K5: =TRUNC(E5+G5+I5, 0) -> 57200000 | L5: =TRUNC(F5+H5+J5, 0) -> 0 | N5: 5BE96529D382852959590EF83652 | Q5: 010306 | R5: F | S5: F | T5: T | AU5: 0103065BE96529D382852959590EF83652 | AV5: 1151
A6: ='유통물가(승강기1) 가격'!A6 -> 1개층 추가시 | B6: ='유통물가(승강기1) 가격'!B6 -> 20인승 1개층 추가 | C6: ='유통물가(승강기1) 가격'!C6 -> 층 | D6: ='유통물가(승강기1) 가격'!D6 -> 0 | E6: ='유통물가(승강기1) 가격'!E6*73% -> 1284800 | F6: =TRUNC(E6*D6, 0) -> 0 | G6: ='유통물가(승강기1) 가격'!E6*27% -> 475200 | H6: =TRUNC(G6*D6, 0) -> 0 | J6: =TRUNC(I6*D6, 0) -> 0 | K6: =TRUNC(E6+G6+I6, 0) -> 1760000 | L6: =TRUNC(F6+H6+J6, 0) -> 0 | N6: 5BE96529D382852959590EF83662 | Q6: 010306 | R6: F | S6: F | T6: T | AU6: 0103065BE96529D382852959590EF83662 | AV6: 1152
A7: ='유통물가(승강기1) 가격'!A7 -> 방화도어 | B7: ='유통물가(승강기1) 가격'!B7 -> 20인승 방화도어 1개층 추가 시 | C7: ='유통물가(승강기1) 가격'!C7 -> 조 | D7: ='유통물가(승강기1) 가격'!D7 -> 0 | E7: ='유통물가(승강기1) 가격'!E7*73% -> 401500 | F7: =TRUNC(E7*D7, 0) -> 0 | G7: ='유통물가(승강기1) 가격'!E7*27% -> 148500 | H7: =TRUNC(G7*D7, 0) -> 0 | J7: =TRUNC(I7*D7, 0) -> 0 | K7: =TRUNC(E7+G7+I7, 0) -> 550000 | L7: =TRUNC(F7+H7+J7, 0) -> 0 | N7: 5BE96529D382852959590EF83672 | Q7: 010306 | R7: F | S7: F | T7: T | AU7: 0103065BE96529D382852959590EF83672 | AV7: 1153
A8: ='유통물가(승강기1) 가격'!A8 -> 승객용 승강기(M.R.L.) | B8: ='유통물가(승강기1) 가격'!B8 -> 17인승 x 2층 x 60m/min | C8: ='유통물가(승강기1) 가격'!C8 -> 대 | D8: ='유통물가(승강기1) 가격'!D8 -> 1 | E8: ='유통물가(승강기1) 가격'!E8*73% -> 36135000 | F8: =TRUNC(E8*D8, 0) -> 36135000 | G8: ='유통물가(승강기1) 가격'!E8*27% -> 13365000 | H8: =TRUNC(G8*D8, 0) -> 13365000 | J8: =TRUNC(I8*D8, 0) -> 0 | K8: =TRUNC(E8+G8+I8, 0) -> 49500000 | L8: =TRUNC(F8+H8+J8, 0) -> 49500000
A9: ='유통물가(승강기1) 가격'!A9 -> 1개층 추가시 | B9: ='유통물가(승강기1) 가격'!B9 -> 17인승 1개층 추가 | C9: ='유통물가(승강기1) 가격'!C9 -> 층 | D9: ='유통물가(승강기1) 가격'!D9 -> 2 | E9: ='유통물가(승강기1) 가격'!E9*73% -> 1204500 | F9: =TRUNC(E9*D9, 0) -> 2409000 | G9: ='유통물가(승강기1) 가격'!E9*27% -> 445500 | H9: =TRUNC(G9*D9, 0) -> 891000 | J9: =TRUNC(I9*D9, 0) -> 0 | K9: =TRUNC(E9+G9+I9, 0) -> 1650000 | L9: =TRUNC(F9+H9+J9, 0) -> 3300000
A10: ='유통물가(승강기1) 가격'!A10 -> 방화도어 | B10: ='유통물가(승강기1) 가격'!B10 -> 17인승 방화도어 1개층 추가 시 | C10: ='유통물가(승강기1) 가격'!C10 -> 조 | D10: ='유통물가(승강기1) 가격'!D10 -> 4 | E10: ='유통물가(승강기1) 가격'!E10*73% -> 401500 | F10: =TRUNC(E10*D10, 0) -> 1606000 | G10: ='유통물가(승강기1) 가격'!E10*27% -> 148500 | H10: =TRUNC(G10*D10, 0) -> 594000 | J10: =TRUNC(I10*D10, 0) -> 0 | K10: =TRUNC(E10+G10+I10, 0) -> 550000 | L10: =TRUNC(F10+H10+J10, 0) -> 2200000
A11: ='유통물가(승강기1) 가격'!A11 -> 승객용 승강기(M.R.L.) | B11: ='유통물가(승강기1) 가격'!B11 -> 15인승 x 2층 x 60m/min | C11: ='유통물가(승강기1) 가격'!C11 -> 대 | D11: ='유통물가(승강기1) 가격'!D11 -> 0 | E11: ='유통물가(승강기1) 가격'!E11*73% -> 36135000 | F11: =TRUNC(E11*D11, 0) -> 0 | G11: ='유통물가(승강기1) 가격'!E11*27% -> 13365000 | H11: =TRUNC(G11*D11, 0) -> 0 | J11: =TRUNC(I11*D11, 0) -> 0 | K11: =TRUNC(E11+G11+I11, 0) -> 49500000 | L11: =TRUNC(F11+H11+J11, 0) -> 0 | N11: 5BE96529D382852959590EF82582 | Q11: 010306 | R11: F | S11: F | T11: T | AU11: 0103065BE96529D382852959590EF82582 | AV11: 1157
A12: ='유통물가(승강기1) 가격'!A12 -> 1개층 추가시 | B12: ='유통물가(승강기1) 가격'!B12 -> 15인승 1개층 추가 | C12: ='유통물가(승강기1) 가격'!C12 -> 층 | D12: ='유통물가(승강기1) 가격'!D12 -> 0 | E12: ='유통물가(승강기1) 가격'!E12*73% -> 1204500 | F12: =TRUNC(E12*D12, 0) -> 0 | G12: ='유통물가(승강기1) 가격'!E12*27% -> 445500 | H12: =TRUNC(G12*D12, 0) -> 0 | J12: =TRUNC(I12*D12, 0) -> 0 | K12: =TRUNC(E12+G12+I12, 0) -> 1650000 | L12: =TRUNC(F12+H12+J12, 0) -> 0 | N12: 5BE96529D382852959590EF825B2 | Q12: 010306 | R12: F | S12: F | T12: T | AU12: 0103065BE96529D382852959590EF825B2 | AV12: 1158
A13: ='유통물가(승강기1) 가격'!A13 -> 방화도어 | B13: ='유통물가(승강기1) 가격'!B13 -> 15인승 방화도어 1개층 추가 시 | C13: ='유통물가(승강기1) 가격'!C13 -> 조 | D13: ='유통물가(승강기1) 가격'!D13 -> 0 | E13: ='유통물가(승강기1) 가격'!E13*73% -> 401500 | F13: =TRUNC(E13*D13, 0) -> 0 | G13: ='유통물가(승강기1) 가격'!E13*27% -> 148500 | H13: =TRUNC(G13*D13, 0) -> 0 | J13: =TRUNC(I13*D13, 0) -> 0 | K13: =TRUNC(E13+G13+I13, 0) -> 550000 | L13: =TRUNC(F13+H13+J13, 0) -> 0 | N13: 5BE96529D382852959590EF825A2 | Q13: 010306 | R13: F | S13: F | T13: T | AU13: 0103065BE96529D382852959590EF825A2 | AV13: 1159
A14: ='유통물가(승강기1) 가격'!A14 -> 승객용 승강기(M.R.L.) | B14: ='유통물가(승강기1) 가격'!B14 -> 13인승 x 2층 x 60m/min | C14: ='유통물가(승강기1) 가격'!C14 -> 대 | D14: ='유통물가(승강기1) 가격'!D14 -> 0 | E14: ='유통물가(승강기1) 가격'!E14*73% -> 35332000 | F14: =TRUNC(E14*D14, 0) -> 0 | G14: ='유통물가(승강기1) 가격'!E14*27% -> 13068000 | H14: =TRUNC(G14*D14, 0) -> 0 | J14: =TRUNC(I14*D14, 0) -> 0 | K14: =TRUNC(E14+G14+I14, 0) -> 48400000 | L14: =TRUNC(F14+H14+J14, 0) -> 0 | N14: 5BE96529D382852959590EF83682 | Q14: 010306 | R14: F | S14: F | T14: T | AU14: 0103065BE96529D382852959590EF83682 | AV14: 1154
A15: ='유통물가(승강기1) 가격'!A15 -> 1개층 추가시 | B15: ='유통물가(승강기1) 가격'!B15 -> 13인승 1개층 추가 | C15: ='유통물가(승강기1) 가격'!C15 -> 층 | D15: ='유통물가(승강기1) 가격'!D15 -> 0 | E15: ='유통물가(승강기1) 가격'!E15*73% -> 1204500 | F15: =TRUNC(E15*D15, 0) -> 0 | G15: ='유통물가(승강기1) 가격'!E15*27% -> 445500 | H15: =TRUNC(G15*D15, 0) -> 0 | J15: =TRUNC(I15*D15, 0) -> 0 | K15: =TRUNC(E15+G15+I15, 0) -> 1650000 | L15: =TRUNC(F15+H15+J15, 0) -> 0 | N15: 5BE96529D382852959590EF83692 | Q15: 010306 | R15: F | S15: F | T15: T | AU15: 0103065BE96529D382852959590EF83692 | AV15: 1155
A16: ='유통물가(승강기1) 가격'!A16 -> 방화도어 | B16: ='유통물가(승강기1) 가격'!B16 -> 13인승 방화도어 1개층 추가 시 | C16: ='유통물가(승강기1) 가격'!C16 -> 조 | D16: ='유통물가(승강기1) 가격'!D16 -> 0 | E16: ='유통물가(승강기1) 가격'!E16*73% -> 401500 | F16: =TRUNC(E16*D16, 0) -> 0 | G16: ='유통물가(승강기1) 가격'!E16*27% -> 148500 | H16: =TRUNC(G16*D16, 0) -> 0 | J16: =TRUNC(I16*D16, 0) -> 0 | K16: =TRUNC(E16+G16+I16, 0) -> 550000 | L16: =TRUNC(F16+H16+J16, 0) -> 0 | N16: 5BE96529D382852959590EF82592 | Q16: 010306 | R16: F | S16: F | T16: T | AU16: 0103065BE96529D382852959590EF82592 | AV16: 1156
A17: ='유통물가(승강기1) 가격'!A17 -> 휠체어리프트(계단겸용) | B17: ='유통물가(승강기1) 가격'!B17 -> 320kg | C17: ='유통물가(승강기1) 가격'!C17 -> 대 | D17: ='유통물가(승강기1) 가격'!D17 -> 1 | E17: ='유통물가(승강기1) 가격'!E17*73% -> 23287000 | F17: =TRUNC(E17*D17, 0) -> 23287000 | G17: ='유통물가(승강기1) 가격'!E17*27% -> 8613000 | H17: =TRUNC(G17*D17, 0) -> 8613000 | J17: =TRUNC(I17*D17, 0) -> 0 | K17: =TRUNC(E17+G17+I17, 0) -> 31900000 | L17: =TRUNC(F17+H17+J17, 0) -> 31900000
A35: [ 합 계 ] | F35: =SUM(F5:F34) -> 63437000 | H35: =SUM(H5:H34) -> 23463000 | J35: =SUM(J5:J34) -> 0 | L35: =SUM(L5:L34) -> 86900000 | N35: TOTAL
A36: 재료비 73%, 노무비 27% 적용(관급자재 승강기 사양별 평균 비율)

Sheet 원가계산서(계산용)
B1: 물 품 원 가 계 산 서(계산용)
B2: 공사명 : 가칭 강동고등학교 교사신축 승강기 구매 및 설치
B3: 비 목 | E3: 금 액 | F3: 구 성 비 | G3: 비 고
A4: A1 | B4: 순 공 사 원 가 | C4: 재 료 비 | D4: 직 접 재 료 비 | E4: ='재료비 노무비 분리'!F35*I4 -> 55302600 | I4: 0.871772 | J4: 비율조정하여 아래 "파란색 금액"과 "물품원가계산서총공사비" 를 동일하게 맞출것
A5: A2 | D5: 간 접 재 료 비 | E5: 0
A6: A3 | D6: 작업설, 부산물(△) | E6: 0
A7: AS | D7: [ 소 계 ] | E7: =TRUNC(E4+E5-E6, 0) -> 55302600
A8: B1 | C8: 노 무 비 | D8: 직 접 노 무 비 | E8: ='재료비 노무비 분리'!H35*'원가계산서(계산용)'!I4 -> 20454386
A9: B2 | D9: 간 접 노 무 비 | E9: =TRUNC(E8*F9, 0) -> 0
A10: BS | D10: [ 소 계 ] | E10: =TRUNC(E8+E9, 0) -> 20454386 | J10: 경비 요율 적용 기준 : 2019.1.7.발표분
A11: C4 | C11: 경 비 | D11: 산 재 보 험 료 | E11: =TRUNC(E10*F11, 0) -> 767039 | F11: 0.0375 | J11: 구성비 항목(붉은 글씨)에 F2키를 눌러 요율만 입력 하면 됨(금액 산식 손대지 말것, 자동계산 됨)
A12: C5 | D12: 고 용 보 험 료 | E12: =TRUNC(E10*F12, 0) -> 177953 | F12: 0.0087 | J12: "
A13: C6 | D13: 국민 건강 보험료 | E13: =TRUNC(E8*F13, 0) -> 660676 | F13: 0.0323 | G13: 공사기간 1개월 이상 적용 | J13: "
A14: C7 | D14: 국민 연금 보험료 | E14: =TRUNC(E8*F14, 0) -> 920447 | F14: 0.045 | G14: 공사기간 1개월 이상 적용 | J14: "
A15: CB | D15: 노인장기요양보험료 | E15: =TRUNC(E13*F15, 0) -> 56223 | F15: 0.0851 | G15: 공사기간 1개월 이상 적용 | J15: "
A16: CA | D16: 산업안전보건관리비 | E16: =TRUNC((E8)*F16, 0) -> 599313 | F16: 0.0293 | G16: 총 공사금액 4천만원 이상 적용 | J16: "
A17: CG | D17: 환 경 보 전 비 | E17: =TRUNC((E10)*F17, 0) -> 61363 | F17: 0.003 | J17: "
D18: 퇴직공제부금비 | E18: =TRUNC((E10)*F18, 0) -> 0 | F18: 0 | G18: 직접노무비 3억 이상 적용 | J18: "
A19: CS | D19: [ 소 계 ] | E19: =TRUNC(E11+E12+E13+E14+E16+E15+E17+E18, 0) -> 3243014
A20: S1 | B20: 계 | E20: =TRUNC(E7+E10+E19, 0) -> 79000000 | I20: =ROUND(J26/1.1,0) -> 0 | J20: ="계 금액 계산식에서 " & I20 & "원 감 조정" -> 계 금액 계산식에서 0원 감 조정
A21: D1 | B21: 일 반 관 리 비 | E21: 0 | F21: 계 * 6%
A22: D2 | B22: 이 윤 | E22: 0 | F22: (노무비+경비+일반관리비) * 15%
A23: D9 | B23: 공 급 가 액 | E23: =TRUNC(INT(E20+E21+E22), 0) -> 79000000
A24: DB | B24: 부 가 가 치 세 | E24: =TRUNC(E23*0.1, 0) -> 7900000 | F24: 공급가액 * 10%
A25: DH | B25: 도 급 액 | E25: =TRUNC(E23+E24, 0) -> 86900000
A26: S2 | B26: 총 공 사 비 | E26: =TRUNC(E25, 0) -> 86900000 | G26: =I4 -> 0.871772 | I26: ='유통물가(승강기1) 가격'!L23 -> 86900000 | J26: =E26-I26 -> 0

Sheet 내역서
A1: 내 역 서
A2: 품 명 | B2: 규 격 | C2: 단위 | D2: 수량 | E2: 재 료 비 | G2: 노 무 비 | I2: 경 비 | K2: 합 계 | M2: 비 고 | N2: 품목코드 | O2: 변수 | P2: 설정 | Q2: 공종코드 | R2: 일위 | S2: 단산 | T2: 자재 | U2: 손료적용 | V2: 손료저장 | W2: 적용율 | X2: JUK1 | Y2: JUK2 | Z2: JUK3 | AA2: JUK4 | AB2: JUK5 | AC2: JUK6 | AD2: JUK7 | AE2: JUK8 | AF2: JUK9 | AG2: JUK10 | AH2: JUK11 | AI2: JUK12 | AJ2: JUK13 | AK2: JUK14 | AL2: JUK15 | AM2: JUK16 | AN2: JUK17 | AO2: JUK18 | AP2: JUK19 | AQ2: JUK20 | AR2: 자재구분 | AS2: 공종구분 | AT2: 공종레벨 | AU2: 공종+자재 | AV2: 고유번호
E3: 단 가 | F3: 금 액 | G3: 단 가 | H3: 금 액 | I3: 단 가 | J3: 금 액 | K3: 단 가 | L3: 금 액
A4: ='유통물가(승강기1) 가격'!A4 -> 010306 승강기설치공사 | Q4: 010306
A5: ='유통물가(승강기1) 가격'!A5 -> 승객용 승강기(M.R.L.) | B5: ='유통물가(승강기1) 가격'!B5 -> 20인승 x 2층 x 60m/min | C5: ='유통물가(승강기1) 가격'!C5 -> 대 | D5: ='유통물가(승강기1) 가격'!D5 -> 0 | E5: ='재료비 노무비 분리'!E5*'원가계산서(계산용)'!$I$4 -> 36401712 | F5: =TRUNC(E5*D5, 0) -> 0 | G5: ='재료비 노무비 분리'!G5*'원가계산서(계산용)'!$I$4 -> 13463647 | H5: =TRUNC(G5*D5, 0) -> 0 | J5: =TRUNC(I5*D5, 0) -> 0 | K5: =TRUNC(E5+G5+I5, 0) -> 49865358 | L5: =TRUNC(F5+H5+J5, 0) -> 0 | N5: 5BE96529D382852959590EF83652 | Q5: 010306 | R5: F | S5: F | T5: T | AU5: 0103065BE96529D382852959590EF83652 | AV5: 1151
A6: ='유통물가(승강기1) 가격'!A6 -> 1개층 추가시 | B6: ='유통물가(승강기1) 가격'!B6 -> 20인승 1개층 추가 | C6: ='유통물가(승강기1) 가격'!C6 -> 층 | D6: ='유통물가(승강기1) 가격'!D6 -> 0 | E6: ='재료비 노무비 분리'!E6*'원가계산서(계산용)'!$I$4 -> 1120052.7 | F6: =TRUNC(E6*D6, 0) -> 0 | G6: ='재료비 노무비 분리'!G6*'원가계산서(계산용)'!$I$4 -> 414266.05 | H6: =TRUNC(G6*D6, 0) -> 0 | J6: =TRUNC(I6*D6, 0) -> 0 | K6: =TRUNC(E6+G6+I6, 0) -> 1534318 | L6: =TRUNC(F6+H6+J6, 0) -> 0 | N6: 5BE96529D382852959590EF83662 | Q6: 010306 | R6: F | S6: F | T6: T | AU6: 0103065BE96529D382852959590EF83662 | AV6: 1152
A7: ='유통물가(승강기1) 가격'!A7 -> 방화도어 | B7: ='유통물가(승강기1) 가격'!B7 -> 20인승 방화도어 1개층 추가 시 | C7: ='유통물가(승강기1) 가격'!C7 -> 조 | D7: ='유통물가(승강기1) 가격'!D7 -> 0 | E7: ='재료비 노무비 분리'!E7*'원가계산서(계산용)'!$I$4 -> 350016.46 | F7: =TRUNC(E7*D7, 0) -> 0 | G7: ='재료비 노무비 분리'!G7*'원가계산서(계산용)'!$I$4 -> 129458.14 | H7: =TRUNC(G7*D7, 0) -> 0 | J7: =TRUNC(I7*D7, 0) -> 0 | K7: =TRUNC(E7+G7+I7, 0) -> 479474 | L7: =TRUNC(F7+H7+J7, 0) -> 0 | N7: 5BE96529D382852959590EF83672 | Q7: 010306 | R7: F | S7: F | T7: T | AU7: 0103065BE96529D382852959590EF83672 | AV7: 1153
A8: ='유통물가(승강기1) 가격'!A8 -> 승객용 승강기(M.R.L.) | B8: ='유통물가(승강기1) 가격'!B8 -> 17인승 x 2층 x 60m/min | C8: ='유통물가(승강기1) 가격'!C8 -> 대 | D8: ='유통물가(승강기1) 가격'!D8 -> 1
A9: ='유통물가(승강기1) 가격'!A9 -> 1개층 추가시 | B9: ='유통물가(승강기1) 가격'!B9 -> 17인승 1개층 추가 | C9: ='유통물가(승강기1) 가격'!C9 -> 층 | D9: ='유통물가(승강기1) 가격'!D9 -> 2
A10: ='유통물가(승강기1) 가격'!A10 -> 방화도어 | B10: ='유통물가(승강기1) 가격'!B10 -> 17인승 방화도어 1개층 추가 시 | C10: ='유통물가(승강기1) 가격'!C10 -> 조 | D10: ='유통물가(승강기1) 가격'!D10 -> 4
A11: ='유통물가(승강기1) 가격'!A11 -> 승객용 승강기(M.R.L.) | B11: ='유통물가(승강기1) 가격'!B11 -> 15인승 x 2층 x 60m/min | C11: ='유통물가(승강기1) 가격'!C11 -> 대 | D11: ='유통물가(승강기1) 가격'!D11 -> 0 | N11: 5BE96529D382852959590EF82582 | Q11: 010306 | R11: F | S11: F | T11: T | AU11: 0103065BE96529D382852959590EF82582 | AV11: 1157
A12: ='유통물가(승강기1) 가격'!A12 -> 1개층 추가시 | B12: ='유통물가(승강기1) 가격'!B12 -> 15인승 1개층 추가 | C12: ='유통물가(승강기1) 가격'!C12 -> 층 | D12: ='유통물가(승강기1) 가격'!D12 -> 0 | N12: 5BE96529D382852959590EF825B2 | Q12: 010306 | R12: F | S12: F | T12: T | AU12: 0103065BE96529D382852959590EF825B2 | AV12: 1158
A13: ='유통물가(승강기1) 가격'!A13 -> 방화도어 | B13: ='유통물가(승강기1) 가격'!B13 -> 15인승 방화도어 1개층 추가 시 | C13: ='유통물가(승강기1) 가격'!C13 -> 조 | D13: ='유통물가(승강기1) 가격'!D13 -> 0 | N13: 5BE96529D382852959590EF825A2 | Q13: 010306 | R13: F | S13: F | T13: T | AU13: 0103065BE96529D382852959590EF825A2 | AV13: 1159
A14: ='유통물가(승강기1) 가격'!A14 -> 승객용 승강기(M.R.L.) | B14: ='유통물가(승강기1) 가격'!B14 -> 13인승 x 2층 x 60m/min | C14: ='유통물가(승강기1) 가격'!C14 -> 대 | D14: ='유통물가(승강기1) 가격'!D14 -> 0 | N14: 5BE96529D382852959590EF83682 | Q14: 010306 | R14: F | S14: F | T14: T | AU14: 0103065BE96529D382852959590EF83682 | AV14: 1154
A15: ='유통물가(승강기1) 가격'!A15 -> 1개층 추가시 | B15: ='유통물가(승강기1) 가격'!B15 -> 13인승 1개층 추가 | C15: ='유통물가(승강기1) 가격'!C15 -> 층 | D15: ='유통물가(승강기1) 가격'!D15 -> 0 | N15: 5BE96529D382852959590EF83692 | Q15: 010306 | R15: F | S15: F | T15: T | AU15: 0103065BE96529D382852959590EF83692 | AV15: 1155
A16: ='유통물가(승강기1) 가격'!A16 -> 방화도어 | B16: ='유통물가(승강기1) 가격'!B16 -> 13인승 방화도어 1개층 추가 시 | C16: ='유통물가(승강기1) 가격'!C16 -> 조 | D16: ='유통물가(승강기1) 가격'!D16 -> 0 | N16: 5BE96529D382852959590EF82592 | Q16: 010306 | R16: F | S16: F | T16: T | AU16: 0103065BE96529D382852959590EF82592 | AV16: 1156
A17: ='유통물가(승강기1) 가격'!A17 -> 휠체어리프트(계단겸용) | B17: ='유통물가(승강기1) 가격'!B17 -> 320kg | C17: ='유통물가(승강기1) 가격'!C17 -> 대 | D17: ='유통물가(승강기1) 가격'!D17 -> 1
A35: [ 합 계 ] | F35: =SUM(F5:F34) -> 0 | H35: =SUM(H5:H34) -> 0 | J35: =SUM(J5:J34) -> 0 | L35: =SUM(L5:L34) -> 0 | N35: TOTAL

Sheet 원가계산서
B1: 물 품 원 가 계 산 서 | I1: 열 숨기기 할 것 | J1: 열 숨기기 할 것
B2: ='원가계산서(계산용)'!B2:E2 -> 공사명 : 가칭 강동고등학교 교사신축 승강기 구매 및 설치
B3: 비 목 | E3: 금 액 | F3: 구 성 비 | G3: 비 고
A4: A1 | B4: 순 공 사 원 가 | C4: 재 료 비 | D4: 직 접 재 료 비
A5: A2 | D5: 간 접 재 료 비
A6: A3 | D6: 작업설, 부산물(△)
A7: AS | D7: [ 소 계 ]
A8: B1 | C8: 노 무 비 | D8: 직 접 노 무 비
A9: B2 | D9: 간 접 노 무 비
A10: BS | D10: [ 소 계 ]
A11: C4 | C11: 경 비 | D11: 산 재 보 험 료 | F11: ='원가계산서(계산용)'!F11 -> 0.0375
A12: C5 | D12: 고 용 보 험 료 | F12: ='원가계산서(계산용)'!F12 -> 0.0087
A13: C6 | D13: 국민 건강 보험료 | F13: ='원가계산서(계산용)'!F13 -> 0.0323
A14: C7 | D14: 국민 연금 보험료 | F14: ='원가계산서(계산용)'!F14 -> 0.045
A15: CB | D15: 노인장기요양보험료 | F15: ='원가계산서(계산용)'!F15 -> 0.0851
A16: CA | D16: 산업안전보건관리비 | F16: ='원가계산서(계산용)'!F16 -> 0.0293
A17: CG | D17: 환 경 보 전 비 | F17: ='원가계산서(계산용)'!F17 -> 0.003
D18: 퇴직공제부금비 | F18: ='원가계산서(계산용)'!F18 -> 0
A19: CS | D19: [ 소 계 ]
A20: S1 | B20: 계 | I20: =ROUND(J26/1.1,0) -> -79000000 | J20: ="계 금액 계산식에서 " & I20 & "원 감 조정" -> 계 금액 계산식에서 -79000000원 감 조정
A21: D1 | B21: 일 반 관 리 비 | F21: 계 * 6%
A22: D2 | B22: 이 윤 | F22: (노무비+경비+일반관리비) * 15%
A23: D9 | B23: 공 급 가 액
A24: DB | B24: 부 가 가 치 세 | F24: 공급가액 * 10%
A25: DH | B25: 도 급 액
A26: S2 | B26: 총 공 사 비 | I26: ='유통물가(승강기1) 가격'!L23 -> 86900000 | J26: =E26-I26 -> -86900000

Sheet  공사설정 
A1: 이 Sheet는 수정하지 마십시요
A2: 공사구분 | B2: C
A3: 확정내역 | B3: 원내역
A4: 자재단가적용 | B4: 5
A5: 경비단가적용 | B5: 5
A6: 품목코드형식 | B6: XXXX-XXX-XXXXXXXXX
A7: 내역금액소수점처리 | B7: C | C7: 1
A8: 일위대가내역소수점처리 | B8: C | C8: 2
A9: 단가명 | B9: 가격정보 | C9: 물가자료 | D9: 물가정보 | E9: 거래가격 | F9: 조사가격 | G9: TTTTT
A10: 환율 | B10: 0 | C10: 0 | D10: 0
A11: 시간당작업량 | B11: R | C11: 3
A12: 1회 사이클시간 | B12: R | C12: 3
A13: 시간당 작업사이클 | B13: R | C13: 2
A14: 일반변수 | B14: C | C14: 5
A15: 시간당 노임산출 계수 | B15: A | C15: 1/8*16/12*25/20 | D15: 1/8*16/12*25/20 | E15: 1/8*16/12*25/20 | F15: 1/8*16/12*25/20
A16: 재료비 할증 계수 | B16: 0 | C16: 0
A17: 노무비 할증 계수 | B17: 0 | C17: 0 | D17: 0 | E17: 0 | F17: 0 | G17: 0 | H17: 0 | I17: 0 | J17: 0 | K17: 0 | L17: 0 | M17: 0
A18: 경비 할증 계수 | B18: 0 | C18: 0
A19: 내역,일위대가 품명,규격,단위 따로적용
A20: 내역단가 소수점처리 | B20: C | C20: 1
A21: 코드 | B21: 공종구분명 | C21: 원가비목코드
A22: 1 | B22: 작업부산물 | C22: A3
A23: 2 | B23: 운반비 | C23: C1
A24: 3 | B24: 관급자재비 | C24: DJ
A25: 4 | B25: 사급자재비 | C25: D3
A26: 5 | B26: TAB공사 | C26: DA
A27: 6
A28: 7
A29: 8
A30: 9

Sheet Sheet1
