Workbook

Sheet 원가계산서
B1: 원 가 계 산 서
B2: 건명 : 대동 지식산업센터 전기공사 관급자재(승강기) 구매 설치 | F2: =E26 -> 0
B3: 비 목 | E3: 금 액 | F3: 구 성 비 | G3: 비 고
A4: A1 | B4: 순 공 사 원 가 | C4: 재 료 비 | D4: 직 접 재 료 비 | E4: =TRUNC(공종별집계표!F5, 0) -> 0
A5: A2 | D5: 간 접 재 료 비 | E5: 0
A6: A3 | D6: 작 업 부 산 물 | E6: =TRUNC(공종별집계표!T10, 0) -> 0
A7: AS | D7: [ 소 계 ] | E7: =TRUNC(E4+E5-E6, 0) -> 0
A8: B1 | C8: 노 무 비 | D8: 직 접 노 무 비 | E8: =TRUNC(공종별집계표!H5, 0) -> 0
A9: B2 | D9: 간 접 노 무 비
A10: BS | D10: [ 소 계 ] | E10: =TRUNC(E8+E9, 0) -> 0
A11: C2 | C11: 경 비 | D11: 기 계 경 비 | E11: =TRUNC(공종별집계표!J5, 0) -> 0
A12: C4 | D12: 산 재 보 험 료 | E12: =TRUNC(E10*0.0375, 0) -> 0 | F12: 노무비 * 3.75%
A13: C5 | D13: 고 용 보 험 료 | E13: =TRUNC(E10*0.0087, 0) -> 0 | F13: 노무비 * 0.87%
A14: C6 | D14: 국민 건강 보험료 | E14: 1900082 | F14: 직접노무비 * 3.23%
A15: C7 | D15: 국민 연금 보험료 | E15: 2647174 | F15: 직접노무비 * 4.5%
A16: CB | D16: 노인장기요양보험료 | E16: 161696 | F16: 건강보험료 * 8.51%
A17: CA | D17: 산업안전보건관리비 | E17: 6316909 | F17: (재료비+직노) * 1.85%
D18: 퇴직공제부금
A19: CG | D19: 기 타 경 비
A20: CS | D20: [ 소 계 ]
A21: S1 | B21: 계 | E21: =TRUNC(E7+E10+E20, 0) -> 0
A22: D1 | B22: 일 반 관 리 비
A23: D2 | B23: 이 윤
A24: D9 | B24: 공 급 가 액 | E24: =TRUNC(E21+E22+E23, -4) -> 0 | F24: 천단위 이하 절사
A25: DB | B25: 부 가 가 치 세 | E25: =TRUNC(E24*0.1, 0) -> 0 | F25: 공급가액 * 10%
A26: DH | B26: 도 급 액 | E26: =TRUNC(E24+E25, 0) -> 0
A27: DK | B27: 관 급 자 재 비 | E27: 76813000 | G27: <부가세포함>
A28: S2 | B28: 총 공 사 비 | E28: =TRUNC(E26+E27, 0) -> 76813000
B29: 한 전 수 탁 비 | E29: =7167000 -> 7167000
B30: 합 계 | E30: =E28+E29 -> 83980000

Sheet 공종별집계표
A1: 공 종 별 집 계 표
A2: =원가계산서!B2 -> 건명 : 대동 지식산업센터 전기공사 관급자재(승강기) 구매 설치
A3: 품 명 | B3: 규 격 | C3: 단위 | D3: 수량 | E3: 재 료 비 | G3: 노 무 비 | I3: 경 비 | K3: 합 계 | M3: 비 고 | N3: 공종코드 | O3: 변수 | P3: 상위공종 | Q3: 공종구분 | R3: 공종레벨 | S3: 공종소계 | T3: 원가계산서 연결금액
E4: 단 가 | F4: 금 액 | G4: 단 가 | H4: 금 액 | I4: 단 가 | J4: 금 액 | K4: 단 가 | L4: 금 액
A5: 01 대동 지식산업센터 전기공사 | D5: 1 | E5: =F6+F7+F8+F9+F11+F12 -> 0 | F5: =E5*D5 -> 0 | G5: =H6+H7+H8+H9+H11+H12 -> 0 | H5: =G5*D5 -> 0 | I5: =J6+J7+J8+J9+J11+J12 -> 0 | J5: =I5*D5 -> 0 | K5: =E5+G5+I5 -> 0 | L5: =F5+H5+J5 -> 0 | N5: 01 | R5: 1
A6: 0101 승강기 구매설치 | D6: 1 | E6: =공종별내역서!F24 -> 0 | F6: =E6*D6 -> 0 | G6: =공종별내역서!H24 -> 0 | H6: =G6*D6 -> 0 | I6: =공종별내역서!J24 -> 0 | J6: =I6*D6 -> 0 | K6: =E6+G6+I6 -> 0 | L6: =F6+H6+J6 -> 0 | N6: 0101 | P6: 01 | R6: 2
D7: 1 | E7: 0 | F7: =E7*D7 -> 0 | G7: 0 | H7: =G7*D7 -> 0 | I7: 0 | J7: =I7*D7 -> 0 | K7: =E7+G7+I7 -> 0 | L7: =F7+H7+J7 -> 0 | N7: 0102 | P7: 01 | R7: 2
N8: 0103 | P8: 01 | R8: 2
N9: 0104 | P9: 01 | R9: 2
N10: 0105 | Q10: 1 | R10: 2 | T10: =L10*1 -> 0
N11: 0107 | P11: 01 | R11: 2
E12: 0 | F12: =E12*D12 -> 0 | G12: 0 | H12: =G12*D12 -> 0 | I12: 0 | J12: =I12*D12 -> 0 | K12: =E12+G12+I12 -> 0 | L12: =F12+H12+J12 -> 0 | N12: 0108 | P12: 01 | R12: 2
A25: [ 합 계 ] | F25: =F5 -> 0 | H25: =H5 -> 0 | J25: =J5 -> 0 | L25: =L5 -> 0

Sheet 공종별내역서
A1: =공종별집계표!A2 -> 건명 : 대동 지식산업센터 전기공사 관급자재(승강기) 구매 설치
A2: 품 명 | B2: 규 격 | C2: 단위 | D2: 수량 | E2: 재 료 비 | G2: 노 무 비 | I2: 경 비 | K2: 합 계 | M2: 비 고 | N2: 품목코드 | O2: 변수 | P2: 설정 | Q2: 공종코드 | R2: 일위 | S2: 단산 | T2: 자재 | U2: 손료적용 | V2: 손료저장 | W2: 적용율 | X2: JUK1 | Y2: JUK2 | Z2: JUK3 | AA2: JUK4 | AB2: JUK5 | AC2: JUK6 | AD2: JUK7 | AE2: JUK8 | AF2: JUK9 | AG2: JUK10 | AH2: JUK11 | AI2: JUK12 | AJ2: JUK13 | AK2: JUK14 | AL2: JUK15 | AM2: JUK16 | AN2: JUK17 | AO2: JUK18 | AP2: JUK19 | AQ2: JUK20 | AR2: 자재구분 | AS2: 공종구분 | AT2: 공종레벨 | AU2: 공종+자재 | AV2: 고유번호
E3: 단 가 | F3: 금 액 | G3: 단 가 | H3: 금 액 | I3: 단 가 | J3: 금 액 | K3: 단 가 | L3: 금 액
A4: 001 승강기 구매설치 | Q4: 0101
A5: 승객용 엘리베이터 | B5: 105m/min, 15인승, MRL, 중간빔 포함 | C5: 대 | D5: 4 | F5: =TRUNC(E5*D5, 0) -> 0 | H5: =TRUNC(G5*D5, 0) -> 0 | J5: =TRUNC(I5*D5, 0) -> 0 | K5: =TRUNC(E5+G5+I5, 0) -> 0 | L5: =TRUNC(F5+H5+J5, 0) -> 0 | N5: 5305B3F900011357504940DCD91ECF | Q5: 0101 | R5: T | S5: F | T5: F | AU5: 01015305B3F900011357504940DCD91ECF | AV5: 313
A6: 화물용 엘리베이터 | B6: 3,000kg, 30m/min | C6: 본 | D6: 1 | F6: =TRUNC(E6*D6, 0) -> 0 | H6: =TRUNC(G6*D6, 0) -> 0 | J6: =TRUNC(I6*D6, 0) -> 0 | K6: =TRUNC(E6+G6+I6, 0) -> 0 | L6: =TRUNC(F6+H6+J6, 0) -> 0 | N6: 5305B3FA0001307EA6EF76F36B270B | Q6: 0101 | R6: T | S6: F | T6: F | AU6: 01015305B3FA0001307EA6EF76F36B270B | AV6: 182
N8: 5305B3FA0001307EA6EF76F36B2662 | Q8: 0101 | R8: T | S8: F | T8: F | AU8: 01015305B3FA0001307EA6EF76F36B2662 | AV8: 342
N9: 5305B3FA0001307EA6EF76F36B2663 | Q9: 0101 | R9: T | S9: F | T9: F | AU9: 01015305B3FA0001307EA6EF76F36B2663 | AV9: 343
N10: 5305B3FA0001307EA6EF76F36B2660 | Q10: 0101 | R10: T | S10: F | T10: F | AU10: 01015305B3FA0001307EA6EF76F36B2660 | AV10: 294
N11: 5305B3FA00013A6139F1407DE417F7 | Q11: 0101 | R11: T | S11: F | T11: F | AU11: 01015305B3FA00013A6139F1407DE417F7 | AV11: 293
N12: 5305B3FA00013A6139F14686B00330 | Q12: 0101 | R12: T | S12: F | T12: F | AU12: 01015305B3FA00013A6139F14686B00330 | AV12: 311
N13: 5305B3FA00013A6139F14686B007AD | Q13: 0101 | R13: T | S13: F | T13: F | AU13: 01015305B3FA00013A6139F14686B007AD | AV13: 327
N14: 5305B3FA00013A6139F147ACB3FEDC | Q14: 0101 | R14: T | S14: F | T14: F | AU14: 01015305B3FA00013A6139F147ACB3FEDC | AV14: 341
N15: 5305B3FA00013B08A656EBEE461082 | Q15: 0101 | R15: T | S15: F | T15: F | AU15: 01015305B3FA00013B08A656EBEE461082 | AV15: 121
N16: 5305B3FA00013B08A656EBEE46162D | Q16: 0101 | R16: T | S16: F | T16: F | AU16: 01015305B3FA00013B08A656EBEE46162D | AV16: 10
N17: 5305B3FA000138B46668CE3F63FC2A | Q17: 0101 | R17: T | S17: F | T17: F | AU17: 01015305B3FA000138B46668CE3F63FC2A | AV17: 64
N18: 5305B3FA000138B46668CE3F63FB04 | Q18: 0101 | R18: T | S18: F | T18: F | AU18: 01015305B3FA000138B46668CE3F63FB04 | AV18: 213
N19: 5305B3FA000138B46668CE3F63F8B1 | Q19: 0101 | R19: T | S19: F | T19: F | AU19: 01015305B3FA000138B46668CE3F63F8B1 | AV19: 65
... N22: 534FB3B800011CEDCD43F7BA64B8AD | Q22: 0101 | R22: F | S22: T | T22: F | AU22: 0101534FB3B800011CEDCD43F7BA64B8AD | AV22: 296
A24: [ 합 계 ] | F24: =SUM(F5:F23) -> 0 | H24: =SUM(H5:H23) -> 0 | J24: =SUM(J5:J23) -> 0 | L24: =SUM(L5:L23) -> 0 | N24: TOTAL
A25: 0102 주차장 조명설비공사 (하부) | Q25: 0102
A26: 공원등제어함 설치 | B26: 옥외형(4회로) | C26: 대 | D26: 1 | E26: =TRUNC(#REF!,0) -> #REF! | F26: =TRUNC(E26*D26, 0) -> #REF! | G26: =TRUNC(#REF!,0) -> #REF! | H26: =TRUNC(G26*D26, 0) -> #REF! | I26: =TRUNC(#REF!,0) -> #REF! | J26: =TRUNC(I26*D26, 0) -> #REF! | K26: =TRUNC(E26+G26+I26, 0) -> #REF! | L26: =TRUNC(F26+H26+J26, 0) -> #REF! | M26: 호표 17 | N26: 5305B3F900011357504940DCD91ECE | Q26: 0102 | R26: T | S26: F | T26: F | AU26: 01025305B3F900011357504940DCD91ECE | AV26: 325
A27: 옥외 공원등 설치 | B27: 5m이하, 1등용(LED) (공공) | C27: 본 | D27: 8 | E27: =TRUNC(#REF!,0) -> #REF! | F27: =TRUNC(E27*D27, 0) -> #REF! | G27: =TRUNC(#REF!,0) -> #REF! | H27: =TRUNC(G27*D27, 0) -> #REF! | I27: =TRUNC(#REF!,0) -> #REF! | J27: =TRUNC(I27*D27, 0) -> #REF! | K27: =TRUNC(E27+G27+I27, 0) -> #REF! | L27: =TRUNC(F27+H27+J27, 0) -> #REF! | M27: 호표 18 | N27: 5305B3FA0001307EA6EF76F36B2702 | Q27: 0102 | R27: T | S27: F | T27: F | AU27: 01025305B3FA0001307EA6EF76F36B2702 | AV27: 289
A28: 공원등기구설치 | B28: LED 50W (공공) | C28: 본 | D28: 8 | E28: =TRUNC(#REF!,0) -> #REF! | F28: =TRUNC(E28*D28, 0) -> #REF! | G28: =TRUNC(#REF!,0) -> #REF! | H28: =TRUNC(G28*D28, 0) -> #REF! | I28: =TRUNC(#REF!,0) -> #REF! | J28: =TRUNC(I28*D28, 0) -> #REF! | K28: =TRUNC(E28+G28+I28, 0) -> #REF! | L28: =TRUNC(F28+H28+J28, 0) -> #REF! | M28: 호표 19 | N28: 5305B3FA0001307EA6EF76F36B2664 | Q28: 0102 | R28: T | S28: F | T28: F | AU28: 01025305B3FA0001307EA6EF76F36B2664 | AV28: 290
A29: 0.6/1kV 난연 전력 케이블(F-CV) | B29: 2C 16㎟ (옥외) | C29: m | D29: 100 | E29: =TRUNC(#REF!,0) -> #REF! | F29: =TRUNC(E29*D29, 0) -> #REF! | G29: =TRUNC(#REF!,0) -> #REF! | H29: =TRUNC(G29*D29, 0) -> #REF! | I29: =TRUNC(#REF!,0) -> #REF! | J29: =TRUNC(I29*D29, 0) -> #REF! | K29: =TRUNC(E29+G29+I29, 0) -> #REF! | L29: =TRUNC(F29+H29+J29, 0) -> #REF! | M29: 호표 7 | N29: 5305B3FA00013A6139F14686B00330 | Q29: 0102 | R29: T | S29: F | T29: F | AU29: 01025305B3FA00013A6139F14686B00330 | AV29: 312
A30: 0.6/1kV 난연 전력 케이블(F-CV) | B30: 4C 6㎟ (옥외) | C30: m | D30: 169 | E30: =TRUNC(#REF!,0) -> #REF! | F30: =TRUNC(E30*D30, 0) -> #REF! | G30: =TRUNC(#REF!,0) -> #REF! | H30: =TRUNC(G30*D30, 0) -> #REF! | I30: =TRUNC(#REF!,0) -> #REF! | J30: =TRUNC(I30*D30, 0) -> #REF! | K30: =TRUNC(E30+G30+I30, 0) -> #REF! | L30: =TRUNC(F30+H30+J30, 0) -> #REF! | M30: 호표 6 | N30: 5305B3FA00013A6139F1407DE417F7 | Q30: 0102 | R30: T | S30: F | T30: F | AU30: 01025305B3FA00013A6139F1407DE417F7 | AV30: 291
A31: 0.6/1kV 난연 전력 케이블(F-CV) | B31: 3C 2.5㎟ (옥외) | C31: m | D31: 56 | E31: =TRUNC(#REF!,0) -> #REF! | F31: =TRUNC(E31*D31, 0) -> #REF! | G31: =TRUNC(#REF!,0) -> #REF! | H31: =TRUNC(G31*D31, 0) -> #REF! | I31: =TRUNC(#REF!,0) -> #REF! | J31: =TRUNC(I31*D31, 0) -> #REF! | K31: =TRUNC(E31+G31+I31, 0) -> #REF! | L31: =TRUNC(F31+H31+J31, 0) -> #REF! | M31: 호표 9 | N31: 5305B3FA00013A6139F147ACB3FEDC | Q31: 0102 | R31: T | S31: F | T31: F | AU31: 01025305B3FA00013A6139F147ACB3FEDC | AV31: 279
A32: 난연 비닐 절연 접지용전선(F-GV) | B32: 0.6/1kV 6㎟ (옥외) | C32: m | D32: 213 | E32: =TRUNC(#REF!,0) -> #REF! | F32: =TRUNC(E32*D32, 0) -> #REF! | G32: =TRUNC(#REF!,0) -> #REF! | H32: =TRUNC(G32*D32, 0) -> #REF! | I32: =TRUNC(#REF!,0) -> #REF! | J32: =TRUNC(I32*D32, 0) -> #REF! | K32: =TRUNC(E32+G32+I32, 0) -> #REF! | L32: =TRUNC(F32+H32+J32, 0) -> #REF! | M32: 호표 11 | N32: 5305B3FA00013B08A656EBEE46162D | Q32: 0102 | R32: T | S32: F | T32: F | AU32: 01025305B3FA00013B08A656EBEE46162D | AV32: 281
A33: 난연 비닐 절연 접지용전선(F-GV) | B33: 0.6/1kV 16㎟ (옥외) | C33: m | D33: 30 | E33: =TRUNC(#REF!,0) -> #REF! | F33: =TRUNC(E33*D33, 0) -> #REF! | G33: =TRUNC(#REF!,0) -> #REF! | H33: =TRUNC(G33*D33, 0) -> #REF! | I33: =TRUNC(#REF!,0) -> #REF! | J33: =TRUNC(I33*D33, 0) -> #REF! | K33: =TRUNC(E33+G33+I33, 0) -> #REF! | L33: =TRUNC(F33+H33+J33, 0) -> #REF! | M33: 호표 10 | N33: 5305B3FA00013B08A656EBEE461082 | Q33: 0102 | R33: T | S33: F | T33: F | AU33: 01025305B3FA00013B08A656EBEE461082 | AV33: 280
A34: 폴리에틸렌 전선관-매입 | B34: PE 16㎜ (옥외) | C34: M | D34: 40 | E34: =TRUNC(#REF!,0) -> #REF! | F34: =TRUNC(E34*D34, 0) -> #REF! | G34: =TRUNC(#REF!,0) -> #REF! | H34: =TRUNC(G34*D34, 0) -> #REF! | I34: =TRUNC(#REF!,0) -> #REF! | J34: =TRUNC(I34*D34, 0) -> #REF! | K34: =TRUNC(E34+G34+I34, 0) -> #REF! | L34: =TRUNC(F34+H34+J34, 0) -> #REF! | M34: 호표 12 | N34: 5305B3FA000138B46668CE3F63FC2A | Q34: 0102 | R34: T | S34: F | T34: F | AU34: 01025305B3FA000138B46668CE3F63FC2A | AV34: 282
A35: 폴리에틸렌 전선관-매입 | B35: PE 36㎜ (옥외) | C35: M | D35: 30 | E35: =TRUNC(#REF!,0) -> #REF! | F35: =TRUNC(E35*D35, 0) -> #REF! | G35: =TRUNC(#REF!,0) -> #REF! | H35: =TRUNC(G35*D35, 0) -> #REF! | I35: =TRUNC(#REF!,0) -> #REF! | J35: =TRUNC(I35*D35, 0) -> #REF! | K35: =TRUNC(E35+G35+I35, 0) -> #REF! | L35: =TRUNC(F35+H35+J35, 0) -> #REF! | M35: 호표 13 | N35: 5305B3FA000138B46668CE3F63FB04 | Q35: 0102 | R35: T | S35: F | T35: F | AU35: 01025305B3FA000138B46668CE3F63FB04 | AV35: 283
A36: 폴리에틸렌 전선관-매입 | B36: PE 42㎜ (옥외) | C36: M | D36: 169 | E36: =TRUNC(#REF!,0) -> #REF! | F36: =TRUNC(E36*D36, 0) -> #REF! | G36: =TRUNC(#REF!,0) -> #REF! | H36: =TRUNC(G36*D36, 0) -> #REF! | I36: =TRUNC(#REF!,0) -> #REF! | J36: =TRUNC(I36*D36, 0) -> #REF! | K36: =TRUNC(E36+G36+I36, 0) -> #REF! | L36: =TRUNC(F36+H36+J36, 0) -> #REF! | M36: 호표 14 | N36: 5305B3FA000138B46668CE3F63F8B1 | Q36: 0102 | R36: T | S36: F | T36: F | AU36: 01025305B3FA000138B46668CE3F63F8B1 | AV36: 284
A37: 폴리에틸렌 전선관-매입 | B37: PE 54㎜ (옥외) | C37: M | D37: 100 | E37: =TRUNC(#REF!,0) -> #REF! | F37: =TRUNC(E37*D37, 0) -> #REF! | G37: =TRUNC(#REF!,0) -> #REF! | H37: =TRUNC(G37*D37, 0) -> #REF! | I37: =TRUNC(#REF!,0) -> #REF! | J37: =TRUNC(I37*D37, 0) -> #REF! | K37: =TRUNC(E37+G37+I37, 0) -> #REF! | L37: =TRUNC(F37+H37+J37, 0) -> #REF! | M37: 호표 15 | N37: 5305B3FA000138B46668CE3F63F956 | Q37: 0102 | R37: T | S37: F | T37: F | AU37: 01025305B3FA000138B46668CE3F63F956 | AV37: 285
... A40: 되메우고다지기(기계)(1~2M) | B40: 백호0.7M3*래머80kg,다짐50cm | C40: ㎥ | D40: 168.6 | E40: =TRUNC(#REF!,0) -> #REF! | F40: =TRUNC(E40*D40, 0) -> #REF! | G40: =TRUNC(#REF!,0) -> #REF! | H40: =TRUNC(G40*D40, 0) -> #REF! | I40: =TRUNC(#REF!,0) -> #REF! | J40: =TRUNC(I40*D40, 0) -> #REF! | K40: =TRUNC(E40+G40+I40, 0) -> #REF! | L40: =TRUNC(F40+H40+J40, 0) -> #REF! | M40: 산근 2 | N40: 534FB3B800011CEDCD43F7BA64B8AD | Q40: 0102 | R40: F | S40: T | T40: F | AU40: 0102534FB3B800011CEDCD43F7BA64B8AD | AV40: 305
A48: [ 합 계 ] | F48: =SUM(F26:F47) -> #REF! | H48: =SUM(H26:H47) -> #REF! | J48: =SUM(J26:J47) -> #REF! | L48: =SUM(L26:L47) -> #REF! | N48: TOTAL

Sheet  공사설정 
A1: 이 Sheet는 수정하지 마십시요
A2: 공사구분 | B2: D
A3: 확정내역 | B3: 원내역
A4: 자재단가적용 | B4: 5
A5: 경비단가적용 | B5: 5
A6: 품목코드형식 | B6: XXXX-XXXX-XXXXXXXXX
A7: 내역금액소수점처리 | B7: C | C7: 1
A8: 일위대가내역소수점처리 | B8: C | C8: 2
A9: 단가명 | B9: 가격정보 | C9: 물가자료 | D9: 물가정보 | E9: 조사가격 | F9: 조사가격 | G9: TTTTT
A10: 환율 | B10: 1153.3 | C10: 0 | D10: 0
A11: 시간당작업량 | B11: R | C11: 4
A12: 1회 사이클시간 | B12: R | C12: 4
A13: 시간당 작업사이클 | B13: R | C13: 3
A14: 일반변수 | B14: C | C14: 5
A15: 시간당 노임산출 계수 | B15: A | C15: 1/8*16/12*25/20 | D15: 1/8*16/12*25/20 | E15: 1/8*16/12*25/20 | F15: 1
A16: 재료비 할증 계수 | B16: 1.11 | C16: 1.12
A17: 노무비 할증 계수 | B17: 1 | C17: 1.5 | D17: 1.16 | E17: 1.6 | F17: 1.6 | G17: 1.6 | H17: 1.94 | I17: 1.94 | J17: 1.94 | K17: 1 | L17: 1 | M17: 1
A18: 경비 할증 계수 | B18: 1.25 | C18: 1.071
A19: 내역,일위대가 품명,규격,단위 따로적용
A20: 내역단가 소수점처리 | B20: C | C20: 1
A21: 코드 | B21: 공종구분명 | C21: 원가비목코드
A22: 1 | B22: 작 업 부 산 물 | C22: A3
A23: 2 | B23: 운 반 비 | C23: C1
A24: 3 | B24: 관 급 자 재 비 | C24: DJ
A25: 4 | B25: 사 급 자 재 비 | C25: D3
A26: 5 | B26: ...
A27: 6 | B27: ...
A28: 7 | B28: ...
A29: 8 | B29: ...
A30: 9 | B30: ...

Sheet Sheet1
