Workbook

Sheet 원가
A1: 제 조 원 가 계 산 서
A2: 안양 귀인초등학교 현장
A3: 비 목 | D3: 금 액 | G3: 비 고
A4: 1. 순공사원가 (가+나+다) | D4: =+D5+D8+D11 -> 0
A5: 가. 재 료 비 | D5: =SUM(D6:D7) -> 0
A6: 가-1 직접 재료비 | D6: =견적갑지!F11 -> 0 | F6: *
A7: 가-2 간접 재료비
A8: 나. 노 무 비 | D8: =SUM(D9:D10) -> 0
A9: 나-1 직접 노무비 | D9: =견적갑지!H11 -> 0 | F9: *
A10: 나-2 간접 노무비(직접 노무비의 4.9%이내) | D10: =D9*0.049 -> 0
A11: 다. 경 비 | D11: =SUM(D12:D14) -> 0
A12: 다-1 산출경비 | D12: =견적갑지!J11 -> 0 | F12: *
A13: 다-2 산업안전보건관리비(가+나-1의 | B13: 0.0085 | C13: ) | D13: =(D5+D9)*B13 -> 0
A14: 다-3 기타 경비(가+나의 | B14: 0.037 | C14: ) | D14: =INT((D5+D8)*B14) -> 0
A15: 2. 일반 관리비 (가+나+다)의 | B15: 0.02 | C15: )이내 | D15: =INT(D4*B15) -> 0
A16: 3. 이 윤 (나+다+2)의 | B16: 0.07 | C16: )이내 | D16: =INT((D8+D11+D15)*B16) -> 0
A17: 4. 총 원 가 (1+2+3) | D17: =INT((+D4+D15+D16)) -> 0
A18: 5. 부가가치세 (4의 | B18: 0.1 | C18: ) | D18: =SUM(D17)*B18 -> 0
A19: 6. 총 계 | D19: =ROUNDDOWN((D17+D18),-3) -> 0 | G19: * 천단위 절사

Sheet 견적갑지
A1: 안양 귀인초등학교 현장
A2: 공 종 명 | C2: 단위 | D2: 수량 | E2: 재 료 비 | G2: 노 무 비 | I2: 경 비 | K2: 계 | L2: 비 고
E3: 단 가 | F3: 금 액 | G3: 단 가 | H3: 금 액 | I3: 단 가 | J3: 금 액
A4: 화물용 승강기 750kg 5/5층
A5: 1. 기계실 부분 | C5: 식 | D5: 1 | F5: ='내역서(화물)'!F21 -> 0 | H5: ='내역서(화물)'!H21 -> 0 | J5: ='내역서(화물)'!J21 -> 0 | K5: =F5+H5+J5 -> 0
A6: 2. 승강로 부분 | C6: 식 | D6: 1 | F6: ='내역서(화물)'!F73 -> 0 | H6: ='내역서(화물)'!H73 -> 0 | K6: =F6+H6+J6 -> 0
A7: 3. 출입구 부분 | C7: 식 | D7: 1 | F7: ='내역서(화물)'!F86 -> 0 | H7: ='내역서(화물)'!H86 -> 0 | K7: =F7+H7+J7 -> 0
A11: 총 계 | F11: =SUM(F5:F10) -> 0 | H11: =SUM(H5:H10) -> 0 | J11: =SUM(J5:J10) -> 0 | K11: =SUM(K5:K10) -> 0

Sheet 내역서(화물)
A1: 안양 귀인초등학교 현장(화물용 750kg-5/5층-30m/min) | L1: [단위 : 원]
A2: 품 명 | B2: 규 격 | C2: 단위 | D2: 수 량 | E2: 재 료 비 | G2: 노 무 비 | I2: 경 비 | K2: 계 | L2: 비 고
E3: 단 가 | F3: 금 액 | G3: 단 가 | H3: 금 액 | I3: 단 가 | J3: 금 액
A4: 1. 기계실 부분
A5: 메인모타 | B5: 5.5 KW | C5: 대 | D5: 1 | K5: =F5+H5+J5 -> 0
A6: 방진고무 | B6: 750 KG | C6: EA | D6: 10 | K6: =F6+H6+J6 -> 0
A7: 머신 받침대 | B7: 750 KG | C7: 대 | D7: 1 | K7: =F7+H7+J7 -> 0
A8: 머신빔 | B8: I-BEAM | C8: SET | D8: 1 | K8: =F8+H8+J8 -> 0
A9: 세컨시브 | B9: 480mm | C9: SET | D9: 1 | K9: =F9+H9+J9 -> 0
A10: 가바나 머신 | B10: 30M/MIN | C10: 대 | D10: 1 | K10: =F10+H10+J10 -> 0
A11: 제어반 | C11: 대 | D11: 1 | K11: =F11+H11+J11 -> 0
A12: 아크릴형광등 | B12: 220/ 10W | C12: EA | D12: 1 | K12: =F12+H12+J12 -> 0
A13: 콘센트 | B13: 220V | C13: EA | D13: 1 | K13: =F13+H13+J13 -> 0
A14: 크레인사용료 | B14: 25 TON | C14: 식 | D14: 1 | K14: =F14+H14+J14 -> 0
A15: 운반비 | B15: 5 TON | C15: 식 | D15: 2 | K15: =F15+H15+J15 -> 0
A16: 완성검사비 | B16: 2 TON | C16: 식 | D16: 1 | K16: =F16+H16+J16 -> 0
A17: 철공 | B17: 권상기 설치 | C17: 인 | D17: 4 | K17: =F17+H17+J17 -> 0
A18: 용접공 | B18: 권상기 설치 | C18: 인 | D18: 4 | K18: =F18+H18+J18 -> 0
A19: 플랜트제관공 | C19: 인 | D19: 3 | K19: =F19+H19+J19 -> 0
A20: 계장공 | C20: 인 | D20: 3 | K20: =F20+H20+J20 -> 0
A21: ( 합 계 ) | K21: =F21+H21+J21 -> 0
K22: =F22+H22+J22 -> 0
A23: 2. 승강로 부분 | K23: =F23+H23+J23 -> 0
A24: 카 판넬 | B24: STS-H·L | C24: 대 | D24: 1 | K24: =F24+H24+J24 -> 0
A25: 카 도아판넬 | B25: STS-H·L | C25: 대 | D25: 2 | K25: =F25+H25+J25 -> 0
A26: 카 도아헷다 | B26: 머신 포함 | C26: 대 | D26: 2 | K26: =F26+H26+J26 -> 0
A27: 카 도아 실 | C27: 대 | D27: 2 | K27: =F27+H27+J27 -> 0
A28: 카운타 레일 | B28: 8 k/kg | C28: 본 | D28: 5 | K28: =F28+H28+J28 -> 0
A29: 버퍼 다이 | C29: SET | D29: 2 | K29: =F29+H29+J29 -> 0
A30: 버퍼 스프링 | B30: 1TON/30MIN | C30: 대 | D30: 2 | K30: =F30+H30+J30 -> 0
A31: 승강로 닥트 | C31: M | D31: 20 | K31: =F31+H31+J31 -> 0
A32: 세프티 디바이스 | B32: D 8 MM * 1 | C32: SET | D32: 1 | K32: =F32+H32+J32 -> 0
A33: 승강로 전선 | B33: 0.75 * 25C | C33: M | D33: 45 | K33: =F33+H33+J33 -> 0
B34: 0.75 * 20C | C34: M | D34: 45 | K34: =F34+H34+J34 -> 0
B35: 0.75 * 15C | C35: M | D35: 45 | K35: =F35+H35+J35 -> 0
B36: 1.0 * 25C | C36: M | D36: 45 | K36: =F36+H36+J36 -> 0
A37: 승강로 스위치 | B37: LIMIT S/W | C37: EA | D37: 23 | K37: =F37+H37+J37 -> 0
A38: 인닥터 스위치 | C38: EA | D38: 5 | K38: =F38+H38+J38 -> 0
A39: 마이크로 스위치 | C39: EA | D39: 5 | K39: =F39+H39+J39 -> 0
A40: 카 천정 | C40: 대 | D40: 1 | K40: =F40+H40+J40 -> 0
A41: 게이트 스위치 | C41: 대 | D41: 2 | K41: =F41+H41+J41 -> 0
A42: 볼트, 너트 | C42: 식 | D42: 1 | K42: =F42+H42+J42 -> 0
A43: 운전반 | C43: 대 | D43: 2 | K43: =F43+H43+J43 -> 0
A44: 카 상부 후렘 | C44: 대 | D44: 1 | K44: =F44+H44+J44 -> 0
A45: 카 하부 후램 | C45: 대 | D45: 1 | K45: =F45+H45+J45 -> 0
A46: 카 좌우 후램 | C46: 대 | D46: 2 | K46: =F46+H46+J46 -> 0
A47: 카 시브 | B47: 480 mm | C47: 대 | D47: 1 | K47: =F47+H47+J47 -> 0
A48: 카 브라켓트 | B48: 1,2차 | C48: SET | D48: 1 | K48: =F48+H48+J48 -> 0
A49: 카운타 브라켓트 | C49: SET | D49: 1 | K49: =F49+H49+J49 -> 0
A50: 카운타 케이스 | C50: 대 | D50: 1 | K50: =F50+H50+J50 -> 0
A51: 카운타 웨이트 | C51: SET | D51: 45 | K51: =F51+H51+J51 -> 0
A52: 카운타 시브 | B52: 480 mm | C52: 대 | D52: 1 | K52: =F52+H52+J52 -> 0
A53: 카 가이드슈 | B53: 13 k | C53: EA | D53: 10 | K53: =F53+H53+J53 -> 0
A54: 카운타 가이드슈 | B54: 8 k | C54: EA | D54: 10 | K54: =F54+H54+J54 -> 0
A55: 와이어 소켓판 | C55: EA | D55: 2 | K55: =F55+H55+J55 -> 0
A56: 와이어 소켓 | B56: 12 mm | C56: EA | D56: 10 | K56: =F56+H56+J56 -> 0
A57: 가바나 텐숀시브 | C57: 대 | D57: 1 | K57: =F57+H57+J57 -> 0
A58: 메인 와이어 로프 | B58: 12MM * 4 | C58: M | D58: 250 | K58: =F58+H58+J58 -> 0
A59: 가바나 로프 | B59: 8 mm | C59: M | D59: 50 | K59: =F59+H59+J59 -> 0
A60: 승강로 S/W 브라켓트 | C60: SET | D60: 1 | K60: =F60+H60+J60 -> 0
A61: 카레일 | B61: 13 k/kg | C61: 본 | D61: 5 | K61: =F61+H61+J61 -> 0
A62: 승강로 상부박스 | C62: 대 | D62: 1 | K62: =F62+H62+J62 -> 0
A63: 카레일 쪼인트판 | C63: EA | D63: 4 | K63: =F63+H63+J63 -> 0
A64: 카운타 레일판 | C64: EA | D64: 4 | K64: =F64+H64+J64 -> 0
A65: 오일통 | C65: EA | D65: 4 | K65: =F65+H65+J65 -> 0
A66: 도어비상가이드슈 | C66: EA | D66: 4 | K66: =F66+H66+J66 -> 0
A67: 카도어가이드슈 | C67: EA | D67: 8 | K67: =F67+H67+J67 -> 0
A68: 일반전선 (VCT) | B68: 1.0 * 2C | C68: M | D68: 50 | K68: =F68+H68+J68 -> 0
B69: 1.5 * 4C | C69: M | D69: 50 | K69: =F69+H69+J69 -> 0
A70: 내선전공 | C70: 인 | D70: 5 | K70: =F70+H70+J70 -> 0
A71: 플랜트기계설치공 | B71: 카레일설치 | C71: 인 | D71: 4 | K71: =F71+H71+J71 -> 0
A72: 플랜트제관공 | B72: 카조립 및 설치 | C72: 인 | D72: 4 | K72: =F72+H72+J72 -> 0
A73: ( 합 계 ) | K73: =F73+H73+J73 -> 0
K74: =F74+H74+J74 -> 0
A75: 3. 출입구 부분 | K75: =F75+H75+J75 -> 0
A76: 외부도아판넬 | B76: STS-H·L | C76: 대 | D76: 5 | K76: =F76+H76+J76 -> 0
A77: 외부도아헷다 | C77: 대 | D77: 5 | K77: =F77+H77+J77 -> 0
A78: 도아 실 | C78: 대 | D78: 5 | K78: =F78+H78+J78 -> 0
A79: 도아 S/W 브라켓트 | C79: 대 | D79: 5 | K79: =F79+H79+J79 -> 0
A80: 외부도아 쟘 | C80: 대 | D80: 5 | K80: =F80+H80+J80 -> 0
A81: 인디게이터 | C81: 대 | D81: 5 | K81: =F81+H81+J81 -> 0
A82: 도아 실 커버 | C82: 대 | D82: 5 | K82: =F82+H82+J82 -> 0
A83: 도아 가이드슈 | C83: EA | D83: 40 | K83: =F83+H83+J83 -> 0
A84: 플랜트제관공 | B84: 도어제작 설치 | C84: 인 | D84: 4 | K84: =F84+H84+J84 -> 0
A85: 내선전공 | B85: 도어제작 설치 | C85: 인 | D85: 4 | K85: =F85+H85+J85 -> 0
A86: ( 합 계 ) | F86: =SUM(F76:F85) -> 0 | H86: =SUM(H76:H85) -> 0 | K86: =F86+H86+J86 -> 0
