Workbook

Sheet 원가
A1: 제 조 원 가 계 산 서
A2: 안양 귀인초등학교 현장
A3: 비 목 | D3: 금 액 | G3: 비 고
A4: 1. 순공사원가 (가+나+다) | D4: =+D5+D8+D11 -> 0
A5: 가. 재 료 비 | D5: =SUM(D6:D7) -> 0
A6: 가-1 직접 재료비 | D6: =견적갑지!F11 -> 0 | F6: *
A7: 가-2 간접 재료비
A8: 나. 노 무 비 | D8: =SUM(D9:D10) -> 0
A9: 나-1 직접 노무비 | D9: =견적갑지!H11 -> 0 | F9: *
A10: 나-2 간접 노무비(직접 노무비의 4.9%이내) | D10: =D9*0.049 -> 0
A11: 다. 경 비 | D11: =SUM(D12:D14) -> 0
A12: 다-1 산출경비 | D12: =견적갑지!J11 -> 0 | F12: *
A13: 다-2 산업안전보건관리비(가+나-1의 | B13: 0.0085 | C13: ) | D13: =(D5+D9)*B13 -> 0
A14: 다-3 기타 경비(가+나의 | B14: 0.037 | C14: ) | D14: =INT((D5+D8)*B14) -> 0
A15: 2. 일반 관리비 (가+나+다)의 | B15: 0.02 | C15: )이내 | D15: =INT(D4*B15) -> 0
A16: 3. 이 윤 (나+다+2)의 | B16: 0.07 | C16: )이내 | D16: =INT((D8+D11+D15)*B16) -> 0
A17: 4. 총 원 가 (1+2+3) | D17: =INT((+D4+D15+D16)) -> 0
A18: 5. 부가가치세 (4의 | B18: 0.1 | C18: ) | D18: =SUM(D17)*B18 -> 0
A19: 6. 총 계 | D19: =ROUNDDOWN((D17+D18),-3) -> 0 | G19: * 천단위 절사

Sheet 견적갑지
A1: 안양 귀인초등학교 현장
A2: 공 종 명 | C2: 단위 | D2: 수량 | E2: 재 료 비 | G2: 노 무 비 | I2: 경 비 | K2: 계 | L2: 비 고
E3: 단 가 | F3: 금 액 | G3: 단 가 | H3: 금 액 | I3: 단 가 | J3: 금 액
A4: 화물용 승강기 750kg 5/5층
A5: 1. 기계실 부분 | C5: 식 | D5: 1 | F5: ='내역서(화물)'!F21 -> 0 | H5: ='내역서(화물)'!H21 -> 0 | J5: ='내역서(화물)'!J21 -> 0 | K5: =F5+H5+J5 -> 0
A6: 2. 승강로 부분 | C6: 식 | D6: 1 | F6: ='내역서(화물)'!F73 -> 0 | H6: ='내역서(화물)'!H73 -> 0 | K6: =F6+H6+J6 -> 0
A7: 3. 출입구 부분 | C7: 식 | D7: 1 | F7: ='내역서(화물)'!F86 -> 0 | H7: ='내역서(화물)'!H86 -> 0 | K7: =F7+H7+J7 -> 0
A11: 총 계 | F11: =SUM(F5:F10) -> 0 | H11: =SUM(H5:H10) -> 0 | J11: =SUM(J5:J10) -> 0 | K11: =SUM(K5:K10) -> 0

Sheet 내역서(화물)
A1: 안양 귀인초등학교 현장(화물용 750kg-5/5층-30m/min) | L1: [단위 : 원]
A2: 품 명 | B2: 규 격 | C2: 단위 | D2: 수 량 | E2: 재 료 비 | G2: 노 무 비 | I2: 경 비 | K2: 계 | L2: 비 고
E3: 단 가 | F3: 금 액 | G3: 단 가 | H3: 금 액 | I3: 단 가 | J3: 금 액
A4: 1. 기계실 부분
A5: 메인모타 | B5: 5.5 KW | C5: 대 | D5: 1 | K5: =F5+H5+J5 -> 0
A6: 방진고무 | B6: 750 KG | C6: EA | D6: 10 | K6: =F6+H6+J6 -> 0
A7: 머신 받침대 | B7: 750 KG | C7: 대 | D7: 1 | K7: =F7+H7+J7 -> 0
A8: 머신빔 | B8: I-BEAM | C8: SET | D8: 1 | K8: =F8+H8+J8 -> 0
A9: 세컨시브 | B9: 480mm | C9: SET | D9: 1 | K9: =F9+H9+J9 -> 0
A10: 가바나 머신 | B10: 30M/MIN | C10: 대 | D10: 1 | K10: =F10+H10+J10 -> 0
A11: 제어반 | C11: 대 | D11: 1 | K11: =F11+H11+J11 -> 0
A12: 아크릴형광등 | B12: 220/ 10W | C12: EA | D12: 1 | K12: =F12+H12+J12 -> 0
A13: 콘센트 | B13: 220V | C13: EA | D13: 1 | K13: =F13+H13+J13 -> 0
A14: 크레인사용료 | B14: 25 TON | C14: 식 | D14: 1 | K14: =F14+H14+J14 -> 0
A15: 운반비 | B15: 5 TON | C15: 식 | D15: 2 | K15: =F15+H15+J15 -> 0
A16: 완성검사비 | B16: 2 TON | C16: 식 | D16: 1 | K16: =F16+H16+J16 -> 0
A17: 철공 | B17: 권상기 설치 | C17: 인 | D17: 4 | K17: =F17+H17+J17 -> 0
A18: 용접공 | B18: 권상기 설치 | C18: 인 | D18: 4 | K18: =F18+H18+J18 -> 0
A19: 플랜트제관공 | C19: 인 | D19: 3 | K19: =F19+H19+J19 -> 0
A20: 계장공 | C20: 인 | D20: 3 | K20: =F20+H20+J20 -> 0
A21: ( 합 계 ) | K21: =F21+H21+J21 -> 0
K22: =F22+H22+J22 -> 0
A23: 2. 승강로 부분 | K23: =F23+H23+J23 -> 0
A24: 카 판넬 | B24: STS-H·L | C24: 대 | D24: 1 | K24: =F24+H24+J24 -> 0
A25: 카 도아판넬 | B25: STS-H·L | C25: 대 | D25: 2 | K25: =F25+H25+J25 -> 0
A26: 카 도아헷다 | B26: 머신 포함 | C26: 대 | D26: 2 | K26: =F26+H26+J26 -> 0
A27: 카 도아 실 | C27: 대 | D27: 2 | K27: =F27+H27+J27 -> 0
A28: 카운타 레일 | B28: 8 k/kg | C28: 본 | D28: 5 | K28: =F28+H28+J28 -> 0
A29: 버퍼 다이 | C29: SET | D29: 2 | K29: =F29+H29+J29 -> 0
A30: 버퍼 스프링 | B30: 1TON/30MIN | C30: 대 | D30: 2 | K30: =F30+H30+J30 -> 0
A31: 승강로 닥트 | C31: M | D31: 20 | K31: =F31+H31+J31 -> 0
A32: 세프티 디바이스 | B32: D 8 MM * 1 | C32: SET | D32: 1 | K32: =F32+H32+J32 -> 0
A33: 승강로 전선 | B33: 0.75 * 25C | C33: M | D33: 45 | K33: =F33+H33+J33 -> 0
B34: 0.75 * 20C | C34: M | D34: 45 | K34: =F34+H34+J34 -> 0
B35: 0.75 * 15C | C35: M | D35: 45 | K35: =F35+H35+J35 -> 0
B36: 1.0 * 25C | C36: M | D36: 45 | K36: =F36+H36+J36 -> 0
A37: 승강로 스위치 | B37: LIMIT S/W | C37: EA | D37: 23 | K37: =F37+H37+J37 -> 0
A38: 인닥터 스위치 | C38: EA | D38: 5 | K38: =F38+H38+J38 -> 0
A39: 마이크로 스위치 | C39: EA | D39: 5 | K39: =F39+H39+J39 -> 0
A40: 카 천정 | C40: 대 | D40: 1 | K40: =F40+H40+J40 -> 0
...
